BEGIN:VCALENDAR
VERSION:2.0
PRODID:-//Clayton Bocce League
METHOD:PUBLISH
BEGIN:VTIMEZONE
TZID:America/Los_Angeles
X-LIC-LOCATION:America/Los_Angeles
BEGIN:DAYLIGHT
TZOFFSETFROM:-0800
TZOFFSETTO:-0700
TZNAME:PDT
DTSTART:20070311T020000
RRULE:FREQ=YEARLY;BYMONTH=3;BYDAY=2SU
END:DAYLIGHT
BEGIN:STANDARD
TZOFFSETFROM:-0700
TZOFFSETTO:-0800
TZNAME:PST
DTSTART:20071104T020000
RRULE:FREQ=YEARLY;BYMONTH=11;BYDAY=1SU
END:STANDARD
END:VTIMEZONE
BEGIN:VEVENT
DTSTAMP:20260423T000000Z
UID:22aa84b7-9f89-41f9-9585-13cfc482190b@ClaytonBocce
DTSTART;TZID=America/Los_Angeles:20260430T093000
DTEND;TZID=America/Los_Angeles:20260430T120000
STATUS:CONFIRMED
SUMMARY:WHAT'S THE POINT? vs LA BELLA VITA
URL:/League/Schedule/3154
DESCRIPTION:Regular Season match: WHAT'S THE POINT? vs LA BE
 LLA VITA
LOCATION:Martinez Court 5
END:VEVENT
BEGIN:VEVENT
DTSTAMP:20260423T000000Z
UID:661802a8-d409-436d-a544-9f762984e12a@ClaytonBocce
DTSTART;TZID=America/Los_Angeles:20260507T093000
DTEND;TZID=America/Los_Angeles:20260507T120000
STATUS:CONFIRMED
SUMMARY:WHAT'S THE POINT? vs OUR GANG
URL:/League/Schedule/3154
DESCRIPTION:Regular Season match: WHAT'S THE POINT? vs OUR G
 ANG
LOCATION:Martinez Court 10
END:VEVENT
BEGIN:VEVENT
DTSTAMP:20260423T000000Z
UID:2b63ab21-0e37-49d9-97b7-ee23d622a46d@ClaytonBocce
DTSTART;TZID=America/Los_Angeles:20260514T093000
DTEND;TZID=America/Los_Angeles:20260514T120000
STATUS:CONFIRMED
SUMMARY:WHAT'S THE POINT? vs SUGAR CUBES
URL:/League/Schedule/3154
DESCRIPTION:Regular Season match: WHAT'S THE POINT? vs SUGAR
  CUBES
LOCATION:Martinez Court 13
END:VEVENT
BEGIN:VEVENT
DTSTAMP:20260423T000000Z
UID:73bb23ce-6055-4ccb-80fd-f828d505827c@ClaytonBocce
DTSTART;TZID=America/Los_Angeles:20260521T093000
DTEND;TZID=America/Los_Angeles:20260521T120000
STATUS:CONFIRMED
SUMMARY:WHAT'S THE POINT? vs BOCCE BUDDIES
URL:/League/Schedule/3154
DESCRIPTION:Regular Season match: WHAT'S THE POINT? vs BOCCE
  BUDDIES
LOCATION:Martinez Court 2
END:VEVENT
BEGIN:VEVENT
DTSTAMP:20260423T000000Z
UID:b600478f-edb7-4468-92d5-0d97dc02d2e6@ClaytonBocce
DTSTART;TZID=America/Los_Angeles:20260528T093000
DTEND;TZID=America/Los_Angeles:20260528T120000
STATUS:CONFIRMED
SUMMARY:WHAT'S THE POINT? vs JUST FRIENDS
URL:/League/Schedule/3154
DESCRIPTION:Regular Season match: WHAT'S THE POINT? vs JUST 
 FRIENDS
LOCATION:Martinez Court 1
END:VEVENT
BEGIN:VEVENT
DTSTAMP:20260423T000000Z
UID:5185c884-7f57-4890-b476-e3e984deb675@ClaytonBocce
DTSTART;TZID=America/Los_Angeles:20260604T093000
DTEND;TZID=America/Los_Angeles:20260604T120000
STATUS:CONFIRMED
SUMMARY:WHAT'S THE POINT? vs FUHGETABOCCE
URL:/League/Schedule/3154
DESCRIPTION:Regular Season match: WHAT'S THE POINT? vs FUHGE
 TABOCCE
LOCATION:Martinez Court 8
END:VEVENT
BEGIN:VEVENT
DTSTAMP:20260423T000000Z
UID:27acf6c0-056f-44fc-a835-0a63d0a4f3ab@ClaytonBocce
DTSTART;TZID=America/Los_Angeles:20260618T093000
DTEND;TZID=America/Los_Angeles:20260618T120000
STATUS:CONFIRMED
SUMMARY:WHAT'S THE POINT? vs LA BELLA VITA
URL:/League/Schedule/3154
DESCRIPTION:Regular Season match: WHAT'S THE POINT? vs LA BE
 LLA VITA
LOCATION:Martinez Court 9
END:VEVENT
BEGIN:VEVENT
DTSTAMP:20260423T000000Z
UID:fe69a169-6652-4be1-ae6e-67f3f1757e84@ClaytonBocce
DTSTART;TZID=America/Los_Angeles:20260625T093000
DTEND;TZID=America/Los_Angeles:20260625T120000
STATUS:CONFIRMED
SUMMARY:WHAT'S THE POINT? vs OUR GANG
URL:/League/Schedule/3154
DESCRIPTION:Regular Season match: WHAT'S THE POINT? vs OUR G
 ANG
LOCATION:Martinez Court 3
END:VEVENT
BEGIN:VEVENT
DTSTAMP:20260423T000000Z
UID:0d02ab9d-414e-4f9e-8fcf-d8af7703eddc@ClaytonBocce
DTSTART;TZID=America/Los_Angeles:20260709T093000
DTEND;TZID=America/Los_Angeles:20260709T120000
STATUS:CONFIRMED
SUMMARY:WHAT'S THE POINT? vs SUGAR CUBES
URL:/League/Schedule/3154
DESCRIPTION:Regular Season match: WHAT'S THE POINT? vs SUGAR
  CUBES
LOCATION:Martinez Court 6
END:VEVENT
BEGIN:VEVENT
DTSTAMP:20260423T000000Z
UID:2fc3c19f-1f8d-44b9-b2ba-d5d80b4dc9df@ClaytonBocce
DTSTART;TZID=America/Los_Angeles:20260716T093000
DTEND;TZID=America/Los_Angeles:20260716T120000
STATUS:CONFIRMED
SUMMARY:WHAT'S THE POINT? vs BOCCE BUDDIES
URL:/League/Schedule/3154
DESCRIPTION:Regular Season match: WHAT'S THE POINT? vs BOCCE
  BUDDIES
LOCATION:Martinez Court 7
END:VEVENT
BEGIN:VEVENT
DTSTAMP:20260423T000000Z
UID:0ad7d30a-330a-4b82-a46a-7b26a356b78c@ClaytonBocce
DTSTART;TZID=America/Los_Angeles:20260723T093000
DTEND;TZID=America/Los_Angeles:20260723T120000
STATUS:CONFIRMED
SUMMARY:WHAT'S THE POINT? vs JUST FRIENDS
URL:/League/Schedule/3154
DESCRIPTION:Regular Season match: WHAT'S THE POINT? vs JUST 
 FRIENDS
LOCATION:Martinez Court 4
END:VEVENT
BEGIN:VEVENT
DTSTAMP:20260423T000000Z
UID:e74e768a-d679-4164-918c-d868c89605e1@ClaytonBocce
DTSTART;TZID=America/Los_Angeles:20260730T093000
DTEND;TZID=America/Los_Angeles:20260730T120000
STATUS:CONFIRMED
SUMMARY:WHAT'S THE POINT? vs FUHGETABOCCE
URL:/League/Schedule/3154
DESCRIPTION:Regular Season match: WHAT'S THE POINT? vs FUHGE
 TABOCCE
LOCATION:Martinez Court 11
END:VEVENT
BEGIN:VEVENT
DTSTAMP:20260423T000000Z
UID:daa400fb-ee78-4f39-bb90-6b2ff457fe5b@ClaytonBocce
DTSTART;TZID=America/Los_Angeles:20260813T093000
DTEND;TZID=America/Los_Angeles:20260813T120000
STATUS:CONFIRMED
SUMMARY:WHAT'S THE POINT? vs LA BELLA VITA
URL:/League/Schedule/3154
DESCRIPTION:Regular Season match: WHAT'S THE POINT? vs LA BE
 LLA VITA
LOCATION:Martinez Court 14
END:VEVENT
BEGIN:VEVENT
DTSTAMP:20260423T000000Z
UID:b046b659-33ce-4a2b-a536-bf512330bafe@ClaytonBocce
DTSTART;TZID=America/Los_Angeles:20260820T093000
DTEND;TZID=America/Los_Angeles:20260820T120000
STATUS:CONFIRMED
SUMMARY:WHAT'S THE POINT? vs OUR GANG
URL:/League/Schedule/3154
DESCRIPTION:Regular Season match: WHAT'S THE POINT? vs OUR G
 ANG
LOCATION:Martinez Court 8
END:VEVENT
BEGIN:VEVENT
DTSTAMP:20260423T000000Z
UID:4f957e01-b18d-425a-8189-eb516520b4ab@ClaytonBocce
DTSTART;TZID=America/Los_Angeles:20260827T093000
DTEND;TZID=America/Los_Angeles:20260827T120000
STATUS:CONFIRMED
SUMMARY:WHAT'S THE POINT? vs SUGAR CUBES
URL:/League/Schedule/3154
DESCRIPTION:Regular Season match: WHAT'S THE POINT? vs SUGAR
  CUBES
LOCATION:Martinez Court 4
END:VEVENT
BEGIN:VEVENT
DTSTAMP:20260423T000000Z
UID:7db0f614-78e6-41d4-a33a-68d2c8c0c39b@ClaytonBocce
DTSTART;TZID=America/Los_Angeles:20260903T093000
DTEND;TZID=America/Los_Angeles:20260903T120000
STATUS:CONFIRMED
SUMMARY:WHAT'S THE POINT? vs BOCCE BUDDIES
URL:/League/Schedule/3154
DESCRIPTION:Regular Season match: WHAT'S THE POINT? vs BOCCE
  BUDDIES
LOCATION:Martinez Court 15
END:VEVENT
BEGIN:VEVENT
DTSTAMP:20260423T000000Z
UID:3d21a437-aba4-4230-9d8d-f3f3ea3ea734@ClaytonBocce
DTSTART;TZID=America/Los_Angeles:20260910T093000
DTEND;TZID=America/Los_Angeles:20260910T120000
STATUS:CONFIRMED
SUMMARY:WHAT'S THE POINT? vs JUST FRIENDS
URL:/League/Schedule/3154
DESCRIPTION:Regular Season match: WHAT'S THE POINT? vs JUST 
 FRIENDS
LOCATION:Martinez Court 12
END:VEVENT
BEGIN:VEVENT
DTSTAMP:20260423T000000Z
UID:8c97b581-b976-4314-b79a-2e4f448ef26e@ClaytonBocce
DTSTART;TZID=America/Los_Angeles:20260917T093000
DTEND;TZID=America/Los_Angeles:20260917T120000
STATUS:CONFIRMED
SUMMARY:WHAT'S THE POINT? vs FUHGETABOCCE
URL:/League/Schedule/3154
DESCRIPTION:Regular Season match: WHAT'S THE POINT? vs FUHGE
 TABOCCE
LOCATION:Martinez Court 2
END:VEVENT
END:VCALENDAR
