BEGIN:VCALENDAR
VERSION:2.0
PRODID:-//Clayton Bocce League
METHOD:PUBLISH
BEGIN:VTIMEZONE
TZID:America/Los_Angeles
X-LIC-LOCATION:America/Los_Angeles
BEGIN:DAYLIGHT
TZOFFSETFROM:-0800
TZOFFSETTO:-0700
TZNAME:PDT
DTSTART:20070311T020000
RRULE:FREQ=YEARLY;BYMONTH=3;BYDAY=2SU
END:DAYLIGHT
BEGIN:STANDARD
TZOFFSETFROM:-0700
TZOFFSETTO:-0800
TZNAME:PST
DTSTART:20071104T020000
RRULE:FREQ=YEARLY;BYMONTH=11;BYDAY=1SU
END:STANDARD
END:VTIMEZONE
BEGIN:VEVENT
DTSTAMP:20260423T000000Z
UID:3a414c2c-6e55-4cd6-8e9c-208ff546f43c@ClaytonBocce
DTSTART;TZID=America/Los_Angeles:20260423T093000
DTEND;TZID=America/Los_Angeles:20260423T120000
STATUS:CONFIRMED
SUMMARY:LA BELLA VITA vs OUR GANG
URL:/League/Schedule/3151
DESCRIPTION:Regular Season match: LA BELLA VITA vs OUR GANG
LOCATION:Martinez Court 15
END:VEVENT
BEGIN:VEVENT
DTSTAMP:20260423T000000Z
UID:22aa84b7-9f89-41f9-9585-13cfc482190b@ClaytonBocce
DTSTART;TZID=America/Los_Angeles:20260430T093000
DTEND;TZID=America/Los_Angeles:20260430T120000
STATUS:CONFIRMED
SUMMARY:LA BELLA VITA vs WHAT'S THE POINT?
URL:/League/Schedule/3151
DESCRIPTION:Regular Season match: LA BELLA VITA vs WHAT'S TH
 E POINT?
LOCATION:Martinez Court 5
END:VEVENT
BEGIN:VEVENT
DTSTAMP:20260423T000000Z
UID:7dbf92b2-9635-4060-b769-9ba419c41d65@ClaytonBocce
DTSTART;TZID=America/Los_Angeles:20260507T093000
DTEND;TZID=America/Los_Angeles:20260507T120000
STATUS:CONFIRMED
SUMMARY:LA BELLA VITA vs JUST FRIENDS
URL:/League/Schedule/3151
DESCRIPTION:Regular Season match: LA BELLA VITA vs JUST FRIE
 NDS
LOCATION:Martinez Court 8
END:VEVENT
BEGIN:VEVENT
DTSTAMP:20260423T000000Z
UID:0e226c65-6c65-46ca-99e1-e922325eb412@ClaytonBocce
DTSTART;TZID=America/Los_Angeles:20260521T093000
DTEND;TZID=America/Los_Angeles:20260521T120000
STATUS:CONFIRMED
SUMMARY:LA BELLA VITA vs FUHGETABOCCE
URL:/League/Schedule/3151
DESCRIPTION:Regular Season match: LA BELLA VITA vs FUHGETABO
 CCE
LOCATION:Martinez Court 1
END:VEVENT
BEGIN:VEVENT
DTSTAMP:20260423T000000Z
UID:97e8456e-d602-46ae-9e84-554dcbe1ddd0@ClaytonBocce
DTSTART;TZID=America/Los_Angeles:20260528T093000
DTEND;TZID=America/Los_Angeles:20260528T120000
STATUS:CONFIRMED
SUMMARY:LA BELLA VITA vs BOCCE BUDDIES
URL:/League/Schedule/3151
DESCRIPTION:Regular Season match: LA BELLA VITA vs BOCCE BUD
 DIES
LOCATION:Martinez Court 3
END:VEVENT
BEGIN:VEVENT
DTSTAMP:20260423T000000Z
UID:29c19465-cd6f-4b87-a8c7-a9157dc4439d@ClaytonBocce
DTSTART;TZID=America/Los_Angeles:20260604T093000
DTEND;TZID=America/Los_Angeles:20260604T120000
STATUS:CONFIRMED
SUMMARY:LA BELLA VITA vs SUGAR CUBES
URL:/League/Schedule/3151
DESCRIPTION:Regular Season match: LA BELLA VITA vs SUGAR CUB
 ES
LOCATION:Martinez Court 7
END:VEVENT
BEGIN:VEVENT
DTSTAMP:20260423T000000Z
UID:724e4ba7-08f5-4c4d-b218-fedda59c631c@ClaytonBocce
DTSTART;TZID=America/Los_Angeles:20260611T093000
DTEND;TZID=America/Los_Angeles:20260611T120000
STATUS:CONFIRMED
SUMMARY:LA BELLA VITA vs OUR GANG
URL:/League/Schedule/3151
DESCRIPTION:Regular Season match: LA BELLA VITA vs OUR GANG
LOCATION:Martinez Court 13
END:VEVENT
BEGIN:VEVENT
DTSTAMP:20260423T000000Z
UID:27acf6c0-056f-44fc-a835-0a63d0a4f3ab@ClaytonBocce
DTSTART;TZID=America/Los_Angeles:20260618T093000
DTEND;TZID=America/Los_Angeles:20260618T120000
STATUS:CONFIRMED
SUMMARY:LA BELLA VITA vs WHAT'S THE POINT?
URL:/League/Schedule/3151
DESCRIPTION:Regular Season match: LA BELLA VITA vs WHAT'S TH
 E POINT?
LOCATION:Martinez Court 9
END:VEVENT
BEGIN:VEVENT
DTSTAMP:20260423T000000Z
UID:32605185-bddd-4d5c-b4d4-fec0f45f176b@ClaytonBocce
DTSTART;TZID=America/Los_Angeles:20260625T093000
DTEND;TZID=America/Los_Angeles:20260625T120000
STATUS:CONFIRMED
SUMMARY:LA BELLA VITA vs JUST FRIENDS
URL:/League/Schedule/3151
DESCRIPTION:Regular Season match: LA BELLA VITA vs JUST FRIE
 NDS
LOCATION:Martinez Court 12
END:VEVENT
BEGIN:VEVENT
DTSTAMP:20260423T000000Z
UID:3ccd3b69-d905-4832-9a02-69de204f7db6@ClaytonBocce
DTSTART;TZID=America/Los_Angeles:20260716T093000
DTEND;TZID=America/Los_Angeles:20260716T120000
STATUS:CONFIRMED
SUMMARY:LA BELLA VITA vs FUHGETABOCCE
URL:/League/Schedule/3151
DESCRIPTION:Regular Season match: LA BELLA VITA vs FUHGETABO
 CCE
LOCATION:Martinez Court 6
END:VEVENT
BEGIN:VEVENT
DTSTAMP:20260423T000000Z
UID:fc52364d-9c68-4d97-aace-0d73776c035a@ClaytonBocce
DTSTART;TZID=America/Los_Angeles:20260723T093000
DTEND;TZID=America/Los_Angeles:20260723T120000
STATUS:CONFIRMED
SUMMARY:LA BELLA VITA vs BOCCE BUDDIES
URL:/League/Schedule/3151
DESCRIPTION:Regular Season match: LA BELLA VITA vs BOCCE BUD
 DIES
LOCATION:Martinez Court 5
END:VEVENT
BEGIN:VEVENT
DTSTAMP:20260423T000000Z
UID:a7ca724c-a2e1-4dca-bc80-eb563d0dd068@ClaytonBocce
DTSTART;TZID=America/Los_Angeles:20260730T093000
DTEND;TZID=America/Los_Angeles:20260730T120000
STATUS:CONFIRMED
SUMMARY:LA BELLA VITA vs SUGAR CUBES
URL:/League/Schedule/3151
DESCRIPTION:Regular Season match: LA BELLA VITA vs SUGAR CUB
 ES
LOCATION:Martinez Court 10
END:VEVENT
BEGIN:VEVENT
DTSTAMP:20260423T000000Z
UID:f63f9b4d-0276-42f4-b657-3a4763b2f023@ClaytonBocce
DTSTART;TZID=America/Los_Angeles:20260806T093000
DTEND;TZID=America/Los_Angeles:20260806T120000
STATUS:CONFIRMED
SUMMARY:LA BELLA VITA vs OUR GANG
URL:/League/Schedule/3151
DESCRIPTION:Regular Season match: LA BELLA VITA vs OUR GANG
LOCATION:Martinez Court 4
END:VEVENT
BEGIN:VEVENT
DTSTAMP:20260423T000000Z
UID:daa400fb-ee78-4f39-bb90-6b2ff457fe5b@ClaytonBocce
DTSTART;TZID=America/Los_Angeles:20260813T093000
DTEND;TZID=America/Los_Angeles:20260813T120000
STATUS:CONFIRMED
SUMMARY:LA BELLA VITA vs WHAT'S THE POINT?
URL:/League/Schedule/3151
DESCRIPTION:Regular Season match: LA BELLA VITA vs WHAT'S TH
 E POINT?
LOCATION:Martinez Court 14
END:VEVENT
BEGIN:VEVENT
DTSTAMP:20260423T000000Z
UID:cf2e8028-d827-4426-8c0b-cbcc3bd4be6d@ClaytonBocce
DTSTART;TZID=America/Los_Angeles:20260820T093000
DTEND;TZID=America/Los_Angeles:20260820T120000
STATUS:CONFIRMED
SUMMARY:LA BELLA VITA vs JUST FRIENDS
URL:/League/Schedule/3151
DESCRIPTION:Regular Season match: LA BELLA VITA vs JUST FRIE
 NDS
LOCATION:Martinez Court 11
END:VEVENT
BEGIN:VEVENT
DTSTAMP:20260423T000000Z
UID:6e6d489e-6d25-4f1f-9adb-0da0830c8070@ClaytonBocce
DTSTART;TZID=America/Los_Angeles:20260903T093000
DTEND;TZID=America/Los_Angeles:20260903T120000
STATUS:CONFIRMED
SUMMARY:LA BELLA VITA vs FUHGETABOCCE
URL:/League/Schedule/3151
DESCRIPTION:Regular Season match: LA BELLA VITA vs FUHGETABO
 CCE
LOCATION:Martinez Court 13
END:VEVENT
BEGIN:VEVENT
DTSTAMP:20260423T000000Z
UID:13a78b7a-b9e4-47f5-b049-c0b05269e4d9@ClaytonBocce
DTSTART;TZID=America/Los_Angeles:20260910T093000
DTEND;TZID=America/Los_Angeles:20260910T120000
STATUS:CONFIRMED
SUMMARY:LA BELLA VITA vs BOCCE BUDDIES
URL:/League/Schedule/3151
DESCRIPTION:Regular Season match: LA BELLA VITA vs BOCCE BUD
 DIES
LOCATION:Martinez Court 3
END:VEVENT
BEGIN:VEVENT
DTSTAMP:20260423T000000Z
UID:2ad319a8-3f91-476d-a701-32b8d4d99da5@ClaytonBocce
DTSTART;TZID=America/Los_Angeles:20260917T093000
DTEND;TZID=America/Los_Angeles:20260917T120000
STATUS:CONFIRMED
SUMMARY:LA BELLA VITA vs SUGAR CUBES
URL:/League/Schedule/3151
DESCRIPTION:Regular Season match: LA BELLA VITA vs SUGAR CUB
 ES
LOCATION:Martinez Court 12
END:VEVENT
END:VCALENDAR
