BEGIN:VCALENDAR
VERSION:2.0
PRODID:-//Clayton Bocce League
METHOD:PUBLISH
BEGIN:VTIMEZONE
TZID:America/Los_Angeles
X-LIC-LOCATION:America/Los_Angeles
BEGIN:DAYLIGHT
TZOFFSETFROM:-0800
TZOFFSETTO:-0700
TZNAME:PDT
DTSTART:20070311T020000
RRULE:FREQ=YEARLY;BYMONTH=3;BYDAY=2SU
END:DAYLIGHT
BEGIN:STANDARD
TZOFFSETFROM:-0700
TZOFFSETTO:-0800
TZNAME:PST
DTSTART:20071104T020000
RRULE:FREQ=YEARLY;BYMONTH=11;BYDAY=1SU
END:STANDARD
END:VTIMEZONE
BEGIN:VEVENT
DTSTAMP:20260423T000000Z
UID:3a414c2c-6e55-4cd6-8e9c-208ff546f43c@ClaytonBocce
DTSTART;TZID=America/Los_Angeles:20260423T093000
DTEND;TZID=America/Los_Angeles:20260423T120000
STATUS:CONFIRMED
SUMMARY:OUR GANG vs LA BELLA VITA
URL:/League/Schedule/3150
DESCRIPTION:Regular Season match: OUR GANG vs LA BELLA VITA
LOCATION:Martinez Court 15
END:VEVENT
BEGIN:VEVENT
DTSTAMP:20260423T000000Z
UID:8d703b9f-c20e-4645-8d2a-96da406d77a8@ClaytonBocce
DTSTART;TZID=America/Los_Angeles:20260430T093000
DTEND;TZID=America/Los_Angeles:20260430T120000
STATUS:CONFIRMED
SUMMARY:OUR GANG vs SUGAR CUBES
URL:/League/Schedule/3150
DESCRIPTION:Regular Season match: OUR GANG vs SUGAR CUBES
LOCATION:Martinez Court 4
END:VEVENT
BEGIN:VEVENT
DTSTAMP:20260423T000000Z
UID:661802a8-d409-436d-a544-9f762984e12a@ClaytonBocce
DTSTART;TZID=America/Los_Angeles:20260507T093000
DTEND;TZID=America/Los_Angeles:20260507T120000
STATUS:CONFIRMED
SUMMARY:OUR GANG vs WHAT'S THE POINT?
URL:/League/Schedule/3150
DESCRIPTION:Regular Season match: OUR GANG vs WHAT'S THE POI
 NT?
LOCATION:Martinez Court 10
END:VEVENT
BEGIN:VEVENT
DTSTAMP:20260423T000000Z
UID:c14ee10d-c600-4133-acca-857b788db026@ClaytonBocce
DTSTART;TZID=America/Los_Angeles:20260514T093000
DTEND;TZID=America/Los_Angeles:20260514T120000
STATUS:CONFIRMED
SUMMARY:OUR GANG vs JUST FRIENDS
URL:/League/Schedule/3150
DESCRIPTION:Regular Season match: OUR GANG vs JUST FRIENDS
LOCATION:Martinez Court 7
END:VEVENT
BEGIN:VEVENT
DTSTAMP:20260423T000000Z
UID:723e2439-3686-431b-aed9-cd79efff794e@ClaytonBocce
DTSTART;TZID=America/Los_Angeles:20260528T093000
DTEND;TZID=America/Los_Angeles:20260528T120000
STATUS:CONFIRMED
SUMMARY:OUR GANG vs FUHGETABOCCE
URL:/League/Schedule/3150
DESCRIPTION:Regular Season match: OUR GANG vs FUHGETABOCCE
LOCATION:Martinez Court 2
END:VEVENT
BEGIN:VEVENT
DTSTAMP:20260423T000000Z
UID:86004f33-28cb-453a-91f7-5f396190e7e3@ClaytonBocce
DTSTART;TZID=America/Los_Angeles:20260604T093000
DTEND;TZID=America/Los_Angeles:20260604T120000
STATUS:CONFIRMED
SUMMARY:OUR GANG vs BOCCE BUDDIES
URL:/League/Schedule/3150
DESCRIPTION:Regular Season match: OUR GANG vs BOCCE BUDDIES
LOCATION:Martinez Court 6
END:VEVENT
BEGIN:VEVENT
DTSTAMP:20260423T000000Z
UID:724e4ba7-08f5-4c4d-b218-fedda59c631c@ClaytonBocce
DTSTART;TZID=America/Los_Angeles:20260611T093000
DTEND;TZID=America/Los_Angeles:20260611T120000
STATUS:CONFIRMED
SUMMARY:OUR GANG vs LA BELLA VITA
URL:/League/Schedule/3150
DESCRIPTION:Regular Season match: OUR GANG vs LA BELLA VITA
LOCATION:Martinez Court 13
END:VEVENT
BEGIN:VEVENT
DTSTAMP:20260423T000000Z
UID:b1ecd9c1-267c-4ea4-8d19-decceeb810b8@ClaytonBocce
DTSTART;TZID=America/Los_Angeles:20260618T093000
DTEND;TZID=America/Los_Angeles:20260618T120000
STATUS:CONFIRMED
SUMMARY:OUR GANG vs SUGAR CUBES
URL:/League/Schedule/3150
DESCRIPTION:Regular Season match: OUR GANG vs SUGAR CUBES
LOCATION:Martinez Court 8
END:VEVENT
BEGIN:VEVENT
DTSTAMP:20260423T000000Z
UID:fe69a169-6652-4be1-ae6e-67f3f1757e84@ClaytonBocce
DTSTART;TZID=America/Los_Angeles:20260625T093000
DTEND;TZID=America/Los_Angeles:20260625T120000
STATUS:CONFIRMED
SUMMARY:OUR GANG vs WHAT'S THE POINT?
URL:/League/Schedule/3150
DESCRIPTION:Regular Season match: OUR GANG vs WHAT'S THE POI
 NT?
LOCATION:Martinez Court 3
END:VEVENT
BEGIN:VEVENT
DTSTAMP:20260423T000000Z
UID:86e09322-6682-47da-b3be-eb783a37d44e@ClaytonBocce
DTSTART;TZID=America/Los_Angeles:20260709T093000
DTEND;TZID=America/Los_Angeles:20260709T120000
STATUS:CONFIRMED
SUMMARY:OUR GANG vs JUST FRIENDS
URL:/League/Schedule/3150
DESCRIPTION:Regular Season match: OUR GANG vs JUST FRIENDS
LOCATION:Martinez Court 5
END:VEVENT
BEGIN:VEVENT
DTSTAMP:20260423T000000Z
UID:fd5b36eb-a1e1-4b89-8984-8be1f94ebefa@ClaytonBocce
DTSTART;TZID=America/Los_Angeles:20260723T093000
DTEND;TZID=America/Los_Angeles:20260723T120000
STATUS:CONFIRMED
SUMMARY:OUR GANG vs FUHGETABOCCE
URL:/League/Schedule/3150
DESCRIPTION:Regular Season match: OUR GANG vs FUHGETABOCCE
LOCATION:Martinez Court 9
END:VEVENT
BEGIN:VEVENT
DTSTAMP:20260423T000000Z
UID:8f1e4d07-2073-4e0e-bd0b-4c4866fa9ffd@ClaytonBocce
DTSTART;TZID=America/Los_Angeles:20260730T093000
DTEND;TZID=America/Los_Angeles:20260730T120000
STATUS:CONFIRMED
SUMMARY:OUR GANG vs BOCCE BUDDIES
URL:/League/Schedule/3150
DESCRIPTION:Regular Season match: OUR GANG vs BOCCE BUDDIES
LOCATION:Martinez Court 12
END:VEVENT
BEGIN:VEVENT
DTSTAMP:20260423T000000Z
UID:f63f9b4d-0276-42f4-b657-3a4763b2f023@ClaytonBocce
DTSTART;TZID=America/Los_Angeles:20260806T093000
DTEND;TZID=America/Los_Angeles:20260806T120000
STATUS:CONFIRMED
SUMMARY:OUR GANG vs LA BELLA VITA
URL:/League/Schedule/3150
DESCRIPTION:Regular Season match: OUR GANG vs LA BELLA VITA
LOCATION:Martinez Court 4
END:VEVENT
BEGIN:VEVENT
DTSTAMP:20260423T000000Z
UID:8aef3525-8f5b-428b-896c-470947af6675@ClaytonBocce
DTSTART;TZID=America/Los_Angeles:20260813T093000
DTEND;TZID=America/Los_Angeles:20260813T120000
STATUS:CONFIRMED
SUMMARY:OUR GANG vs SUGAR CUBES
URL:/League/Schedule/3150
DESCRIPTION:Regular Season match: OUR GANG vs SUGAR CUBES
LOCATION:Martinez Court 11
END:VEVENT
BEGIN:VEVENT
DTSTAMP:20260423T000000Z
UID:b046b659-33ce-4a2b-a536-bf512330bafe@ClaytonBocce
DTSTART;TZID=America/Los_Angeles:20260820T093000
DTEND;TZID=America/Los_Angeles:20260820T120000
STATUS:CONFIRMED
SUMMARY:OUR GANG vs WHAT'S THE POINT?
URL:/League/Schedule/3150
DESCRIPTION:Regular Season match: OUR GANG vs WHAT'S THE POI
 NT?
LOCATION:Martinez Court 8
END:VEVENT
BEGIN:VEVENT
DTSTAMP:20260423T000000Z
UID:fa6db0f4-6e2a-48b6-9ed5-2d5af1fc9fb7@ClaytonBocce
DTSTART;TZID=America/Los_Angeles:20260827T093000
DTEND;TZID=America/Los_Angeles:20260827T120000
STATUS:CONFIRMED
SUMMARY:OUR GANG vs JUST FRIENDS
URL:/League/Schedule/3150
DESCRIPTION:Regular Season match: OUR GANG vs JUST FRIENDS
LOCATION:Martinez Court 1
END:VEVENT
BEGIN:VEVENT
DTSTAMP:20260423T000000Z
UID:f7bfcfd6-c49e-46c8-a312-2c989c57b2af@ClaytonBocce
DTSTART;TZID=America/Los_Angeles:20260910T093000
DTEND;TZID=America/Los_Angeles:20260910T120000
STATUS:CONFIRMED
SUMMARY:OUR GANG vs FUHGETABOCCE
URL:/League/Schedule/3150
DESCRIPTION:Regular Season match: OUR GANG vs FUHGETABOCCE
LOCATION:Martinez Court 14
END:VEVENT
BEGIN:VEVENT
DTSTAMP:20260423T000000Z
UID:99d2e617-52c8-47b6-b640-1d3672d8aae0@ClaytonBocce
DTSTART;TZID=America/Los_Angeles:20260917T093000
DTEND;TZID=America/Los_Angeles:20260917T120000
STATUS:CONFIRMED
SUMMARY:OUR GANG vs BOCCE BUDDIES
URL:/League/Schedule/3150
DESCRIPTION:Regular Season match: OUR GANG vs BOCCE BUDDIES
LOCATION:Martinez Court 13
END:VEVENT
END:VCALENDAR
