BEGIN:VCALENDAR
VERSION:2.0
PRODID:-//Clayton Bocce League
METHOD:PUBLISH
BEGIN:VTIMEZONE
TZID:America/Los_Angeles
X-LIC-LOCATION:America/Los_Angeles
BEGIN:DAYLIGHT
TZOFFSETFROM:-0800
TZOFFSETTO:-0700
TZNAME:PDT
DTSTART:20070311T020000
RRULE:FREQ=YEARLY;BYMONTH=3;BYDAY=2SU
END:DAYLIGHT
BEGIN:STANDARD
TZOFFSETFROM:-0700
TZOFFSETTO:-0800
TZNAME:PST
DTSTART:20071104T020000
RRULE:FREQ=YEARLY;BYMONTH=11;BYDAY=1SU
END:STANDARD
END:VTIMEZONE
BEGIN:VEVENT
DTSTAMP:20260423T000000Z
UID:4d0a967b-23cb-4f1c-a600-ad65dd15f98a@ClaytonBocce
DTSTART;TZID=America/Los_Angeles:20260423T093000
DTEND;TZID=America/Los_Angeles:20260423T120000
STATUS:CONFIRMED
SUMMARY:JUST FRIENDS vs BOCCE BUDDIES
URL:/League/Schedule/3148
DESCRIPTION:Regular Season match: JUST FRIENDS vs BOCCE BUDD
 IES
LOCATION:Martinez Court 13
END:VEVENT
BEGIN:VEVENT
DTSTAMP:20260423T000000Z
UID:c1769ebb-6cf6-41f0-a629-959d9e1db037@ClaytonBocce
DTSTART;TZID=America/Los_Angeles:20260430T093000
DTEND;TZID=America/Los_Angeles:20260430T120000
STATUS:CONFIRMED
SUMMARY:JUST FRIENDS vs FUHGETABOCCE
URL:/League/Schedule/3148
DESCRIPTION:Regular Season match: JUST FRIENDS vs FUHGETABOC
 CE
LOCATION:Martinez Court 3
END:VEVENT
BEGIN:VEVENT
DTSTAMP:20260423T000000Z
UID:7dbf92b2-9635-4060-b769-9ba419c41d65@ClaytonBocce
DTSTART;TZID=America/Los_Angeles:20260507T093000
DTEND;TZID=America/Los_Angeles:20260507T120000
STATUS:CONFIRMED
SUMMARY:JUST FRIENDS vs LA BELLA VITA
URL:/League/Schedule/3148
DESCRIPTION:Regular Season match: JUST FRIENDS vs LA BELLA V
 ITA
LOCATION:Martinez Court 8
END:VEVENT
BEGIN:VEVENT
DTSTAMP:20260423T000000Z
UID:c14ee10d-c600-4133-acca-857b788db026@ClaytonBocce
DTSTART;TZID=America/Los_Angeles:20260514T093000
DTEND;TZID=America/Los_Angeles:20260514T120000
STATUS:CONFIRMED
SUMMARY:JUST FRIENDS vs OUR GANG
URL:/League/Schedule/3148
DESCRIPTION:Regular Season match: JUST FRIENDS vs OUR GANG
LOCATION:Martinez Court 7
END:VEVENT
BEGIN:VEVENT
DTSTAMP:20260423T000000Z
UID:bad1ec86-c4a7-4e85-a9fe-a66df6e5ea9c@ClaytonBocce
DTSTART;TZID=America/Los_Angeles:20260521T093000
DTEND;TZID=America/Los_Angeles:20260521T120000
STATUS:CONFIRMED
SUMMARY:JUST FRIENDS vs SUGAR CUBES
URL:/League/Schedule/3148
DESCRIPTION:Regular Season match: JUST FRIENDS vs SUGAR CUBE
 S
LOCATION:Martinez Court 15
END:VEVENT
BEGIN:VEVENT
DTSTAMP:20260423T000000Z
UID:b600478f-edb7-4468-92d5-0d97dc02d2e6@ClaytonBocce
DTSTART;TZID=America/Los_Angeles:20260528T093000
DTEND;TZID=America/Los_Angeles:20260528T120000
STATUS:CONFIRMED
SUMMARY:JUST FRIENDS vs WHAT'S THE POINT?
URL:/League/Schedule/3148
DESCRIPTION:Regular Season match: JUST FRIENDS vs WHAT'S THE
  POINT?
LOCATION:Martinez Court 1
END:VEVENT
BEGIN:VEVENT
DTSTAMP:20260423T000000Z
UID:98c08dbe-3a46-4477-9619-8ce0515d2f1b@ClaytonBocce
DTSTART;TZID=America/Los_Angeles:20260611T093000
DTEND;TZID=America/Los_Angeles:20260611T120000
STATUS:CONFIRMED
SUMMARY:JUST FRIENDS vs BOCCE BUDDIES
URL:/League/Schedule/3148
DESCRIPTION:Regular Season match: JUST FRIENDS vs BOCCE BUDD
 IES
LOCATION:Martinez Court 14
END:VEVENT
BEGIN:VEVENT
DTSTAMP:20260423T000000Z
UID:846ea36a-a327-4ebb-b51b-3a99da820b46@ClaytonBocce
DTSTART;TZID=America/Los_Angeles:20260618T093000
DTEND;TZID=America/Los_Angeles:20260618T120000
STATUS:CONFIRMED
SUMMARY:JUST FRIENDS vs FUHGETABOCCE
URL:/League/Schedule/3148
DESCRIPTION:Regular Season match: JUST FRIENDS vs FUHGETABOC
 CE
LOCATION:Martinez Court 7
END:VEVENT
BEGIN:VEVENT
DTSTAMP:20260423T000000Z
UID:32605185-bddd-4d5c-b4d4-fec0f45f176b@ClaytonBocce
DTSTART;TZID=America/Los_Angeles:20260625T093000
DTEND;TZID=America/Los_Angeles:20260625T120000
STATUS:CONFIRMED
SUMMARY:JUST FRIENDS vs LA BELLA VITA
URL:/League/Schedule/3148
DESCRIPTION:Regular Season match: JUST FRIENDS vs LA BELLA V
 ITA
LOCATION:Martinez Court 12
END:VEVENT
BEGIN:VEVENT
DTSTAMP:20260423T000000Z
UID:86e09322-6682-47da-b3be-eb783a37d44e@ClaytonBocce
DTSTART;TZID=America/Los_Angeles:20260709T093000
DTEND;TZID=America/Los_Angeles:20260709T120000
STATUS:CONFIRMED
SUMMARY:JUST FRIENDS vs OUR GANG
URL:/League/Schedule/3148
DESCRIPTION:Regular Season match: JUST FRIENDS vs OUR GANG
LOCATION:Martinez Court 5
END:VEVENT
BEGIN:VEVENT
DTSTAMP:20260423T000000Z
UID:b9cf80d5-ad5d-4f47-8af6-20139b350823@ClaytonBocce
DTSTART;TZID=America/Los_Angeles:20260716T093000
DTEND;TZID=America/Los_Angeles:20260716T120000
STATUS:CONFIRMED
SUMMARY:JUST FRIENDS vs SUGAR CUBES
URL:/League/Schedule/3148
DESCRIPTION:Regular Season match: JUST FRIENDS vs SUGAR CUBE
 S
LOCATION:Martinez Court 2
END:VEVENT
BEGIN:VEVENT
DTSTAMP:20260423T000000Z
UID:0ad7d30a-330a-4b82-a46a-7b26a356b78c@ClaytonBocce
DTSTART;TZID=America/Los_Angeles:20260723T093000
DTEND;TZID=America/Los_Angeles:20260723T120000
STATUS:CONFIRMED
SUMMARY:JUST FRIENDS vs WHAT'S THE POINT?
URL:/League/Schedule/3148
DESCRIPTION:Regular Season match: JUST FRIENDS vs WHAT'S THE
  POINT?
LOCATION:Martinez Court 4
END:VEVENT
BEGIN:VEVENT
DTSTAMP:20260423T000000Z
UID:b4fe41af-3d96-438d-bf8f-574e239be9bc@ClaytonBocce
DTSTART;TZID=America/Los_Angeles:20260806T093000
DTEND;TZID=America/Los_Angeles:20260806T120000
STATUS:CONFIRMED
SUMMARY:JUST FRIENDS vs BOCCE BUDDIES
URL:/League/Schedule/3148
DESCRIPTION:Regular Season match: JUST FRIENDS vs BOCCE BUDD
 IES
LOCATION:Martinez Court 6
END:VEVENT
BEGIN:VEVENT
DTSTAMP:20260423T000000Z
UID:8b1e1a17-5ac5-4348-823b-00a8b4e38f3c@ClaytonBocce
DTSTART;TZID=America/Los_Angeles:20260813T093000
DTEND;TZID=America/Los_Angeles:20260813T120000
STATUS:CONFIRMED
SUMMARY:JUST FRIENDS vs FUHGETABOCCE
URL:/League/Schedule/3148
DESCRIPTION:Regular Season match: JUST FRIENDS vs FUHGETABOC
 CE
LOCATION:Martinez Court 8
END:VEVENT
BEGIN:VEVENT
DTSTAMP:20260423T000000Z
UID:cf2e8028-d827-4426-8c0b-cbcc3bd4be6d@ClaytonBocce
DTSTART;TZID=America/Los_Angeles:20260820T093000
DTEND;TZID=America/Los_Angeles:20260820T120000
STATUS:CONFIRMED
SUMMARY:JUST FRIENDS vs LA BELLA VITA
URL:/League/Schedule/3148
DESCRIPTION:Regular Season match: JUST FRIENDS vs LA BELLA V
 ITA
LOCATION:Martinez Court 11
END:VEVENT
BEGIN:VEVENT
DTSTAMP:20260423T000000Z
UID:fa6db0f4-6e2a-48b6-9ed5-2d5af1fc9fb7@ClaytonBocce
DTSTART;TZID=America/Los_Angeles:20260827T093000
DTEND;TZID=America/Los_Angeles:20260827T120000
STATUS:CONFIRMED
SUMMARY:JUST FRIENDS vs OUR GANG
URL:/League/Schedule/3148
DESCRIPTION:Regular Season match: JUST FRIENDS vs OUR GANG
LOCATION:Martinez Court 1
END:VEVENT
BEGIN:VEVENT
DTSTAMP:20260423T000000Z
UID:2aef440e-42dc-475c-aecf-2718398781ac@ClaytonBocce
DTSTART;TZID=America/Los_Angeles:20260903T093000
DTEND;TZID=America/Los_Angeles:20260903T120000
STATUS:CONFIRMED
SUMMARY:JUST FRIENDS vs SUGAR CUBES
URL:/League/Schedule/3148
DESCRIPTION:Regular Season match: JUST FRIENDS vs SUGAR CUBE
 S
LOCATION:Martinez Court 9
END:VEVENT
BEGIN:VEVENT
DTSTAMP:20260423T000000Z
UID:3d21a437-aba4-4230-9d8d-f3f3ea3ea734@ClaytonBocce
DTSTART;TZID=America/Los_Angeles:20260910T093000
DTEND;TZID=America/Los_Angeles:20260910T120000
STATUS:CONFIRMED
SUMMARY:JUST FRIENDS vs WHAT'S THE POINT?
URL:/League/Schedule/3148
DESCRIPTION:Regular Season match: JUST FRIENDS vs WHAT'S THE
  POINT?
LOCATION:Martinez Court 12
END:VEVENT
END:VCALENDAR
