BEGIN:VCALENDAR
VERSION:2.0
PRODID:-//Clayton Bocce League
METHOD:PUBLISH
BEGIN:VTIMEZONE
TZID:America/Los_Angeles
X-LIC-LOCATION:America/Los_Angeles
BEGIN:DAYLIGHT
TZOFFSETFROM:-0800
TZOFFSETTO:-0700
TZNAME:PDT
DTSTART:20070311T020000
RRULE:FREQ=YEARLY;BYMONTH=3;BYDAY=2SU
END:DAYLIGHT
BEGIN:STANDARD
TZOFFSETFROM:-0700
TZOFFSETTO:-0800
TZNAME:PST
DTSTART:20071104T020000
RRULE:FREQ=YEARLY;BYMONTH=11;BYDAY=1SU
END:STANDARD
END:VTIMEZONE
BEGIN:VEVENT
DTSTAMP:20260423T000000Z
UID:4d0a967b-23cb-4f1c-a600-ad65dd15f98a@ClaytonBocce
DTSTART;TZID=America/Los_Angeles:20260423T093000
DTEND;TZID=America/Los_Angeles:20260423T120000
STATUS:CONFIRMED
SUMMARY:BOCCE BUDDIES vs JUST FRIENDS
URL:/League/Schedule/3153
DESCRIPTION:Regular Season match: BOCCE BUDDIES vs JUST FRIE
 NDS
LOCATION:Martinez Court 13
END:VEVENT
BEGIN:VEVENT
DTSTAMP:20260423T000000Z
UID:4d575db1-4623-49b7-b1be-da5fd1b5cede@ClaytonBocce
DTSTART;TZID=America/Los_Angeles:20260507T093000
DTEND;TZID=America/Los_Angeles:20260507T120000
STATUS:CONFIRMED
SUMMARY:BOCCE BUDDIES vs SUGAR CUBES
URL:/League/Schedule/3153
DESCRIPTION:Regular Season match: BOCCE BUDDIES vs SUGAR CUB
 ES
LOCATION:Martinez Court 9
END:VEVENT
BEGIN:VEVENT
DTSTAMP:20260423T000000Z
UID:bef52072-913f-45ae-9b66-2319de4ac902@ClaytonBocce
DTSTART;TZID=America/Los_Angeles:20260514T093000
DTEND;TZID=America/Los_Angeles:20260514T120000
STATUS:CONFIRMED
SUMMARY:BOCCE BUDDIES vs FUHGETABOCCE
URL:/League/Schedule/3153
DESCRIPTION:Regular Season match: BOCCE BUDDIES vs FUHGETABO
 CCE
LOCATION:Martinez Court 11
END:VEVENT
BEGIN:VEVENT
DTSTAMP:20260423T000000Z
UID:73bb23ce-6055-4ccb-80fd-f828d505827c@ClaytonBocce
DTSTART;TZID=America/Los_Angeles:20260521T093000
DTEND;TZID=America/Los_Angeles:20260521T120000
STATUS:CONFIRMED
SUMMARY:BOCCE BUDDIES vs WHAT'S THE POINT?
URL:/League/Schedule/3153
DESCRIPTION:Regular Season match: BOCCE BUDDIES vs WHAT'S TH
 E POINT?
LOCATION:Martinez Court 2
END:VEVENT
BEGIN:VEVENT
DTSTAMP:20260423T000000Z
UID:97e8456e-d602-46ae-9e84-554dcbe1ddd0@ClaytonBocce
DTSTART;TZID=America/Los_Angeles:20260528T093000
DTEND;TZID=America/Los_Angeles:20260528T120000
STATUS:CONFIRMED
SUMMARY:BOCCE BUDDIES vs LA BELLA VITA
URL:/League/Schedule/3153
DESCRIPTION:Regular Season match: BOCCE BUDDIES vs LA BELLA 
 VITA
LOCATION:Martinez Court 3
END:VEVENT
BEGIN:VEVENT
DTSTAMP:20260423T000000Z
UID:86004f33-28cb-453a-91f7-5f396190e7e3@ClaytonBocce
DTSTART;TZID=America/Los_Angeles:20260604T093000
DTEND;TZID=America/Los_Angeles:20260604T120000
STATUS:CONFIRMED
SUMMARY:BOCCE BUDDIES vs OUR GANG
URL:/League/Schedule/3153
DESCRIPTION:Regular Season match: BOCCE BUDDIES vs OUR GANG
LOCATION:Martinez Court 6
END:VEVENT
BEGIN:VEVENT
DTSTAMP:20260423T000000Z
UID:98c08dbe-3a46-4477-9619-8ce0515d2f1b@ClaytonBocce
DTSTART;TZID=America/Los_Angeles:20260611T093000
DTEND;TZID=America/Los_Angeles:20260611T120000
STATUS:CONFIRMED
SUMMARY:BOCCE BUDDIES vs JUST FRIENDS
URL:/League/Schedule/3153
DESCRIPTION:Regular Season match: BOCCE BUDDIES vs JUST FRIE
 NDS
LOCATION:Martinez Court 14
END:VEVENT
BEGIN:VEVENT
DTSTAMP:20260423T000000Z
UID:6a483ec2-c27e-412c-a35c-4742d73a29ed@ClaytonBocce
DTSTART;TZID=America/Los_Angeles:20260625T093000
DTEND;TZID=America/Los_Angeles:20260625T120000
STATUS:CONFIRMED
SUMMARY:BOCCE BUDDIES vs SUGAR CUBES
URL:/League/Schedule/3153
DESCRIPTION:Regular Season match: BOCCE BUDDIES vs SUGAR CUB
 ES
LOCATION:Martinez Court 1
END:VEVENT
BEGIN:VEVENT
DTSTAMP:20260423T000000Z
UID:20a7a0ea-3a5b-4ff6-b2fe-82e81cc9538a@ClaytonBocce
DTSTART;TZID=America/Los_Angeles:20260709T093000
DTEND;TZID=America/Los_Angeles:20260709T120000
STATUS:CONFIRMED
SUMMARY:BOCCE BUDDIES vs FUHGETABOCCE
URL:/League/Schedule/3153
DESCRIPTION:Regular Season match: BOCCE BUDDIES vs FUHGETABO
 CCE
LOCATION:Martinez Court 4
END:VEVENT
BEGIN:VEVENT
DTSTAMP:20260423T000000Z
UID:2fc3c19f-1f8d-44b9-b2ba-d5d80b4dc9df@ClaytonBocce
DTSTART;TZID=America/Los_Angeles:20260716T093000
DTEND;TZID=America/Los_Angeles:20260716T120000
STATUS:CONFIRMED
SUMMARY:BOCCE BUDDIES vs WHAT'S THE POINT?
URL:/League/Schedule/3153
DESCRIPTION:Regular Season match: BOCCE BUDDIES vs WHAT'S TH
 E POINT?
LOCATION:Martinez Court 7
END:VEVENT
BEGIN:VEVENT
DTSTAMP:20260423T000000Z
UID:fc52364d-9c68-4d97-aace-0d73776c035a@ClaytonBocce
DTSTART;TZID=America/Los_Angeles:20260723T093000
DTEND;TZID=America/Los_Angeles:20260723T120000
STATUS:CONFIRMED
SUMMARY:BOCCE BUDDIES vs LA BELLA VITA
URL:/League/Schedule/3153
DESCRIPTION:Regular Season match: BOCCE BUDDIES vs LA BELLA 
 VITA
LOCATION:Martinez Court 5
END:VEVENT
BEGIN:VEVENT
DTSTAMP:20260423T000000Z
UID:8f1e4d07-2073-4e0e-bd0b-4c4866fa9ffd@ClaytonBocce
DTSTART;TZID=America/Los_Angeles:20260730T093000
DTEND;TZID=America/Los_Angeles:20260730T120000
STATUS:CONFIRMED
SUMMARY:BOCCE BUDDIES vs OUR GANG
URL:/League/Schedule/3153
DESCRIPTION:Regular Season match: BOCCE BUDDIES vs OUR GANG
LOCATION:Martinez Court 12
END:VEVENT
BEGIN:VEVENT
DTSTAMP:20260423T000000Z
UID:b4fe41af-3d96-438d-bf8f-574e239be9bc@ClaytonBocce
DTSTART;TZID=America/Los_Angeles:20260806T093000
DTEND;TZID=America/Los_Angeles:20260806T120000
STATUS:CONFIRMED
SUMMARY:BOCCE BUDDIES vs JUST FRIENDS
URL:/League/Schedule/3153
DESCRIPTION:Regular Season match: BOCCE BUDDIES vs JUST FRIE
 NDS
LOCATION:Martinez Court 6
END:VEVENT
BEGIN:VEVENT
DTSTAMP:20260423T000000Z
UID:aae57bca-b863-466b-83c0-ba96d8ea0aac@ClaytonBocce
DTSTART;TZID=America/Los_Angeles:20260820T093000
DTEND;TZID=America/Los_Angeles:20260820T120000
STATUS:CONFIRMED
SUMMARY:BOCCE BUDDIES vs SUGAR CUBES
URL:/League/Schedule/3153
DESCRIPTION:Regular Season match: BOCCE BUDDIES vs SUGAR CUB
 ES
LOCATION:Martinez Court 1
END:VEVENT
BEGIN:VEVENT
DTSTAMP:20260423T000000Z
UID:92d267ef-aefb-471f-8882-10b4861ae48b@ClaytonBocce
DTSTART;TZID=America/Los_Angeles:20260827T093000
DTEND;TZID=America/Los_Angeles:20260827T120000
STATUS:CONFIRMED
SUMMARY:BOCCE BUDDIES vs FUHGETABOCCE
URL:/League/Schedule/3153
DESCRIPTION:Regular Season match: BOCCE BUDDIES vs FUHGETABO
 CCE
LOCATION:Martinez Court 10
END:VEVENT
BEGIN:VEVENT
DTSTAMP:20260423T000000Z
UID:7db0f614-78e6-41d4-a33a-68d2c8c0c39b@ClaytonBocce
DTSTART;TZID=America/Los_Angeles:20260903T093000
DTEND;TZID=America/Los_Angeles:20260903T120000
STATUS:CONFIRMED
SUMMARY:BOCCE BUDDIES vs WHAT'S THE POINT?
URL:/League/Schedule/3153
DESCRIPTION:Regular Season match: BOCCE BUDDIES vs WHAT'S TH
 E POINT?
LOCATION:Martinez Court 15
END:VEVENT
BEGIN:VEVENT
DTSTAMP:20260423T000000Z
UID:13a78b7a-b9e4-47f5-b049-c0b05269e4d9@ClaytonBocce
DTSTART;TZID=America/Los_Angeles:20260910T093000
DTEND;TZID=America/Los_Angeles:20260910T120000
STATUS:CONFIRMED
SUMMARY:BOCCE BUDDIES vs LA BELLA VITA
URL:/League/Schedule/3153
DESCRIPTION:Regular Season match: BOCCE BUDDIES vs LA BELLA 
 VITA
LOCATION:Martinez Court 3
END:VEVENT
BEGIN:VEVENT
DTSTAMP:20260423T000000Z
UID:99d2e617-52c8-47b6-b640-1d3672d8aae0@ClaytonBocce
DTSTART;TZID=America/Los_Angeles:20260917T093000
DTEND;TZID=America/Los_Angeles:20260917T120000
STATUS:CONFIRMED
SUMMARY:BOCCE BUDDIES vs OUR GANG
URL:/League/Schedule/3153
DESCRIPTION:Regular Season match: BOCCE BUDDIES vs OUR GANG
LOCATION:Martinez Court 13
END:VEVENT
END:VCALENDAR
