BEGIN:VCALENDAR
VERSION:2.0
PRODID:-//Clayton Bocce League
METHOD:PUBLISH
BEGIN:VTIMEZONE
TZID:America/Los_Angeles
X-LIC-LOCATION:America/Los_Angeles
BEGIN:DAYLIGHT
TZOFFSETFROM:-0800
TZOFFSETTO:-0700
TZNAME:PDT
DTSTART:20070311T020000
RRULE:FREQ=YEARLY;BYMONTH=3;BYDAY=2SU
END:DAYLIGHT
BEGIN:STANDARD
TZOFFSETFROM:-0700
TZOFFSETTO:-0800
TZNAME:PST
DTSTART:20071104T020000
RRULE:FREQ=YEARLY;BYMONTH=11;BYDAY=1SU
END:STANDARD
END:VTIMEZONE
BEGIN:VEVENT
DTSTAMP:20260423T000000Z
UID:c04834e1-c244-40db-802e-a15d123404d1@ClaytonBocce
DTSTART;TZID=America/Los_Angeles:20260423T093000
DTEND;TZID=America/Los_Angeles:20260423T120000
STATUS:CONFIRMED
SUMMARY:SUGAR CUBES vs FUHGETABOCCE
URL:/League/Schedule/3149
DESCRIPTION:Regular Season match: SUGAR CUBES vs FUHGETABOCC
 E
LOCATION:Martinez Court 14
END:VEVENT
BEGIN:VEVENT
DTSTAMP:20260423T000000Z
UID:8d703b9f-c20e-4645-8d2a-96da406d77a8@ClaytonBocce
DTSTART;TZID=America/Los_Angeles:20260430T093000
DTEND;TZID=America/Los_Angeles:20260430T120000
STATUS:CONFIRMED
SUMMARY:SUGAR CUBES vs OUR GANG
URL:/League/Schedule/3149
DESCRIPTION:Regular Season match: SUGAR CUBES vs OUR GANG
LOCATION:Martinez Court 4
END:VEVENT
BEGIN:VEVENT
DTSTAMP:20260423T000000Z
UID:4d575db1-4623-49b7-b1be-da5fd1b5cede@ClaytonBocce
DTSTART;TZID=America/Los_Angeles:20260507T093000
DTEND;TZID=America/Los_Angeles:20260507T120000
STATUS:CONFIRMED
SUMMARY:SUGAR CUBES vs BOCCE BUDDIES
URL:/League/Schedule/3149
DESCRIPTION:Regular Season match: SUGAR CUBES vs BOCCE BUDDI
 ES
LOCATION:Martinez Court 9
END:VEVENT
BEGIN:VEVENT
DTSTAMP:20260423T000000Z
UID:2b63ab21-0e37-49d9-97b7-ee23d622a46d@ClaytonBocce
DTSTART;TZID=America/Los_Angeles:20260514T093000
DTEND;TZID=America/Los_Angeles:20260514T120000
STATUS:CONFIRMED
SUMMARY:SUGAR CUBES vs WHAT'S THE POINT?
URL:/League/Schedule/3149
DESCRIPTION:Regular Season match: SUGAR CUBES vs WHAT'S THE 
 POINT?
LOCATION:Martinez Court 13
END:VEVENT
BEGIN:VEVENT
DTSTAMP:20260423T000000Z
UID:bad1ec86-c4a7-4e85-a9fe-a66df6e5ea9c@ClaytonBocce
DTSTART;TZID=America/Los_Angeles:20260521T093000
DTEND;TZID=America/Los_Angeles:20260521T120000
STATUS:CONFIRMED
SUMMARY:SUGAR CUBES vs JUST FRIENDS
URL:/League/Schedule/3149
DESCRIPTION:Regular Season match: SUGAR CUBES vs JUST FRIEND
 S
LOCATION:Martinez Court 15
END:VEVENT
BEGIN:VEVENT
DTSTAMP:20260423T000000Z
UID:29c19465-cd6f-4b87-a8c7-a9157dc4439d@ClaytonBocce
DTSTART;TZID=America/Los_Angeles:20260604T093000
DTEND;TZID=America/Los_Angeles:20260604T120000
STATUS:CONFIRMED
SUMMARY:SUGAR CUBES vs LA BELLA VITA
URL:/League/Schedule/3149
DESCRIPTION:Regular Season match: SUGAR CUBES vs LA BELLA VI
 TA
LOCATION:Martinez Court 7
END:VEVENT
BEGIN:VEVENT
DTSTAMP:20260423T000000Z
UID:abc28e90-845e-4cdf-8327-a03f1783db97@ClaytonBocce
DTSTART;TZID=America/Los_Angeles:20260611T093000
DTEND;TZID=America/Los_Angeles:20260611T120000
STATUS:CONFIRMED
SUMMARY:SUGAR CUBES vs FUHGETABOCCE
URL:/League/Schedule/3149
DESCRIPTION:Regular Season match: SUGAR CUBES vs FUHGETABOCC
 E
LOCATION:Martinez Court 15
END:VEVENT
BEGIN:VEVENT
DTSTAMP:20260423T000000Z
UID:b1ecd9c1-267c-4ea4-8d19-decceeb810b8@ClaytonBocce
DTSTART;TZID=America/Los_Angeles:20260618T093000
DTEND;TZID=America/Los_Angeles:20260618T120000
STATUS:CONFIRMED
SUMMARY:SUGAR CUBES vs OUR GANG
URL:/League/Schedule/3149
DESCRIPTION:Regular Season match: SUGAR CUBES vs OUR GANG
LOCATION:Martinez Court 8
END:VEVENT
BEGIN:VEVENT
DTSTAMP:20260423T000000Z
UID:6a483ec2-c27e-412c-a35c-4742d73a29ed@ClaytonBocce
DTSTART;TZID=America/Los_Angeles:20260625T093000
DTEND;TZID=America/Los_Angeles:20260625T120000
STATUS:CONFIRMED
SUMMARY:SUGAR CUBES vs BOCCE BUDDIES
URL:/League/Schedule/3149
DESCRIPTION:Regular Season match: SUGAR CUBES vs BOCCE BUDDI
 ES
LOCATION:Martinez Court 1
END:VEVENT
BEGIN:VEVENT
DTSTAMP:20260423T000000Z
UID:0d02ab9d-414e-4f9e-8fcf-d8af7703eddc@ClaytonBocce
DTSTART;TZID=America/Los_Angeles:20260709T093000
DTEND;TZID=America/Los_Angeles:20260709T120000
STATUS:CONFIRMED
SUMMARY:SUGAR CUBES vs WHAT'S THE POINT?
URL:/League/Schedule/3149
DESCRIPTION:Regular Season match: SUGAR CUBES vs WHAT'S THE 
 POINT?
LOCATION:Martinez Court 6
END:VEVENT
BEGIN:VEVENT
DTSTAMP:20260423T000000Z
UID:b9cf80d5-ad5d-4f47-8af6-20139b350823@ClaytonBocce
DTSTART;TZID=America/Los_Angeles:20260716T093000
DTEND;TZID=America/Los_Angeles:20260716T120000
STATUS:CONFIRMED
SUMMARY:SUGAR CUBES vs JUST FRIENDS
URL:/League/Schedule/3149
DESCRIPTION:Regular Season match: SUGAR CUBES vs JUST FRIEND
 S
LOCATION:Martinez Court 2
END:VEVENT
BEGIN:VEVENT
DTSTAMP:20260423T000000Z
UID:a7ca724c-a2e1-4dca-bc80-eb563d0dd068@ClaytonBocce
DTSTART;TZID=America/Los_Angeles:20260730T093000
DTEND;TZID=America/Los_Angeles:20260730T120000
STATUS:CONFIRMED
SUMMARY:SUGAR CUBES vs LA BELLA VITA
URL:/League/Schedule/3149
DESCRIPTION:Regular Season match: SUGAR CUBES vs LA BELLA VI
 TA
LOCATION:Martinez Court 10
END:VEVENT
BEGIN:VEVENT
DTSTAMP:20260423T000000Z
UID:3666bd7f-d656-4c20-a4b4-26319466bb97@ClaytonBocce
DTSTART;TZID=America/Los_Angeles:20260806T093000
DTEND;TZID=America/Los_Angeles:20260806T120000
STATUS:CONFIRMED
SUMMARY:SUGAR CUBES vs FUHGETABOCCE
URL:/League/Schedule/3149
DESCRIPTION:Regular Season match: SUGAR CUBES vs FUHGETABOCC
 E
LOCATION:Martinez Court 5
END:VEVENT
BEGIN:VEVENT
DTSTAMP:20260423T000000Z
UID:8aef3525-8f5b-428b-896c-470947af6675@ClaytonBocce
DTSTART;TZID=America/Los_Angeles:20260813T093000
DTEND;TZID=America/Los_Angeles:20260813T120000
STATUS:CONFIRMED
SUMMARY:SUGAR CUBES vs OUR GANG
URL:/League/Schedule/3149
DESCRIPTION:Regular Season match: SUGAR CUBES vs OUR GANG
LOCATION:Martinez Court 11
END:VEVENT
BEGIN:VEVENT
DTSTAMP:20260423T000000Z
UID:aae57bca-b863-466b-83c0-ba96d8ea0aac@ClaytonBocce
DTSTART;TZID=America/Los_Angeles:20260820T093000
DTEND;TZID=America/Los_Angeles:20260820T120000
STATUS:CONFIRMED
SUMMARY:SUGAR CUBES vs BOCCE BUDDIES
URL:/League/Schedule/3149
DESCRIPTION:Regular Season match: SUGAR CUBES vs BOCCE BUDDI
 ES
LOCATION:Martinez Court 1
END:VEVENT
BEGIN:VEVENT
DTSTAMP:20260423T000000Z
UID:4f957e01-b18d-425a-8189-eb516520b4ab@ClaytonBocce
DTSTART;TZID=America/Los_Angeles:20260827T093000
DTEND;TZID=America/Los_Angeles:20260827T120000
STATUS:CONFIRMED
SUMMARY:SUGAR CUBES vs WHAT'S THE POINT?
URL:/League/Schedule/3149
DESCRIPTION:Regular Season match: SUGAR CUBES vs WHAT'S THE 
 POINT?
LOCATION:Martinez Court 4
END:VEVENT
BEGIN:VEVENT
DTSTAMP:20260423T000000Z
UID:2aef440e-42dc-475c-aecf-2718398781ac@ClaytonBocce
DTSTART;TZID=America/Los_Angeles:20260903T093000
DTEND;TZID=America/Los_Angeles:20260903T120000
STATUS:CONFIRMED
SUMMARY:SUGAR CUBES vs JUST FRIENDS
URL:/League/Schedule/3149
DESCRIPTION:Regular Season match: SUGAR CUBES vs JUST FRIEND
 S
LOCATION:Martinez Court 9
END:VEVENT
BEGIN:VEVENT
DTSTAMP:20260423T000000Z
UID:2ad319a8-3f91-476d-a701-32b8d4d99da5@ClaytonBocce
DTSTART;TZID=America/Los_Angeles:20260917T093000
DTEND;TZID=America/Los_Angeles:20260917T120000
STATUS:CONFIRMED
SUMMARY:SUGAR CUBES vs LA BELLA VITA
URL:/League/Schedule/3149
DESCRIPTION:Regular Season match: SUGAR CUBES vs LA BELLA VI
 TA
LOCATION:Martinez Court 12
END:VEVENT
END:VCALENDAR
