BEGIN:VCALENDAR
VERSION:2.0
PRODID:-//Clayton Bocce League
METHOD:PUBLISH
BEGIN:VTIMEZONE
TZID:America/Los_Angeles
X-LIC-LOCATION:America/Los_Angeles
BEGIN:DAYLIGHT
TZOFFSETFROM:-0800
TZOFFSETTO:-0700
TZNAME:PDT
DTSTART:20070311T020000
RRULE:FREQ=YEARLY;BYMONTH=3;BYDAY=2SU
END:DAYLIGHT
BEGIN:STANDARD
TZOFFSETFROM:-0700
TZOFFSETTO:-0800
TZNAME:PST
DTSTART:20071104T020000
RRULE:FREQ=YEARLY;BYMONTH=11;BYDAY=1SU
END:STANDARD
END:VTIMEZONE
BEGIN:VEVENT
DTSTAMP:20260423T000000Z
UID:c04834e1-c244-40db-802e-a15d123404d1@ClaytonBocce
DTSTART;TZID=America/Los_Angeles:20260423T093000
DTEND;TZID=America/Los_Angeles:20260423T120000
STATUS:CONFIRMED
SUMMARY:FUHGETABOCCE vs SUGAR CUBES
URL:/League/Schedule/3152
DESCRIPTION:Regular Season match: FUHGETABOCCE vs SUGAR CUBE
 S
LOCATION:Martinez Court 14
END:VEVENT
BEGIN:VEVENT
DTSTAMP:20260423T000000Z
UID:c1769ebb-6cf6-41f0-a629-959d9e1db037@ClaytonBocce
DTSTART;TZID=America/Los_Angeles:20260430T093000
DTEND;TZID=America/Los_Angeles:20260430T120000
STATUS:CONFIRMED
SUMMARY:FUHGETABOCCE vs JUST FRIENDS
URL:/League/Schedule/3152
DESCRIPTION:Regular Season match: FUHGETABOCCE vs JUST FRIEN
 DS
LOCATION:Martinez Court 3
END:VEVENT
BEGIN:VEVENT
DTSTAMP:20260423T000000Z
UID:bef52072-913f-45ae-9b66-2319de4ac902@ClaytonBocce
DTSTART;TZID=America/Los_Angeles:20260514T093000
DTEND;TZID=America/Los_Angeles:20260514T120000
STATUS:CONFIRMED
SUMMARY:FUHGETABOCCE vs BOCCE BUDDIES
URL:/League/Schedule/3152
DESCRIPTION:Regular Season match: FUHGETABOCCE vs BOCCE BUDD
 IES
LOCATION:Martinez Court 11
END:VEVENT
BEGIN:VEVENT
DTSTAMP:20260423T000000Z
UID:0e226c65-6c65-46ca-99e1-e922325eb412@ClaytonBocce
DTSTART;TZID=America/Los_Angeles:20260521T093000
DTEND;TZID=America/Los_Angeles:20260521T120000
STATUS:CONFIRMED
SUMMARY:FUHGETABOCCE vs LA BELLA VITA
URL:/League/Schedule/3152
DESCRIPTION:Regular Season match: FUHGETABOCCE vs LA BELLA V
 ITA
LOCATION:Martinez Court 1
END:VEVENT
BEGIN:VEVENT
DTSTAMP:20260423T000000Z
UID:723e2439-3686-431b-aed9-cd79efff794e@ClaytonBocce
DTSTART;TZID=America/Los_Angeles:20260528T093000
DTEND;TZID=America/Los_Angeles:20260528T120000
STATUS:CONFIRMED
SUMMARY:FUHGETABOCCE vs OUR GANG
URL:/League/Schedule/3152
DESCRIPTION:Regular Season match: FUHGETABOCCE vs OUR GANG
LOCATION:Martinez Court 2
END:VEVENT
BEGIN:VEVENT
DTSTAMP:20260423T000000Z
UID:5185c884-7f57-4890-b476-e3e984deb675@ClaytonBocce
DTSTART;TZID=America/Los_Angeles:20260604T093000
DTEND;TZID=America/Los_Angeles:20260604T120000
STATUS:CONFIRMED
SUMMARY:FUHGETABOCCE vs WHAT'S THE POINT?
URL:/League/Schedule/3152
DESCRIPTION:Regular Season match: FUHGETABOCCE vs WHAT'S THE
  POINT?
LOCATION:Martinez Court 8
END:VEVENT
BEGIN:VEVENT
DTSTAMP:20260423T000000Z
UID:abc28e90-845e-4cdf-8327-a03f1783db97@ClaytonBocce
DTSTART;TZID=America/Los_Angeles:20260611T093000
DTEND;TZID=America/Los_Angeles:20260611T120000
STATUS:CONFIRMED
SUMMARY:FUHGETABOCCE vs SUGAR CUBES
URL:/League/Schedule/3152
DESCRIPTION:Regular Season match: FUHGETABOCCE vs SUGAR CUBE
 S
LOCATION:Martinez Court 15
END:VEVENT
BEGIN:VEVENT
DTSTAMP:20260423T000000Z
UID:846ea36a-a327-4ebb-b51b-3a99da820b46@ClaytonBocce
DTSTART;TZID=America/Los_Angeles:20260618T093000
DTEND;TZID=America/Los_Angeles:20260618T120000
STATUS:CONFIRMED
SUMMARY:FUHGETABOCCE vs JUST FRIENDS
URL:/League/Schedule/3152
DESCRIPTION:Regular Season match: FUHGETABOCCE vs JUST FRIEN
 DS
LOCATION:Martinez Court 7
END:VEVENT
BEGIN:VEVENT
DTSTAMP:20260423T000000Z
UID:20a7a0ea-3a5b-4ff6-b2fe-82e81cc9538a@ClaytonBocce
DTSTART;TZID=America/Los_Angeles:20260709T093000
DTEND;TZID=America/Los_Angeles:20260709T120000
STATUS:CONFIRMED
SUMMARY:FUHGETABOCCE vs BOCCE BUDDIES
URL:/League/Schedule/3152
DESCRIPTION:Regular Season match: FUHGETABOCCE vs BOCCE BUDD
 IES
LOCATION:Martinez Court 4
END:VEVENT
BEGIN:VEVENT
DTSTAMP:20260423T000000Z
UID:3ccd3b69-d905-4832-9a02-69de204f7db6@ClaytonBocce
DTSTART;TZID=America/Los_Angeles:20260716T093000
DTEND;TZID=America/Los_Angeles:20260716T120000
STATUS:CONFIRMED
SUMMARY:FUHGETABOCCE vs LA BELLA VITA
URL:/League/Schedule/3152
DESCRIPTION:Regular Season match: FUHGETABOCCE vs LA BELLA V
 ITA
LOCATION:Martinez Court 6
END:VEVENT
BEGIN:VEVENT
DTSTAMP:20260423T000000Z
UID:fd5b36eb-a1e1-4b89-8984-8be1f94ebefa@ClaytonBocce
DTSTART;TZID=America/Los_Angeles:20260723T093000
DTEND;TZID=America/Los_Angeles:20260723T120000
STATUS:CONFIRMED
SUMMARY:FUHGETABOCCE vs OUR GANG
URL:/League/Schedule/3152
DESCRIPTION:Regular Season match: FUHGETABOCCE vs OUR GANG
LOCATION:Martinez Court 9
END:VEVENT
BEGIN:VEVENT
DTSTAMP:20260423T000000Z
UID:e74e768a-d679-4164-918c-d868c89605e1@ClaytonBocce
DTSTART;TZID=America/Los_Angeles:20260730T093000
DTEND;TZID=America/Los_Angeles:20260730T120000
STATUS:CONFIRMED
SUMMARY:FUHGETABOCCE vs WHAT'S THE POINT?
URL:/League/Schedule/3152
DESCRIPTION:Regular Season match: FUHGETABOCCE vs WHAT'S THE
  POINT?
LOCATION:Martinez Court 11
END:VEVENT
BEGIN:VEVENT
DTSTAMP:20260423T000000Z
UID:3666bd7f-d656-4c20-a4b4-26319466bb97@ClaytonBocce
DTSTART;TZID=America/Los_Angeles:20260806T093000
DTEND;TZID=America/Los_Angeles:20260806T120000
STATUS:CONFIRMED
SUMMARY:FUHGETABOCCE vs SUGAR CUBES
URL:/League/Schedule/3152
DESCRIPTION:Regular Season match: FUHGETABOCCE vs SUGAR CUBE
 S
LOCATION:Martinez Court 5
END:VEVENT
BEGIN:VEVENT
DTSTAMP:20260423T000000Z
UID:8b1e1a17-5ac5-4348-823b-00a8b4e38f3c@ClaytonBocce
DTSTART;TZID=America/Los_Angeles:20260813T093000
DTEND;TZID=America/Los_Angeles:20260813T120000
STATUS:CONFIRMED
SUMMARY:FUHGETABOCCE vs JUST FRIENDS
URL:/League/Schedule/3152
DESCRIPTION:Regular Season match: FUHGETABOCCE vs JUST FRIEN
 DS
LOCATION:Martinez Court 8
END:VEVENT
BEGIN:VEVENT
DTSTAMP:20260423T000000Z
UID:92d267ef-aefb-471f-8882-10b4861ae48b@ClaytonBocce
DTSTART;TZID=America/Los_Angeles:20260827T093000
DTEND;TZID=America/Los_Angeles:20260827T120000
STATUS:CONFIRMED
SUMMARY:FUHGETABOCCE vs BOCCE BUDDIES
URL:/League/Schedule/3152
DESCRIPTION:Regular Season match: FUHGETABOCCE vs BOCCE BUDD
 IES
LOCATION:Martinez Court 10
END:VEVENT
BEGIN:VEVENT
DTSTAMP:20260423T000000Z
UID:6e6d489e-6d25-4f1f-9adb-0da0830c8070@ClaytonBocce
DTSTART;TZID=America/Los_Angeles:20260903T093000
DTEND;TZID=America/Los_Angeles:20260903T120000
STATUS:CONFIRMED
SUMMARY:FUHGETABOCCE vs LA BELLA VITA
URL:/League/Schedule/3152
DESCRIPTION:Regular Season match: FUHGETABOCCE vs LA BELLA V
 ITA
LOCATION:Martinez Court 13
END:VEVENT
BEGIN:VEVENT
DTSTAMP:20260423T000000Z
UID:f7bfcfd6-c49e-46c8-a312-2c989c57b2af@ClaytonBocce
DTSTART;TZID=America/Los_Angeles:20260910T093000
DTEND;TZID=America/Los_Angeles:20260910T120000
STATUS:CONFIRMED
SUMMARY:FUHGETABOCCE vs OUR GANG
URL:/League/Schedule/3152
DESCRIPTION:Regular Season match: FUHGETABOCCE vs OUR GANG
LOCATION:Martinez Court 14
END:VEVENT
BEGIN:VEVENT
DTSTAMP:20260423T000000Z
UID:8c97b581-b976-4314-b79a-2e4f448ef26e@ClaytonBocce
DTSTART;TZID=America/Los_Angeles:20260917T093000
DTEND;TZID=America/Los_Angeles:20260917T120000
STATUS:CONFIRMED
SUMMARY:FUHGETABOCCE vs WHAT'S THE POINT?
URL:/League/Schedule/3152
DESCRIPTION:Regular Season match: FUHGETABOCCE vs WHAT'S THE
  POINT?
LOCATION:Martinez Court 2
END:VEVENT
END:VCALENDAR
