BEGIN:VCALENDAR
VERSION:2.0
PRODID:-//Clayton Bocce League
METHOD:PUBLISH
BEGIN:VTIMEZONE
TZID:America/Los_Angeles
X-LIC-LOCATION:America/Los_Angeles
BEGIN:DAYLIGHT
TZOFFSETFROM:-0800
TZOFFSETTO:-0700
TZNAME:PDT
DTSTART:20070311T020000
RRULE:FREQ=YEARLY;BYMONTH=3;BYDAY=2SU
END:DAYLIGHT
BEGIN:STANDARD
TZOFFSETFROM:-0700
TZOFFSETTO:-0800
TZNAME:PST
DTSTART:20071104T020000
RRULE:FREQ=YEARLY;BYMONTH=11;BYDAY=1SU
END:STANDARD
END:VTIMEZONE
BEGIN:VEVENT
DTSTAMP:20260423T000000Z
UID:fa901306-c3fd-4ced-8d2b-891cc7b21079@ClaytonBocce
DTSTART;TZID=America/Los_Angeles:20260430T093000
DTEND;TZID=America/Los_Angeles:20260430T120000
STATUS:CONFIRMED
SUMMARY:BOCCE GUYS vs BOCCE FRIENDS
URL:/League/Schedule/3147
DESCRIPTION:Regular Season match: BOCCE GUYS vs BOCCE FRIEND
 S
LOCATION:Martinez Court 2
END:VEVENT
BEGIN:VEVENT
DTSTAMP:20260423T000000Z
UID:e66302c7-c297-4bbd-884b-deb7a5fb811b@ClaytonBocce
DTSTART;TZID=America/Los_Angeles:20260507T093000
DTEND;TZID=America/Los_Angeles:20260507T120000
STATUS:CONFIRMED
SUMMARY:BOCCE GUYS vs JAZZY BOCCE FRIENDS
URL:/League/Schedule/3147
DESCRIPTION:Regular Season match: BOCCE GUYS vs JAZZY BOCCE 
 FRIENDS
LOCATION:Martinez Court 7
END:VEVENT
BEGIN:VEVENT
DTSTAMP:20260423T000000Z
UID:d72120cd-bdb0-46d4-9dc4-4d3412c2a453@ClaytonBocce
DTSTART;TZID=America/Los_Angeles:20260514T093000
DTEND;TZID=America/Los_Angeles:20260514T120000
STATUS:CONFIRMED
SUMMARY:BOCCE GUYS vs BOCCE PER SEMPRE
URL:/League/Schedule/3147
DESCRIPTION:Regular Season match: BOCCE GUYS vs BOCCE PER SE
 MPRE
LOCATION:Martinez Court 10
END:VEVENT
BEGIN:VEVENT
DTSTAMP:20260423T000000Z
UID:f535af5b-cc21-4a93-b906-5e2284864b1e@ClaytonBocce
DTSTART;TZID=America/Los_Angeles:20260521T093000
DTEND;TZID=America/Los_Angeles:20260521T120000
STATUS:CONFIRMED
SUMMARY:BOCCE GUYS vs BALLS O' FYRE
URL:/League/Schedule/3147
DESCRIPTION:Regular Season match: BOCCE GUYS vs BALLS O' FYR
 E
LOCATION:Martinez Court 14
END:VEVENT
BEGIN:VEVENT
DTSTAMP:20260423T000000Z
UID:70bc2d03-fcce-4ce1-a137-481582def4ab@ClaytonBocce
DTSTART;TZID=America/Los_Angeles:20260528T093000
DTEND;TZID=America/Los_Angeles:20260528T120000
STATUS:CONFIRMED
SUMMARY:BOCCE GUYS vs BOCCE CHAMPIONS
URL:/League/Schedule/3147
DESCRIPTION:Regular Season match: BOCCE GUYS vs BOCCE CHAMPI
 ONS
LOCATION:Martinez Court 13
END:VEVENT
BEGIN:VEVENT
DTSTAMP:20260423T000000Z
UID:d360cd35-8be5-4e17-8104-f1376571f7cf@ClaytonBocce
DTSTART;TZID=America/Los_Angeles:20260604T093000
DTEND;TZID=America/Los_Angeles:20260604T120000
STATUS:CONFIRMED
SUMMARY:BOCCE GUYS vs VFW POST 1351
URL:/League/Schedule/3147
DESCRIPTION:Regular Season match: BOCCE GUYS vs VFW POST 135
 1
LOCATION:Martinez Court 5
END:VEVENT
BEGIN:VEVENT
DTSTAMP:20260423T000000Z
UID:15b22cb6-d44c-4ae0-9ea0-198991742c4d@ClaytonBocce
DTSTART;TZID=America/Los_Angeles:20260618T093000
DTEND;TZID=America/Los_Angeles:20260618T120000
STATUS:CONFIRMED
SUMMARY:BOCCE GUYS vs BOCCE FRIENDS
URL:/League/Schedule/3147
DESCRIPTION:Regular Season match: BOCCE GUYS vs BOCCE FRIEND
 S
LOCATION:Martinez Court 11
END:VEVENT
BEGIN:VEVENT
DTSTAMP:20260423T000000Z
UID:9f25031f-d9d8-4fc1-9a66-1af64e3449c2@ClaytonBocce
DTSTART;TZID=America/Los_Angeles:20260625T093000
DTEND;TZID=America/Los_Angeles:20260625T120000
STATUS:CONFIRMED
SUMMARY:BOCCE GUYS vs JAZZY BOCCE FRIENDS
URL:/League/Schedule/3147
DESCRIPTION:Regular Season match: BOCCE GUYS vs JAZZY BOCCE 
 FRIENDS
LOCATION:Martinez Court 8
END:VEVENT
BEGIN:VEVENT
DTSTAMP:20260423T000000Z
UID:c5c96dcb-5cb0-4138-b568-40df680b9305@ClaytonBocce
DTSTART;TZID=America/Los_Angeles:20260709T093000
DTEND;TZID=America/Los_Angeles:20260709T120000
STATUS:CONFIRMED
SUMMARY:BOCCE GUYS vs BOCCE PER SEMPRE
URL:/League/Schedule/3147
DESCRIPTION:Regular Season match: BOCCE GUYS vs BOCCE PER SE
 MPRE
LOCATION:Martinez Court 15
END:VEVENT
BEGIN:VEVENT
DTSTAMP:20260423T000000Z
UID:e799a238-eed2-4129-901a-db17387f8e8b@ClaytonBocce
DTSTART;TZID=America/Los_Angeles:20260716T093000
DTEND;TZID=America/Los_Angeles:20260716T120000
STATUS:CONFIRMED
SUMMARY:BOCCE GUYS vs BALLS O' FYRE
URL:/League/Schedule/3147
DESCRIPTION:Regular Season match: BOCCE GUYS vs BALLS O' FYR
 E
LOCATION:Martinez Court 4
END:VEVENT
BEGIN:VEVENT
DTSTAMP:20260423T000000Z
UID:5916ec7a-b8b6-4461-8ace-7d8f0339bd4e@ClaytonBocce
DTSTART;TZID=America/Los_Angeles:20260723T093000
DTEND;TZID=America/Los_Angeles:20260723T120000
STATUS:CONFIRMED
SUMMARY:BOCCE GUYS vs BOCCE CHAMPIONS
URL:/League/Schedule/3147
DESCRIPTION:Regular Season match: BOCCE GUYS vs BOCCE CHAMPI
 ONS
LOCATION:Martinez Court 1
END:VEVENT
BEGIN:VEVENT
DTSTAMP:20260423T000000Z
UID:8c54dec9-afac-4ef7-9895-6d00104b21d1@ClaytonBocce
DTSTART;TZID=America/Los_Angeles:20260730T093000
DTEND;TZID=America/Los_Angeles:20260730T120000
STATUS:CONFIRMED
SUMMARY:BOCCE GUYS vs VFW POST 1351
URL:/League/Schedule/3147
DESCRIPTION:Regular Season match: BOCCE GUYS vs VFW POST 135
 1
LOCATION:Martinez Court 9
END:VEVENT
BEGIN:VEVENT
DTSTAMP:20260423T000000Z
UID:993efcaf-8dbf-4d7c-9527-08f874e9d915@ClaytonBocce
DTSTART;TZID=America/Los_Angeles:20260813T093000
DTEND;TZID=America/Los_Angeles:20260813T120000
STATUS:CONFIRMED
SUMMARY:BOCCE GUYS vs BOCCE FRIENDS
URL:/League/Schedule/3147
DESCRIPTION:Regular Season match: BOCCE GUYS vs BOCCE FRIEND
 S
LOCATION:Martinez Court 10
END:VEVENT
BEGIN:VEVENT
DTSTAMP:20260423T000000Z
UID:29c3b28b-a360-45e5-a699-fb7c57f5cbe6@ClaytonBocce
DTSTART;TZID=America/Los_Angeles:20260820T093000
DTEND;TZID=America/Los_Angeles:20260820T120000
STATUS:CONFIRMED
SUMMARY:BOCCE GUYS vs JAZZY BOCCE FRIENDS
URL:/League/Schedule/3147
DESCRIPTION:Regular Season match: BOCCE GUYS vs JAZZY BOCCE 
 FRIENDS
LOCATION:Martinez Court 7
END:VEVENT
BEGIN:VEVENT
DTSTAMP:20260423T000000Z
UID:c643e4b1-366e-4acd-874f-059ca0233a4d@ClaytonBocce
DTSTART;TZID=America/Los_Angeles:20260827T093000
DTEND;TZID=America/Los_Angeles:20260827T120000
STATUS:CONFIRMED
SUMMARY:BOCCE GUYS vs BOCCE PER SEMPRE
URL:/League/Schedule/3147
DESCRIPTION:Regular Season match: BOCCE GUYS vs BOCCE PER SE
 MPRE
LOCATION:Martinez Court 3
END:VEVENT
BEGIN:VEVENT
DTSTAMP:20260423T000000Z
UID:08af3dfd-b64a-4895-a0fe-83f9920d79e5@ClaytonBocce
DTSTART;TZID=America/Los_Angeles:20260903T093000
DTEND;TZID=America/Los_Angeles:20260903T120000
STATUS:CONFIRMED
SUMMARY:BOCCE GUYS vs BALLS O' FYRE
URL:/League/Schedule/3147
DESCRIPTION:Regular Season match: BOCCE GUYS vs BALLS O' FYR
 E
LOCATION:Martinez Court 12
END:VEVENT
BEGIN:VEVENT
DTSTAMP:20260423T000000Z
UID:b8d925ef-cafe-44dd-ac31-db440c773200@ClaytonBocce
DTSTART;TZID=America/Los_Angeles:20260910T093000
DTEND;TZID=America/Los_Angeles:20260910T120000
STATUS:CONFIRMED
SUMMARY:BOCCE GUYS vs BOCCE CHAMPIONS
URL:/League/Schedule/3147
DESCRIPTION:Regular Season match: BOCCE GUYS vs BOCCE CHAMPI
 ONS
LOCATION:Martinez Court 11
END:VEVENT
BEGIN:VEVENT
DTSTAMP:20260423T000000Z
UID:667ae8e3-c94e-4c47-9eea-87fadc051b84@ClaytonBocce
DTSTART;TZID=America/Los_Angeles:20260917T093000
DTEND;TZID=America/Los_Angeles:20260917T120000
STATUS:CONFIRMED
SUMMARY:BOCCE GUYS vs VFW POST 1351
URL:/League/Schedule/3147
DESCRIPTION:Regular Season match: BOCCE GUYS vs VFW POST 135
 1
LOCATION:Martinez Court 6
END:VEVENT
END:VCALENDAR
