BEGIN:VCALENDAR
VERSION:2.0
PRODID:-//Clayton Bocce League
METHOD:PUBLISH
BEGIN:VTIMEZONE
TZID:America/Los_Angeles
X-LIC-LOCATION:America/Los_Angeles
BEGIN:DAYLIGHT
TZOFFSETFROM:-0800
TZOFFSETTO:-0700
TZNAME:PDT
DTSTART:20070311T020000
RRULE:FREQ=YEARLY;BYMONTH=3;BYDAY=2SU
END:DAYLIGHT
BEGIN:STANDARD
TZOFFSETFROM:-0700
TZOFFSETTO:-0800
TZNAME:PST
DTSTART:20071104T020000
RRULE:FREQ=YEARLY;BYMONTH=11;BYDAY=1SU
END:STANDARD
END:VTIMEZONE
BEGIN:VEVENT
DTSTAMP:20260423T000000Z
UID:11de996d-3f1e-4ebc-b662-ccda1041cb5f@ClaytonBocce
DTSTART;TZID=America/Los_Angeles:20260423T093000
DTEND;TZID=America/Los_Angeles:20260423T120000
STATUS:CONFIRMED
SUMMARY:BOCCE FRIENDS vs JAZZY BOCCE FRIENDS
URL:/League/Schedule/3144
DESCRIPTION:Regular Season match: BOCCE FRIENDS vs JAZZY BOC
 CE FRIENDS
LOCATION:Martinez Court 12
END:VEVENT
BEGIN:VEVENT
DTSTAMP:20260423T000000Z
UID:fa901306-c3fd-4ced-8d2b-891cc7b21079@ClaytonBocce
DTSTART;TZID=America/Los_Angeles:20260430T093000
DTEND;TZID=America/Los_Angeles:20260430T120000
STATUS:CONFIRMED
SUMMARY:BOCCE FRIENDS vs BOCCE GUYS
URL:/League/Schedule/3144
DESCRIPTION:Regular Season match: BOCCE FRIENDS vs BOCCE GUY
 S
LOCATION:Martinez Court 2
END:VEVENT
BEGIN:VEVENT
DTSTAMP:20260423T000000Z
UID:dfee41ef-9c02-4060-992f-323735581112@ClaytonBocce
DTSTART;TZID=America/Los_Angeles:20260507T093000
DTEND;TZID=America/Los_Angeles:20260507T120000
STATUS:CONFIRMED
SUMMARY:BOCCE FRIENDS vs BOCCE CHAMPIONS
URL:/League/Schedule/3144
DESCRIPTION:Regular Season match: BOCCE FRIENDS vs BOCCE CHA
 MPIONS
LOCATION:Martinez Court 5
END:VEVENT
BEGIN:VEVENT
DTSTAMP:20260423T000000Z
UID:ff7631af-6f10-472f-892f-2261a854e04a@ClaytonBocce
DTSTART;TZID=America/Los_Angeles:20260521T093000
DTEND;TZID=America/Los_Angeles:20260521T120000
STATUS:CONFIRMED
SUMMARY:BOCCE FRIENDS vs VFW POST 1351
URL:/League/Schedule/3144
DESCRIPTION:Regular Season match: BOCCE FRIENDS vs VFW POST 
 1351
LOCATION:Martinez Court 13
END:VEVENT
BEGIN:VEVENT
DTSTAMP:20260423T000000Z
UID:12dbc54f-8417-453d-94f1-f1147b51ab8b@ClaytonBocce
DTSTART;TZID=America/Los_Angeles:20260528T093000
DTEND;TZID=America/Los_Angeles:20260528T120000
STATUS:CONFIRMED
SUMMARY:BOCCE FRIENDS vs BALLS O' FYRE
URL:/League/Schedule/3144
DESCRIPTION:Regular Season match: BOCCE FRIENDS vs BALLS O' 
 FYRE
LOCATION:Martinez Court 15
END:VEVENT
BEGIN:VEVENT
DTSTAMP:20260423T000000Z
UID:bffa15f6-3028-4ac7-a4fc-0ce509d6790e@ClaytonBocce
DTSTART;TZID=America/Los_Angeles:20260604T093000
DTEND;TZID=America/Los_Angeles:20260604T120000
STATUS:CONFIRMED
SUMMARY:BOCCE FRIENDS vs BOCCE PER SEMPRE
URL:/League/Schedule/3144
DESCRIPTION:Regular Season match: BOCCE FRIENDS vs BOCCE PER
  SEMPRE
LOCATION:Martinez Court 4
END:VEVENT
BEGIN:VEVENT
DTSTAMP:20260423T000000Z
UID:27d7b433-9dcd-405f-9c76-1b7f8b97fe11@ClaytonBocce
DTSTART;TZID=America/Los_Angeles:20260611T093000
DTEND;TZID=America/Los_Angeles:20260611T120000
STATUS:CONFIRMED
SUMMARY:BOCCE FRIENDS vs JAZZY BOCCE FRIENDS
URL:/League/Schedule/3144
DESCRIPTION:Regular Season match: BOCCE FRIENDS vs JAZZY BOC
 CE FRIENDS
LOCATION:Martinez Court 10
END:VEVENT
BEGIN:VEVENT
DTSTAMP:20260423T000000Z
UID:15b22cb6-d44c-4ae0-9ea0-198991742c4d@ClaytonBocce
DTSTART;TZID=America/Los_Angeles:20260618T093000
DTEND;TZID=America/Los_Angeles:20260618T120000
STATUS:CONFIRMED
SUMMARY:BOCCE FRIENDS vs BOCCE GUYS
URL:/League/Schedule/3144
DESCRIPTION:Regular Season match: BOCCE FRIENDS vs BOCCE GUY
 S
LOCATION:Martinez Court 11
END:VEVENT
BEGIN:VEVENT
DTSTAMP:20260423T000000Z
UID:3042ad75-e022-4ea6-9bfe-bc8e57045170@ClaytonBocce
DTSTART;TZID=America/Los_Angeles:20260625T093000
DTEND;TZID=America/Los_Angeles:20260625T120000
STATUS:CONFIRMED
SUMMARY:BOCCE FRIENDS vs BOCCE CHAMPIONS
URL:/League/Schedule/3144
DESCRIPTION:Regular Season match: BOCCE FRIENDS vs BOCCE CHA
 MPIONS
LOCATION:Martinez Court 7
END:VEVENT
BEGIN:VEVENT
DTSTAMP:20260423T000000Z
UID:2738ca0a-9b05-44d2-8b6e-2a02d34b7fa0@ClaytonBocce
DTSTART;TZID=America/Los_Angeles:20260716T093000
DTEND;TZID=America/Los_Angeles:20260716T120000
STATUS:CONFIRMED
SUMMARY:BOCCE FRIENDS vs VFW POST 1351
URL:/League/Schedule/3144
DESCRIPTION:Regular Season match: BOCCE FRIENDS vs VFW POST 
 1351
LOCATION:Martinez Court 3
END:VEVENT
BEGIN:VEVENT
DTSTAMP:20260423T000000Z
UID:5e6a6ab5-9fd2-45b3-a091-f067583a1f8b@ClaytonBocce
DTSTART;TZID=America/Los_Angeles:20260723T093000
DTEND;TZID=America/Los_Angeles:20260723T120000
STATUS:CONFIRMED
SUMMARY:BOCCE FRIENDS vs BALLS O' FYRE
URL:/League/Schedule/3144
DESCRIPTION:Regular Season match: BOCCE FRIENDS vs BALLS O' 
 FYRE
LOCATION:Martinez Court 8
END:VEVENT
BEGIN:VEVENT
DTSTAMP:20260423T000000Z
UID:a0261f21-e93a-4784-893b-bc8a648954b5@ClaytonBocce
DTSTART;TZID=America/Los_Angeles:20260730T093000
DTEND;TZID=America/Los_Angeles:20260730T120000
STATUS:CONFIRMED
SUMMARY:BOCCE FRIENDS vs BOCCE PER SEMPRE
URL:/League/Schedule/3144
DESCRIPTION:Regular Season match: BOCCE FRIENDS vs BOCCE PER
  SEMPRE
LOCATION:Martinez Court 6
END:VEVENT
BEGIN:VEVENT
DTSTAMP:20260423T000000Z
UID:51aca501-e545-4da9-a285-9924322ef442@ClaytonBocce
DTSTART;TZID=America/Los_Angeles:20260806T093000
DTEND;TZID=America/Los_Angeles:20260806T120000
STATUS:CONFIRMED
SUMMARY:BOCCE FRIENDS vs JAZZY BOCCE FRIENDS
URL:/League/Schedule/3144
DESCRIPTION:Regular Season match: BOCCE FRIENDS vs JAZZY BOC
 CE FRIENDS
LOCATION:Martinez Court 1
END:VEVENT
BEGIN:VEVENT
DTSTAMP:20260423T000000Z
UID:993efcaf-8dbf-4d7c-9527-08f874e9d915@ClaytonBocce
DTSTART;TZID=America/Los_Angeles:20260813T093000
DTEND;TZID=America/Los_Angeles:20260813T120000
STATUS:CONFIRMED
SUMMARY:BOCCE FRIENDS vs BOCCE GUYS
URL:/League/Schedule/3144
DESCRIPTION:Regular Season match: BOCCE FRIENDS vs BOCCE GUY
 S
LOCATION:Martinez Court 10
END:VEVENT
BEGIN:VEVENT
DTSTAMP:20260423T000000Z
UID:418aeaf5-2114-47dd-ba4f-61759db30765@ClaytonBocce
DTSTART;TZID=America/Los_Angeles:20260820T093000
DTEND;TZID=America/Los_Angeles:20260820T120000
STATUS:CONFIRMED
SUMMARY:BOCCE FRIENDS vs BOCCE CHAMPIONS
URL:/League/Schedule/3144
DESCRIPTION:Regular Season match: BOCCE FRIENDS vs BOCCE CHA
 MPIONS
LOCATION:Martinez Court 9
END:VEVENT
BEGIN:VEVENT
DTSTAMP:20260423T000000Z
UID:be3ab2c5-0b57-4d0f-8fe2-481cb9ce2617@ClaytonBocce
DTSTART;TZID=America/Los_Angeles:20260903T093000
DTEND;TZID=America/Los_Angeles:20260903T120000
STATUS:CONFIRMED
SUMMARY:BOCCE FRIENDS vs VFW POST 1351
URL:/League/Schedule/3144
DESCRIPTION:Regular Season match: BOCCE FRIENDS vs VFW POST 
 1351
LOCATION:Martinez Court 8
END:VEVENT
BEGIN:VEVENT
DTSTAMP:20260423T000000Z
UID:c01e4bcb-9fc5-4adb-964e-1455cef4f173@ClaytonBocce
DTSTART;TZID=America/Los_Angeles:20260910T093000
DTEND;TZID=America/Los_Angeles:20260910T120000
STATUS:CONFIRMED
SUMMARY:BOCCE FRIENDS vs BALLS O' FYRE
URL:/League/Schedule/3144
DESCRIPTION:Regular Season match: BOCCE FRIENDS vs BALLS O' 
 FYRE
LOCATION:Martinez Court 4
END:VEVENT
BEGIN:VEVENT
DTSTAMP:20260423T000000Z
UID:c9f238bd-499a-4504-8662-ae5328b981b3@ClaytonBocce
DTSTART;TZID=America/Los_Angeles:20260917T093000
DTEND;TZID=America/Los_Angeles:20260917T120000
STATUS:CONFIRMED
SUMMARY:BOCCE FRIENDS vs BOCCE PER SEMPRE
URL:/League/Schedule/3144
DESCRIPTION:Regular Season match: BOCCE FRIENDS vs BOCCE PER
  SEMPRE
LOCATION:Martinez Court 14
END:VEVENT
END:VCALENDAR
