BEGIN:VCALENDAR
VERSION:2.0
PRODID:-//Clayton Bocce League
METHOD:PUBLISH
BEGIN:VTIMEZONE
TZID:America/Los_Angeles
X-LIC-LOCATION:America/Los_Angeles
BEGIN:DAYLIGHT
TZOFFSETFROM:-0800
TZOFFSETTO:-0700
TZNAME:PDT
DTSTART:20070311T020000
RRULE:FREQ=YEARLY;BYMONTH=3;BYDAY=2SU
END:DAYLIGHT
BEGIN:STANDARD
TZOFFSETFROM:-0700
TZOFFSETTO:-0800
TZNAME:PST
DTSTART:20071104T020000
RRULE:FREQ=YEARLY;BYMONTH=11;BYDAY=1SU
END:STANDARD
END:VTIMEZONE
BEGIN:VEVENT
DTSTAMP:20260423T000000Z
UID:11de996d-3f1e-4ebc-b662-ccda1041cb5f@ClaytonBocce
DTSTART;TZID=America/Los_Angeles:20260423T093000
DTEND;TZID=America/Los_Angeles:20260423T120000
STATUS:CONFIRMED
SUMMARY:JAZZY BOCCE FRIENDS vs BOCCE FRIENDS
URL:/League/Schedule/3143
DESCRIPTION:Regular Season match: JAZZY BOCCE FRIENDS vs BOC
 CE FRIENDS
LOCATION:Martinez Court 12
END:VEVENT
BEGIN:VEVENT
DTSTAMP:20260423T000000Z
UID:f2c29fad-c697-496a-ac4a-77081b45f1c1@ClaytonBocce
DTSTART;TZID=America/Los_Angeles:20260430T093000
DTEND;TZID=America/Los_Angeles:20260430T120000
STATUS:CONFIRMED
SUMMARY:JAZZY BOCCE FRIENDS vs BOCCE PER SEMPRE
URL:/League/Schedule/3143
DESCRIPTION:Regular Season match: JAZZY BOCCE FRIENDS vs BOC
 CE PER SEMPRE
LOCATION:Martinez Court 1
END:VEVENT
BEGIN:VEVENT
DTSTAMP:20260423T000000Z
UID:e66302c7-c297-4bbd-884b-deb7a5fb811b@ClaytonBocce
DTSTART;TZID=America/Los_Angeles:20260507T093000
DTEND;TZID=America/Los_Angeles:20260507T120000
STATUS:CONFIRMED
SUMMARY:JAZZY BOCCE FRIENDS vs BOCCE GUYS
URL:/League/Schedule/3143
DESCRIPTION:Regular Season match: JAZZY BOCCE FRIENDS vs BOC
 CE GUYS
LOCATION:Martinez Court 7
END:VEVENT
BEGIN:VEVENT
DTSTAMP:20260423T000000Z
UID:9e0b0d75-abbb-4718-8d57-a3df5bf8febc@ClaytonBocce
DTSTART;TZID=America/Los_Angeles:20260514T093000
DTEND;TZID=America/Los_Angeles:20260514T120000
STATUS:CONFIRMED
SUMMARY:JAZZY BOCCE FRIENDS vs BOCCE CHAMPIONS
URL:/League/Schedule/3143
DESCRIPTION:Regular Season match: JAZZY BOCCE FRIENDS vs BOC
 CE CHAMPIONS
LOCATION:Martinez Court 9
END:VEVENT
BEGIN:VEVENT
DTSTAMP:20260423T000000Z
UID:3e753b8a-7d32-4883-9264-3a9d2a3922ee@ClaytonBocce
DTSTART;TZID=America/Los_Angeles:20260528T093000
DTEND;TZID=America/Los_Angeles:20260528T120000
STATUS:CONFIRMED
SUMMARY:JAZZY BOCCE FRIENDS vs VFW POST 1351
URL:/League/Schedule/3143
DESCRIPTION:Regular Season match: JAZZY BOCCE FRIENDS vs VFW
  POST 1351
LOCATION:Martinez Court 14
END:VEVENT
BEGIN:VEVENT
DTSTAMP:20260423T000000Z
UID:7e06be8d-1949-4661-8a5b-ed207d0b7845@ClaytonBocce
DTSTART;TZID=America/Los_Angeles:20260604T093000
DTEND;TZID=America/Los_Angeles:20260604T120000
STATUS:CONFIRMED
SUMMARY:JAZZY BOCCE FRIENDS vs BALLS O' FYRE
URL:/League/Schedule/3143
DESCRIPTION:Regular Season match: JAZZY BOCCE FRIENDS vs BAL
 LS O' FYRE
LOCATION:Martinez Court 13
END:VEVENT
BEGIN:VEVENT
DTSTAMP:20260423T000000Z
UID:27d7b433-9dcd-405f-9c76-1b7f8b97fe11@ClaytonBocce
DTSTART;TZID=America/Los_Angeles:20260611T093000
DTEND;TZID=America/Los_Angeles:20260611T120000
STATUS:CONFIRMED
SUMMARY:JAZZY BOCCE FRIENDS vs BOCCE FRIENDS
URL:/League/Schedule/3143
DESCRIPTION:Regular Season match: JAZZY BOCCE FRIENDS vs BOC
 CE FRIENDS
LOCATION:Martinez Court 10
END:VEVENT
BEGIN:VEVENT
DTSTAMP:20260423T000000Z
UID:a4a0c78e-ef31-4aa6-969c-0660c0f39d58@ClaytonBocce
DTSTART;TZID=America/Los_Angeles:20260618T093000
DTEND;TZID=America/Los_Angeles:20260618T120000
STATUS:CONFIRMED
SUMMARY:JAZZY BOCCE FRIENDS vs BOCCE PER SEMPRE
URL:/League/Schedule/3143
DESCRIPTION:Regular Season match: JAZZY BOCCE FRIENDS vs BOC
 CE PER SEMPRE
LOCATION:Martinez Court 3
END:VEVENT
BEGIN:VEVENT
DTSTAMP:20260423T000000Z
UID:9f25031f-d9d8-4fc1-9a66-1af64e3449c2@ClaytonBocce
DTSTART;TZID=America/Los_Angeles:20260625T093000
DTEND;TZID=America/Los_Angeles:20260625T120000
STATUS:CONFIRMED
SUMMARY:JAZZY BOCCE FRIENDS vs BOCCE GUYS
URL:/League/Schedule/3143
DESCRIPTION:Regular Season match: JAZZY BOCCE FRIENDS vs BOC
 CE GUYS
LOCATION:Martinez Court 8
END:VEVENT
BEGIN:VEVENT
DTSTAMP:20260423T000000Z
UID:8dbe116f-399d-456c-a34e-8fff7ea86821@ClaytonBocce
DTSTART;TZID=America/Los_Angeles:20260709T093000
DTEND;TZID=America/Los_Angeles:20260709T120000
STATUS:CONFIRMED
SUMMARY:JAZZY BOCCE FRIENDS vs BOCCE CHAMPIONS
URL:/League/Schedule/3143
DESCRIPTION:Regular Season match: JAZZY BOCCE FRIENDS vs BOC
 CE CHAMPIONS
LOCATION:Martinez Court 2
END:VEVENT
BEGIN:VEVENT
DTSTAMP:20260423T000000Z
UID:36f2c3d9-5dbd-424f-b0d7-d498da13a669@ClaytonBocce
DTSTART;TZID=America/Los_Angeles:20260723T093000
DTEND;TZID=America/Los_Angeles:20260723T120000
STATUS:CONFIRMED
SUMMARY:JAZZY BOCCE FRIENDS vs VFW POST 1351
URL:/League/Schedule/3143
DESCRIPTION:Regular Season match: JAZZY BOCCE FRIENDS vs VFW
  POST 1351
LOCATION:Martinez Court 6
END:VEVENT
BEGIN:VEVENT
DTSTAMP:20260423T000000Z
UID:c06c1cc0-9bf4-4e94-9628-50bd2ea165df@ClaytonBocce
DTSTART;TZID=America/Los_Angeles:20260730T093000
DTEND;TZID=America/Los_Angeles:20260730T120000
STATUS:CONFIRMED
SUMMARY:JAZZY BOCCE FRIENDS vs BALLS O' FYRE
URL:/League/Schedule/3143
DESCRIPTION:Regular Season match: JAZZY BOCCE FRIENDS vs BAL
 LS O' FYRE
LOCATION:Martinez Court 2
END:VEVENT
BEGIN:VEVENT
DTSTAMP:20260423T000000Z
UID:51aca501-e545-4da9-a285-9924322ef442@ClaytonBocce
DTSTART;TZID=America/Los_Angeles:20260806T093000
DTEND;TZID=America/Los_Angeles:20260806T120000
STATUS:CONFIRMED
SUMMARY:JAZZY BOCCE FRIENDS vs BOCCE FRIENDS
URL:/League/Schedule/3143
DESCRIPTION:Regular Season match: JAZZY BOCCE FRIENDS vs BOC
 CE FRIENDS
LOCATION:Martinez Court 1
END:VEVENT
BEGIN:VEVENT
DTSTAMP:20260423T000000Z
UID:e5be9433-5ad0-4cd8-8bc6-5dfa4ecf2ccd@ClaytonBocce
DTSTART;TZID=America/Los_Angeles:20260813T093000
DTEND;TZID=America/Los_Angeles:20260813T120000
STATUS:CONFIRMED
SUMMARY:JAZZY BOCCE FRIENDS vs BOCCE PER SEMPRE
URL:/League/Schedule/3143
DESCRIPTION:Regular Season match: JAZZY BOCCE FRIENDS vs BOC
 CE PER SEMPRE
LOCATION:Martinez Court 5
END:VEVENT
BEGIN:VEVENT
DTSTAMP:20260423T000000Z
UID:29c3b28b-a360-45e5-a699-fb7c57f5cbe6@ClaytonBocce
DTSTART;TZID=America/Los_Angeles:20260820T093000
DTEND;TZID=America/Los_Angeles:20260820T120000
STATUS:CONFIRMED
SUMMARY:JAZZY BOCCE FRIENDS vs BOCCE GUYS
URL:/League/Schedule/3143
DESCRIPTION:Regular Season match: JAZZY BOCCE FRIENDS vs BOC
 CE GUYS
LOCATION:Martinez Court 7
END:VEVENT
BEGIN:VEVENT
DTSTAMP:20260423T000000Z
UID:795ce22d-a00a-43d4-84c6-0e47796c4b8a@ClaytonBocce
DTSTART;TZID=America/Los_Angeles:20260827T093000
DTEND;TZID=America/Los_Angeles:20260827T120000
STATUS:CONFIRMED
SUMMARY:JAZZY BOCCE FRIENDS vs BOCCE CHAMPIONS
URL:/League/Schedule/3143
DESCRIPTION:Regular Season match: JAZZY BOCCE FRIENDS vs BOC
 CE CHAMPIONS
LOCATION:Martinez Court 8
END:VEVENT
BEGIN:VEVENT
DTSTAMP:20260423T000000Z
UID:12bfb32e-39e9-4e0f-b683-e900bdce1429@ClaytonBocce
DTSTART;TZID=America/Los_Angeles:20260910T093000
DTEND;TZID=America/Los_Angeles:20260910T120000
STATUS:CONFIRMED
SUMMARY:JAZZY BOCCE FRIENDS vs VFW POST 1351
URL:/League/Schedule/3143
DESCRIPTION:Regular Season match: JAZZY BOCCE FRIENDS vs VFW
  POST 1351
LOCATION:Martinez Court 15
END:VEVENT
BEGIN:VEVENT
DTSTAMP:20260423T000000Z
UID:a91b0350-4de7-4e04-affc-0d17c404cf35@ClaytonBocce
DTSTART;TZID=America/Los_Angeles:20260917T093000
DTEND;TZID=America/Los_Angeles:20260917T120000
STATUS:CONFIRMED
SUMMARY:JAZZY BOCCE FRIENDS vs BALLS O' FYRE
URL:/League/Schedule/3143
DESCRIPTION:Regular Season match: JAZZY BOCCE FRIENDS vs BAL
 LS O' FYRE
LOCATION:Martinez Court 10
END:VEVENT
END:VCALENDAR
