BEGIN:VCALENDAR
VERSION:2.0
PRODID:-//Clayton Bocce League
METHOD:PUBLISH
BEGIN:VTIMEZONE
TZID:America/Los_Angeles
X-LIC-LOCATION:America/Los_Angeles
BEGIN:DAYLIGHT
TZOFFSETFROM:-0800
TZOFFSETTO:-0700
TZNAME:PDT
DTSTART:20070311T020000
RRULE:FREQ=YEARLY;BYMONTH=3;BYDAY=2SU
END:DAYLIGHT
BEGIN:STANDARD
TZOFFSETFROM:-0700
TZOFFSETTO:-0800
TZNAME:PST
DTSTART:20071104T020000
RRULE:FREQ=YEARLY;BYMONTH=11;BYDAY=1SU
END:STANDARD
END:VTIMEZONE
BEGIN:VEVENT
DTSTAMP:20260423T000000Z
UID:2bb663f0-0269-4629-acc4-01d3e69ca5d4@ClaytonBocce
DTSTART;TZID=America/Los_Angeles:20260423T093000
DTEND;TZID=America/Los_Angeles:20260423T120000
STATUS:CONFIRMED
SUMMARY:BOCCE PER SEMPRE vs VFW POST 1351
URL:/League/Schedule/3142
DESCRIPTION:Regular Season match: BOCCE PER SEMPRE vs VFW PO
 ST 1351
LOCATION:Martinez Court 11
END:VEVENT
BEGIN:VEVENT
DTSTAMP:20260423T000000Z
UID:f2c29fad-c697-496a-ac4a-77081b45f1c1@ClaytonBocce
DTSTART;TZID=America/Los_Angeles:20260430T093000
DTEND;TZID=America/Los_Angeles:20260430T120000
STATUS:CONFIRMED
SUMMARY:BOCCE PER SEMPRE vs JAZZY BOCCE FRIENDS
URL:/League/Schedule/3142
DESCRIPTION:Regular Season match: BOCCE PER SEMPRE vs JAZZY 
 BOCCE FRIENDS
LOCATION:Martinez Court 1
END:VEVENT
BEGIN:VEVENT
DTSTAMP:20260423T000000Z
UID:12dc419d-789f-4403-804c-69e6a2cfdbd3@ClaytonBocce
DTSTART;TZID=America/Los_Angeles:20260507T093000
DTEND;TZID=America/Los_Angeles:20260507T120000
STATUS:CONFIRMED
SUMMARY:BOCCE PER SEMPRE vs BALLS O' FYRE
URL:/League/Schedule/3142
DESCRIPTION:Regular Season match: BOCCE PER SEMPRE vs BALLS 
 O' FYRE
LOCATION:Martinez Court 6
END:VEVENT
BEGIN:VEVENT
DTSTAMP:20260423T000000Z
UID:d72120cd-bdb0-46d4-9dc4-4d3412c2a453@ClaytonBocce
DTSTART;TZID=America/Los_Angeles:20260514T093000
DTEND;TZID=America/Los_Angeles:20260514T120000
STATUS:CONFIRMED
SUMMARY:BOCCE PER SEMPRE vs BOCCE GUYS
URL:/League/Schedule/3142
DESCRIPTION:Regular Season match: BOCCE PER SEMPRE vs BOCCE 
 GUYS
LOCATION:Martinez Court 10
END:VEVENT
BEGIN:VEVENT
DTSTAMP:20260423T000000Z
UID:c26933e8-ae18-481d-95bc-f3ed4dc3bb21@ClaytonBocce
DTSTART;TZID=America/Los_Angeles:20260521T093000
DTEND;TZID=America/Los_Angeles:20260521T120000
STATUS:CONFIRMED
SUMMARY:BOCCE PER SEMPRE vs BOCCE CHAMPIONS
URL:/League/Schedule/3142
DESCRIPTION:Regular Season match: BOCCE PER SEMPRE vs BOCCE 
 CHAMPIONS
LOCATION:Martinez Court 12
END:VEVENT
BEGIN:VEVENT
DTSTAMP:20260423T000000Z
UID:bffa15f6-3028-4ac7-a4fc-0ce509d6790e@ClaytonBocce
DTSTART;TZID=America/Los_Angeles:20260604T093000
DTEND;TZID=America/Los_Angeles:20260604T120000
STATUS:CONFIRMED
SUMMARY:BOCCE PER SEMPRE vs BOCCE FRIENDS
URL:/League/Schedule/3142
DESCRIPTION:Regular Season match: BOCCE PER SEMPRE vs BOCCE 
 FRIENDS
LOCATION:Martinez Court 4
END:VEVENT
BEGIN:VEVENT
DTSTAMP:20260423T000000Z
UID:a4a13d3f-3c45-40d6-bc5d-bf9b60a2b402@ClaytonBocce
DTSTART;TZID=America/Los_Angeles:20260611T093000
DTEND;TZID=America/Los_Angeles:20260611T120000
STATUS:CONFIRMED
SUMMARY:BOCCE PER SEMPRE vs VFW POST 1351
URL:/League/Schedule/3142
DESCRIPTION:Regular Season match: BOCCE PER SEMPRE vs VFW PO
 ST 1351
LOCATION:Martinez Court 12
END:VEVENT
BEGIN:VEVENT
DTSTAMP:20260423T000000Z
UID:a4a0c78e-ef31-4aa6-969c-0660c0f39d58@ClaytonBocce
DTSTART;TZID=America/Los_Angeles:20260618T093000
DTEND;TZID=America/Los_Angeles:20260618T120000
STATUS:CONFIRMED
SUMMARY:BOCCE PER SEMPRE vs JAZZY BOCCE FRIENDS
URL:/League/Schedule/3142
DESCRIPTION:Regular Season match: BOCCE PER SEMPRE vs JAZZY 
 BOCCE FRIENDS
LOCATION:Martinez Court 3
END:VEVENT
BEGIN:VEVENT
DTSTAMP:20260423T000000Z
UID:73738a23-7317-431b-9ece-56e3d630d237@ClaytonBocce
DTSTART;TZID=America/Los_Angeles:20260625T093000
DTEND;TZID=America/Los_Angeles:20260625T120000
STATUS:CONFIRMED
SUMMARY:BOCCE PER SEMPRE vs BALLS O' FYRE
URL:/League/Schedule/3142
DESCRIPTION:Regular Season match: BOCCE PER SEMPRE vs BALLS 
 O' FYRE
LOCATION:Martinez Court 9
END:VEVENT
BEGIN:VEVENT
DTSTAMP:20260423T000000Z
UID:c5c96dcb-5cb0-4138-b568-40df680b9305@ClaytonBocce
DTSTART;TZID=America/Los_Angeles:20260709T093000
DTEND;TZID=America/Los_Angeles:20260709T120000
STATUS:CONFIRMED
SUMMARY:BOCCE PER SEMPRE vs BOCCE GUYS
URL:/League/Schedule/3142
DESCRIPTION:Regular Season match: BOCCE PER SEMPRE vs BOCCE 
 GUYS
LOCATION:Martinez Court 15
END:VEVENT
BEGIN:VEVENT
DTSTAMP:20260423T000000Z
UID:85066472-c39e-4554-897b-e27d58e0eb6b@ClaytonBocce
DTSTART;TZID=America/Los_Angeles:20260716T093000
DTEND;TZID=America/Los_Angeles:20260716T120000
STATUS:CONFIRMED
SUMMARY:BOCCE PER SEMPRE vs BOCCE CHAMPIONS
URL:/League/Schedule/3142
DESCRIPTION:Regular Season match: BOCCE PER SEMPRE vs BOCCE 
 CHAMPIONS
LOCATION:Martinez Court 14
END:VEVENT
BEGIN:VEVENT
DTSTAMP:20260423T000000Z
UID:a0261f21-e93a-4784-893b-bc8a648954b5@ClaytonBocce
DTSTART;TZID=America/Los_Angeles:20260730T093000
DTEND;TZID=America/Los_Angeles:20260730T120000
STATUS:CONFIRMED
SUMMARY:BOCCE PER SEMPRE vs BOCCE FRIENDS
URL:/League/Schedule/3142
DESCRIPTION:Regular Season match: BOCCE PER SEMPRE vs BOCCE 
 FRIENDS
LOCATION:Martinez Court 6
END:VEVENT
BEGIN:VEVENT
DTSTAMP:20260423T000000Z
UID:b94fbc50-d37e-494d-998b-1fcce743c7c7@ClaytonBocce
DTSTART;TZID=America/Los_Angeles:20260806T093000
DTEND;TZID=America/Los_Angeles:20260806T120000
STATUS:CONFIRMED
SUMMARY:BOCCE PER SEMPRE vs VFW POST 1351
URL:/League/Schedule/3142
DESCRIPTION:Regular Season match: BOCCE PER SEMPRE vs VFW PO
 ST 1351
LOCATION:Martinez Court 2
END:VEVENT
BEGIN:VEVENT
DTSTAMP:20260423T000000Z
UID:e5be9433-5ad0-4cd8-8bc6-5dfa4ecf2ccd@ClaytonBocce
DTSTART;TZID=America/Los_Angeles:20260813T093000
DTEND;TZID=America/Los_Angeles:20260813T120000
STATUS:CONFIRMED
SUMMARY:BOCCE PER SEMPRE vs JAZZY BOCCE FRIENDS
URL:/League/Schedule/3142
DESCRIPTION:Regular Season match: BOCCE PER SEMPRE vs JAZZY 
 BOCCE FRIENDS
LOCATION:Martinez Court 5
END:VEVENT
BEGIN:VEVENT
DTSTAMP:20260423T000000Z
UID:fb052af1-f026-4d75-abd5-cd8b854107e8@ClaytonBocce
DTSTART;TZID=America/Los_Angeles:20260820T093000
DTEND;TZID=America/Los_Angeles:20260820T120000
STATUS:CONFIRMED
SUMMARY:BOCCE PER SEMPRE vs BALLS O' FYRE
URL:/League/Schedule/3142
DESCRIPTION:Regular Season match: BOCCE PER SEMPRE vs BALLS 
 O' FYRE
LOCATION:Martinez Court 13
END:VEVENT
BEGIN:VEVENT
DTSTAMP:20260423T000000Z
UID:c643e4b1-366e-4acd-874f-059ca0233a4d@ClaytonBocce
DTSTART;TZID=America/Los_Angeles:20260827T093000
DTEND;TZID=America/Los_Angeles:20260827T120000
STATUS:CONFIRMED
SUMMARY:BOCCE PER SEMPRE vs BOCCE GUYS
URL:/League/Schedule/3142
DESCRIPTION:Regular Season match: BOCCE PER SEMPRE vs BOCCE 
 GUYS
LOCATION:Martinez Court 3
END:VEVENT
BEGIN:VEVENT
DTSTAMP:20260423T000000Z
UID:25a7a1cc-d660-4df0-873e-28dad26b9502@ClaytonBocce
DTSTART;TZID=America/Los_Angeles:20260903T093000
DTEND;TZID=America/Los_Angeles:20260903T120000
STATUS:CONFIRMED
SUMMARY:BOCCE PER SEMPRE vs BOCCE CHAMPIONS
URL:/League/Schedule/3142
DESCRIPTION:Regular Season match: BOCCE PER SEMPRE vs BOCCE 
 CHAMPIONS
LOCATION:Martinez Court 7
END:VEVENT
BEGIN:VEVENT
DTSTAMP:20260423T000000Z
UID:c9f238bd-499a-4504-8662-ae5328b981b3@ClaytonBocce
DTSTART;TZID=America/Los_Angeles:20260917T093000
DTEND;TZID=America/Los_Angeles:20260917T120000
STATUS:CONFIRMED
SUMMARY:BOCCE PER SEMPRE vs BOCCE FRIENDS
URL:/League/Schedule/3142
DESCRIPTION:Regular Season match: BOCCE PER SEMPRE vs BOCCE 
 FRIENDS
LOCATION:Martinez Court 14
END:VEVENT
END:VCALENDAR
