BEGIN:VCALENDAR
VERSION:2.0
PRODID:-//Clayton Bocce League
METHOD:PUBLISH
BEGIN:VTIMEZONE
TZID:America/Los_Angeles
X-LIC-LOCATION:America/Los_Angeles
BEGIN:DAYLIGHT
TZOFFSETFROM:-0800
TZOFFSETTO:-0700
TZNAME:PDT
DTSTART:20070311T020000
RRULE:FREQ=YEARLY;BYMONTH=3;BYDAY=2SU
END:DAYLIGHT
BEGIN:STANDARD
TZOFFSETFROM:-0700
TZOFFSETTO:-0800
TZNAME:PST
DTSTART:20071104T020000
RRULE:FREQ=YEARLY;BYMONTH=11;BYDAY=1SU
END:STANDARD
END:VTIMEZONE
BEGIN:VEVENT
DTSTAMP:20260423T000000Z
UID:2bb663f0-0269-4629-acc4-01d3e69ca5d4@ClaytonBocce
DTSTART;TZID=America/Los_Angeles:20260423T093000
DTEND;TZID=America/Los_Angeles:20260423T120000
STATUS:CONFIRMED
SUMMARY:VFW POST 1351 vs BOCCE PER SEMPRE
URL:/League/Schedule/3145
DESCRIPTION:Regular Season match: VFW POST 1351 vs BOCCE PER
  SEMPRE
LOCATION:Martinez Court 11
END:VEVENT
BEGIN:VEVENT
DTSTAMP:20260423T000000Z
UID:c22ca3da-e2ec-4317-b0a5-f194afbd6232@ClaytonBocce
DTSTART;TZID=America/Los_Angeles:20260430T093000
DTEND;TZID=America/Los_Angeles:20260430T120000
STATUS:CONFIRMED
SUMMARY:VFW POST 1351 vs BOCCE CHAMPIONS
URL:/League/Schedule/3145
DESCRIPTION:Regular Season match: VFW POST 1351 vs BOCCE CHA
 MPIONS
LOCATION:Martinez Court 15
END:VEVENT
BEGIN:VEVENT
DTSTAMP:20260423T000000Z
UID:50aec926-8c90-46fb-978b-5a3b4f9448d1@ClaytonBocce
DTSTART;TZID=America/Los_Angeles:20260514T093000
DTEND;TZID=America/Los_Angeles:20260514T120000
STATUS:CONFIRMED
SUMMARY:VFW POST 1351 vs BALLS O' FYRE
URL:/League/Schedule/3145
DESCRIPTION:Regular Season match: VFW POST 1351 vs BALLS O' 
 FYRE
LOCATION:Martinez Court 8
END:VEVENT
BEGIN:VEVENT
DTSTAMP:20260423T000000Z
UID:ff7631af-6f10-472f-892f-2261a854e04a@ClaytonBocce
DTSTART;TZID=America/Los_Angeles:20260521T093000
DTEND;TZID=America/Los_Angeles:20260521T120000
STATUS:CONFIRMED
SUMMARY:VFW POST 1351 vs BOCCE FRIENDS
URL:/League/Schedule/3145
DESCRIPTION:Regular Season match: VFW POST 1351 vs BOCCE FRI
 ENDS
LOCATION:Martinez Court 13
END:VEVENT
BEGIN:VEVENT
DTSTAMP:20260423T000000Z
UID:3e753b8a-7d32-4883-9264-3a9d2a3922ee@ClaytonBocce
DTSTART;TZID=America/Los_Angeles:20260528T093000
DTEND;TZID=America/Los_Angeles:20260528T120000
STATUS:CONFIRMED
SUMMARY:VFW POST 1351 vs JAZZY BOCCE FRIENDS
URL:/League/Schedule/3145
DESCRIPTION:Regular Season match: VFW POST 1351 vs JAZZY BOC
 CE FRIENDS
LOCATION:Martinez Court 14
END:VEVENT
BEGIN:VEVENT
DTSTAMP:20260423T000000Z
UID:d360cd35-8be5-4e17-8104-f1376571f7cf@ClaytonBocce
DTSTART;TZID=America/Los_Angeles:20260604T093000
DTEND;TZID=America/Los_Angeles:20260604T120000
STATUS:CONFIRMED
SUMMARY:VFW POST 1351 vs BOCCE GUYS
URL:/League/Schedule/3145
DESCRIPTION:Regular Season match: VFW POST 1351 vs BOCCE GUY
 S
LOCATION:Martinez Court 5
END:VEVENT
BEGIN:VEVENT
DTSTAMP:20260423T000000Z
UID:a4a13d3f-3c45-40d6-bc5d-bf9b60a2b402@ClaytonBocce
DTSTART;TZID=America/Los_Angeles:20260611T093000
DTEND;TZID=America/Los_Angeles:20260611T120000
STATUS:CONFIRMED
SUMMARY:VFW POST 1351 vs BOCCE PER SEMPRE
URL:/League/Schedule/3145
DESCRIPTION:Regular Season match: VFW POST 1351 vs BOCCE PER
  SEMPRE
LOCATION:Martinez Court 12
END:VEVENT
BEGIN:VEVENT
DTSTAMP:20260423T000000Z
UID:6c33da7e-1e44-4dd4-aa5a-dbccc830aa27@ClaytonBocce
DTSTART;TZID=America/Los_Angeles:20260618T093000
DTEND;TZID=America/Los_Angeles:20260618T120000
STATUS:CONFIRMED
SUMMARY:VFW POST 1351 vs BOCCE CHAMPIONS
URL:/League/Schedule/3145
DESCRIPTION:Regular Season match: VFW POST 1351 vs BOCCE CHA
 MPIONS
LOCATION:Martinez Court 1
END:VEVENT
BEGIN:VEVENT
DTSTAMP:20260423T000000Z
UID:9d358ad6-5cc7-497f-8b91-da57557ee811@ClaytonBocce
DTSTART;TZID=America/Los_Angeles:20260709T093000
DTEND;TZID=America/Los_Angeles:20260709T120000
STATUS:CONFIRMED
SUMMARY:VFW POST 1351 vs BALLS O' FYRE
URL:/League/Schedule/3145
DESCRIPTION:Regular Season match: VFW POST 1351 vs BALLS O' 
 FYRE
LOCATION:Martinez Court 1
END:VEVENT
BEGIN:VEVENT
DTSTAMP:20260423T000000Z
UID:2738ca0a-9b05-44d2-8b6e-2a02d34b7fa0@ClaytonBocce
DTSTART;TZID=America/Los_Angeles:20260716T093000
DTEND;TZID=America/Los_Angeles:20260716T120000
STATUS:CONFIRMED
SUMMARY:VFW POST 1351 vs BOCCE FRIENDS
URL:/League/Schedule/3145
DESCRIPTION:Regular Season match: VFW POST 1351 vs BOCCE FRI
 ENDS
LOCATION:Martinez Court 3
END:VEVENT
BEGIN:VEVENT
DTSTAMP:20260423T000000Z
UID:36f2c3d9-5dbd-424f-b0d7-d498da13a669@ClaytonBocce
DTSTART;TZID=America/Los_Angeles:20260723T093000
DTEND;TZID=America/Los_Angeles:20260723T120000
STATUS:CONFIRMED
SUMMARY:VFW POST 1351 vs JAZZY BOCCE FRIENDS
URL:/League/Schedule/3145
DESCRIPTION:Regular Season match: VFW POST 1351 vs JAZZY BOC
 CE FRIENDS
LOCATION:Martinez Court 6
END:VEVENT
BEGIN:VEVENT
DTSTAMP:20260423T000000Z
UID:8c54dec9-afac-4ef7-9895-6d00104b21d1@ClaytonBocce
DTSTART;TZID=America/Los_Angeles:20260730T093000
DTEND;TZID=America/Los_Angeles:20260730T120000
STATUS:CONFIRMED
SUMMARY:VFW POST 1351 vs BOCCE GUYS
URL:/League/Schedule/3145
DESCRIPTION:Regular Season match: VFW POST 1351 vs BOCCE GUY
 S
LOCATION:Martinez Court 9
END:VEVENT
BEGIN:VEVENT
DTSTAMP:20260423T000000Z
UID:b94fbc50-d37e-494d-998b-1fcce743c7c7@ClaytonBocce
DTSTART;TZID=America/Los_Angeles:20260806T093000
DTEND;TZID=America/Los_Angeles:20260806T120000
STATUS:CONFIRMED
SUMMARY:VFW POST 1351 vs BOCCE PER SEMPRE
URL:/League/Schedule/3145
DESCRIPTION:Regular Season match: VFW POST 1351 vs BOCCE PER
  SEMPRE
LOCATION:Martinez Court 2
END:VEVENT
BEGIN:VEVENT
DTSTAMP:20260423T000000Z
UID:7b93c6d3-101d-44c1-8c51-abd8c78ab77b@ClaytonBocce
DTSTART;TZID=America/Los_Angeles:20260813T093000
DTEND;TZID=America/Los_Angeles:20260813T120000
STATUS:CONFIRMED
SUMMARY:VFW POST 1351 vs BOCCE CHAMPIONS
URL:/League/Schedule/3145
DESCRIPTION:Regular Season match: VFW POST 1351 vs BOCCE CHA
 MPIONS
LOCATION:Martinez Court 4
END:VEVENT
BEGIN:VEVENT
DTSTAMP:20260423T000000Z
UID:d178c392-e9a5-451a-9e21-162aa51c3c10@ClaytonBocce
DTSTART;TZID=America/Los_Angeles:20260827T093000
DTEND;TZID=America/Los_Angeles:20260827T120000
STATUS:CONFIRMED
SUMMARY:VFW POST 1351 vs BALLS O' FYRE
URL:/League/Schedule/3145
DESCRIPTION:Regular Season match: VFW POST 1351 vs BALLS O' 
 FYRE
LOCATION:Martinez Court 7
END:VEVENT
BEGIN:VEVENT
DTSTAMP:20260423T000000Z
UID:be3ab2c5-0b57-4d0f-8fe2-481cb9ce2617@ClaytonBocce
DTSTART;TZID=America/Los_Angeles:20260903T093000
DTEND;TZID=America/Los_Angeles:20260903T120000
STATUS:CONFIRMED
SUMMARY:VFW POST 1351 vs BOCCE FRIENDS
URL:/League/Schedule/3145
DESCRIPTION:Regular Season match: VFW POST 1351 vs BOCCE FRI
 ENDS
LOCATION:Martinez Court 8
END:VEVENT
BEGIN:VEVENT
DTSTAMP:20260423T000000Z
UID:12bfb32e-39e9-4e0f-b683-e900bdce1429@ClaytonBocce
DTSTART;TZID=America/Los_Angeles:20260910T093000
DTEND;TZID=America/Los_Angeles:20260910T120000
STATUS:CONFIRMED
SUMMARY:VFW POST 1351 vs JAZZY BOCCE FRIENDS
URL:/League/Schedule/3145
DESCRIPTION:Regular Season match: VFW POST 1351 vs JAZZY BOC
 CE FRIENDS
LOCATION:Martinez Court 15
END:VEVENT
BEGIN:VEVENT
DTSTAMP:20260423T000000Z
UID:667ae8e3-c94e-4c47-9eea-87fadc051b84@ClaytonBocce
DTSTART;TZID=America/Los_Angeles:20260917T093000
DTEND;TZID=America/Los_Angeles:20260917T120000
STATUS:CONFIRMED
SUMMARY:VFW POST 1351 vs BOCCE GUYS
URL:/League/Schedule/3145
DESCRIPTION:Regular Season match: VFW POST 1351 vs BOCCE GUY
 S
LOCATION:Martinez Court 6
END:VEVENT
END:VCALENDAR
