BEGIN:VCALENDAR
VERSION:2.0
PRODID:-//Clayton Bocce League
METHOD:PUBLISH
BEGIN:VTIMEZONE
TZID:America/Los_Angeles
X-LIC-LOCATION:America/Los_Angeles
BEGIN:DAYLIGHT
TZOFFSETFROM:-0800
TZOFFSETTO:-0700
TZNAME:PDT
DTSTART:20070311T020000
RRULE:FREQ=YEARLY;BYMONTH=3;BYDAY=2SU
END:DAYLIGHT
BEGIN:STANDARD
TZOFFSETFROM:-0700
TZOFFSETTO:-0800
TZNAME:PST
DTSTART:20071104T020000
RRULE:FREQ=YEARLY;BYMONTH=11;BYDAY=1SU
END:STANDARD
END:VTIMEZONE
BEGIN:VEVENT
DTSTAMP:20260423T000000Z
UID:1cd7a543-0b29-440d-9809-afea747b2c30@ClaytonBocce
DTSTART;TZID=America/Los_Angeles:20260423T093000
DTEND;TZID=America/Los_Angeles:20260423T120000
STATUS:CONFIRMED
SUMMARY:BALLS O' FYRE vs BOCCE CHAMPIONS
URL:/League/Schedule/3146
DESCRIPTION:Regular Season match: BALLS O' FYRE vs BOCCE CHA
 MPIONS
LOCATION:Martinez Court 10
END:VEVENT
BEGIN:VEVENT
DTSTAMP:20260423T000000Z
UID:12dc419d-789f-4403-804c-69e6a2cfdbd3@ClaytonBocce
DTSTART;TZID=America/Los_Angeles:20260507T093000
DTEND;TZID=America/Los_Angeles:20260507T120000
STATUS:CONFIRMED
SUMMARY:BALLS O' FYRE vs BOCCE PER SEMPRE
URL:/League/Schedule/3146
DESCRIPTION:Regular Season match: BALLS O' FYRE vs BOCCE PER
  SEMPRE
LOCATION:Martinez Court 6
END:VEVENT
BEGIN:VEVENT
DTSTAMP:20260423T000000Z
UID:50aec926-8c90-46fb-978b-5a3b4f9448d1@ClaytonBocce
DTSTART;TZID=America/Los_Angeles:20260514T093000
DTEND;TZID=America/Los_Angeles:20260514T120000
STATUS:CONFIRMED
SUMMARY:BALLS O' FYRE vs VFW POST 1351
URL:/League/Schedule/3146
DESCRIPTION:Regular Season match: BALLS O' FYRE vs VFW POST 
 1351
LOCATION:Martinez Court 8
END:VEVENT
BEGIN:VEVENT
DTSTAMP:20260423T000000Z
UID:f535af5b-cc21-4a93-b906-5e2284864b1e@ClaytonBocce
DTSTART;TZID=America/Los_Angeles:20260521T093000
DTEND;TZID=America/Los_Angeles:20260521T120000
STATUS:CONFIRMED
SUMMARY:BALLS O' FYRE vs BOCCE GUYS
URL:/League/Schedule/3146
DESCRIPTION:Regular Season match: BALLS O' FYRE vs BOCCE GUY
 S
LOCATION:Martinez Court 14
END:VEVENT
BEGIN:VEVENT
DTSTAMP:20260423T000000Z
UID:12dbc54f-8417-453d-94f1-f1147b51ab8b@ClaytonBocce
DTSTART;TZID=America/Los_Angeles:20260528T093000
DTEND;TZID=America/Los_Angeles:20260528T120000
STATUS:CONFIRMED
SUMMARY:BALLS O' FYRE vs BOCCE FRIENDS
URL:/League/Schedule/3146
DESCRIPTION:Regular Season match: BALLS O' FYRE vs BOCCE FRI
 ENDS
LOCATION:Martinez Court 15
END:VEVENT
BEGIN:VEVENT
DTSTAMP:20260423T000000Z
UID:7e06be8d-1949-4661-8a5b-ed207d0b7845@ClaytonBocce
DTSTART;TZID=America/Los_Angeles:20260604T093000
DTEND;TZID=America/Los_Angeles:20260604T120000
STATUS:CONFIRMED
SUMMARY:BALLS O' FYRE vs JAZZY BOCCE FRIENDS
URL:/League/Schedule/3146
DESCRIPTION:Regular Season match: BALLS O' FYRE vs JAZZY BOC
 CE FRIENDS
LOCATION:Martinez Court 13
END:VEVENT
BEGIN:VEVENT
DTSTAMP:20260423T000000Z
UID:28571141-2b89-4410-b6ae-f7fb9bada9b7@ClaytonBocce
DTSTART;TZID=America/Los_Angeles:20260611T093000
DTEND;TZID=America/Los_Angeles:20260611T120000
STATUS:CONFIRMED
SUMMARY:BALLS O' FYRE vs BOCCE CHAMPIONS
URL:/League/Schedule/3146
DESCRIPTION:Regular Season match: BALLS O' FYRE vs BOCCE CHA
 MPIONS
LOCATION:Martinez Court 11
END:VEVENT
BEGIN:VEVENT
DTSTAMP:20260423T000000Z
UID:73738a23-7317-431b-9ece-56e3d630d237@ClaytonBocce
DTSTART;TZID=America/Los_Angeles:20260625T093000
DTEND;TZID=America/Los_Angeles:20260625T120000
STATUS:CONFIRMED
SUMMARY:BALLS O' FYRE vs BOCCE PER SEMPRE
URL:/League/Schedule/3146
DESCRIPTION:Regular Season match: BALLS O' FYRE vs BOCCE PER
  SEMPRE
LOCATION:Martinez Court 9
END:VEVENT
BEGIN:VEVENT
DTSTAMP:20260423T000000Z
UID:9d358ad6-5cc7-497f-8b91-da57557ee811@ClaytonBocce
DTSTART;TZID=America/Los_Angeles:20260709T093000
DTEND;TZID=America/Los_Angeles:20260709T120000
STATUS:CONFIRMED
SUMMARY:BALLS O' FYRE vs VFW POST 1351
URL:/League/Schedule/3146
DESCRIPTION:Regular Season match: BALLS O' FYRE vs VFW POST 
 1351
LOCATION:Martinez Court 1
END:VEVENT
BEGIN:VEVENT
DTSTAMP:20260423T000000Z
UID:e799a238-eed2-4129-901a-db17387f8e8b@ClaytonBocce
DTSTART;TZID=America/Los_Angeles:20260716T093000
DTEND;TZID=America/Los_Angeles:20260716T120000
STATUS:CONFIRMED
SUMMARY:BALLS O' FYRE vs BOCCE GUYS
URL:/League/Schedule/3146
DESCRIPTION:Regular Season match: BALLS O' FYRE vs BOCCE GUY
 S
LOCATION:Martinez Court 4
END:VEVENT
BEGIN:VEVENT
DTSTAMP:20260423T000000Z
UID:5e6a6ab5-9fd2-45b3-a091-f067583a1f8b@ClaytonBocce
DTSTART;TZID=America/Los_Angeles:20260723T093000
DTEND;TZID=America/Los_Angeles:20260723T120000
STATUS:CONFIRMED
SUMMARY:BALLS O' FYRE vs BOCCE FRIENDS
URL:/League/Schedule/3146
DESCRIPTION:Regular Season match: BALLS O' FYRE vs BOCCE FRI
 ENDS
LOCATION:Martinez Court 8
END:VEVENT
BEGIN:VEVENT
DTSTAMP:20260423T000000Z
UID:c06c1cc0-9bf4-4e94-9628-50bd2ea165df@ClaytonBocce
DTSTART;TZID=America/Los_Angeles:20260730T093000
DTEND;TZID=America/Los_Angeles:20260730T120000
STATUS:CONFIRMED
SUMMARY:BALLS O' FYRE vs JAZZY BOCCE FRIENDS
URL:/League/Schedule/3146
DESCRIPTION:Regular Season match: BALLS O' FYRE vs JAZZY BOC
 CE FRIENDS
LOCATION:Martinez Court 2
END:VEVENT
BEGIN:VEVENT
DTSTAMP:20260423T000000Z
UID:91213d79-53a2-4e59-b271-ff66facaaac9@ClaytonBocce
DTSTART;TZID=America/Los_Angeles:20260806T093000
DTEND;TZID=America/Los_Angeles:20260806T120000
STATUS:CONFIRMED
SUMMARY:BALLS O' FYRE vs BOCCE CHAMPIONS
URL:/League/Schedule/3146
DESCRIPTION:Regular Season match: BALLS O' FYRE vs BOCCE CHA
 MPIONS
LOCATION:Martinez Court 3
END:VEVENT
BEGIN:VEVENT
DTSTAMP:20260423T000000Z
UID:fb052af1-f026-4d75-abd5-cd8b854107e8@ClaytonBocce
DTSTART;TZID=America/Los_Angeles:20260820T093000
DTEND;TZID=America/Los_Angeles:20260820T120000
STATUS:CONFIRMED
SUMMARY:BALLS O' FYRE vs BOCCE PER SEMPRE
URL:/League/Schedule/3146
DESCRIPTION:Regular Season match: BALLS O' FYRE vs BOCCE PER
  SEMPRE
LOCATION:Martinez Court 13
END:VEVENT
BEGIN:VEVENT
DTSTAMP:20260423T000000Z
UID:d178c392-e9a5-451a-9e21-162aa51c3c10@ClaytonBocce
DTSTART;TZID=America/Los_Angeles:20260827T093000
DTEND;TZID=America/Los_Angeles:20260827T120000
STATUS:CONFIRMED
SUMMARY:BALLS O' FYRE vs VFW POST 1351
URL:/League/Schedule/3146
DESCRIPTION:Regular Season match: BALLS O' FYRE vs VFW POST 
 1351
LOCATION:Martinez Court 7
END:VEVENT
BEGIN:VEVENT
DTSTAMP:20260423T000000Z
UID:08af3dfd-b64a-4895-a0fe-83f9920d79e5@ClaytonBocce
DTSTART;TZID=America/Los_Angeles:20260903T093000
DTEND;TZID=America/Los_Angeles:20260903T120000
STATUS:CONFIRMED
SUMMARY:BALLS O' FYRE vs BOCCE GUYS
URL:/League/Schedule/3146
DESCRIPTION:Regular Season match: BALLS O' FYRE vs BOCCE GUY
 S
LOCATION:Martinez Court 12
END:VEVENT
BEGIN:VEVENT
DTSTAMP:20260423T000000Z
UID:c01e4bcb-9fc5-4adb-964e-1455cef4f173@ClaytonBocce
DTSTART;TZID=America/Los_Angeles:20260910T093000
DTEND;TZID=America/Los_Angeles:20260910T120000
STATUS:CONFIRMED
SUMMARY:BALLS O' FYRE vs BOCCE FRIENDS
URL:/League/Schedule/3146
DESCRIPTION:Regular Season match: BALLS O' FYRE vs BOCCE FRI
 ENDS
LOCATION:Martinez Court 4
END:VEVENT
BEGIN:VEVENT
DTSTAMP:20260423T000000Z
UID:a91b0350-4de7-4e04-affc-0d17c404cf35@ClaytonBocce
DTSTART;TZID=America/Los_Angeles:20260917T093000
DTEND;TZID=America/Los_Angeles:20260917T120000
STATUS:CONFIRMED
SUMMARY:BALLS O' FYRE vs JAZZY BOCCE FRIENDS
URL:/League/Schedule/3146
DESCRIPTION:Regular Season match: BALLS O' FYRE vs JAZZY BOC
 CE FRIENDS
LOCATION:Martinez Court 10
END:VEVENT
END:VCALENDAR
