BEGIN:VCALENDAR
VERSION:2.0
PRODID:-//Clayton Bocce League
METHOD:PUBLISH
BEGIN:VTIMEZONE
TZID:America/Los_Angeles
X-LIC-LOCATION:America/Los_Angeles
BEGIN:DAYLIGHT
TZOFFSETFROM:-0800
TZOFFSETTO:-0700
TZNAME:PDT
DTSTART:20070311T020000
RRULE:FREQ=YEARLY;BYMONTH=3;BYDAY=2SU
END:DAYLIGHT
BEGIN:STANDARD
TZOFFSETFROM:-0700
TZOFFSETTO:-0800
TZNAME:PST
DTSTART:20071104T020000
RRULE:FREQ=YEARLY;BYMONTH=11;BYDAY=1SU
END:STANDARD
END:VTIMEZONE
BEGIN:VEVENT
DTSTAMP:20260423T000000Z
UID:1cd7a543-0b29-440d-9809-afea747b2c30@ClaytonBocce
DTSTART;TZID=America/Los_Angeles:20260423T093000
DTEND;TZID=America/Los_Angeles:20260423T120000
STATUS:CONFIRMED
SUMMARY:BOCCE CHAMPIONS vs BALLS O' FYRE
URL:/League/Schedule/3141
DESCRIPTION:Regular Season match: BOCCE CHAMPIONS vs BALLS O
 ' FYRE
LOCATION:Martinez Court 10
END:VEVENT
BEGIN:VEVENT
DTSTAMP:20260423T000000Z
UID:c22ca3da-e2ec-4317-b0a5-f194afbd6232@ClaytonBocce
DTSTART;TZID=America/Los_Angeles:20260430T093000
DTEND;TZID=America/Los_Angeles:20260430T120000
STATUS:CONFIRMED
SUMMARY:BOCCE CHAMPIONS vs VFW POST 1351
URL:/League/Schedule/3141
DESCRIPTION:Regular Season match: BOCCE CHAMPIONS vs VFW POS
 T 1351
LOCATION:Martinez Court 15
END:VEVENT
BEGIN:VEVENT
DTSTAMP:20260423T000000Z
UID:dfee41ef-9c02-4060-992f-323735581112@ClaytonBocce
DTSTART;TZID=America/Los_Angeles:20260507T093000
DTEND;TZID=America/Los_Angeles:20260507T120000
STATUS:CONFIRMED
SUMMARY:BOCCE CHAMPIONS vs BOCCE FRIENDS
URL:/League/Schedule/3141
DESCRIPTION:Regular Season match: BOCCE CHAMPIONS vs BOCCE F
 RIENDS
LOCATION:Martinez Court 5
END:VEVENT
BEGIN:VEVENT
DTSTAMP:20260423T000000Z
UID:9e0b0d75-abbb-4718-8d57-a3df5bf8febc@ClaytonBocce
DTSTART;TZID=America/Los_Angeles:20260514T093000
DTEND;TZID=America/Los_Angeles:20260514T120000
STATUS:CONFIRMED
SUMMARY:BOCCE CHAMPIONS vs JAZZY BOCCE FRIENDS
URL:/League/Schedule/3141
DESCRIPTION:Regular Season match: BOCCE CHAMPIONS vs JAZZY B
 OCCE FRIENDS
LOCATION:Martinez Court 9
END:VEVENT
BEGIN:VEVENT
DTSTAMP:20260423T000000Z
UID:c26933e8-ae18-481d-95bc-f3ed4dc3bb21@ClaytonBocce
DTSTART;TZID=America/Los_Angeles:20260521T093000
DTEND;TZID=America/Los_Angeles:20260521T120000
STATUS:CONFIRMED
SUMMARY:BOCCE CHAMPIONS vs BOCCE PER SEMPRE
URL:/League/Schedule/3141
DESCRIPTION:Regular Season match: BOCCE CHAMPIONS vs BOCCE P
 ER SEMPRE
LOCATION:Martinez Court 12
END:VEVENT
BEGIN:VEVENT
DTSTAMP:20260423T000000Z
UID:70bc2d03-fcce-4ce1-a137-481582def4ab@ClaytonBocce
DTSTART;TZID=America/Los_Angeles:20260528T093000
DTEND;TZID=America/Los_Angeles:20260528T120000
STATUS:CONFIRMED
SUMMARY:BOCCE CHAMPIONS vs BOCCE GUYS
URL:/League/Schedule/3141
DESCRIPTION:Regular Season match: BOCCE CHAMPIONS vs BOCCE G
 UYS
LOCATION:Martinez Court 13
END:VEVENT
BEGIN:VEVENT
DTSTAMP:20260423T000000Z
UID:28571141-2b89-4410-b6ae-f7fb9bada9b7@ClaytonBocce
DTSTART;TZID=America/Los_Angeles:20260611T093000
DTEND;TZID=America/Los_Angeles:20260611T120000
STATUS:CONFIRMED
SUMMARY:BOCCE CHAMPIONS vs BALLS O' FYRE
URL:/League/Schedule/3141
DESCRIPTION:Regular Season match: BOCCE CHAMPIONS vs BALLS O
 ' FYRE
LOCATION:Martinez Court 11
END:VEVENT
BEGIN:VEVENT
DTSTAMP:20260423T000000Z
UID:6c33da7e-1e44-4dd4-aa5a-dbccc830aa27@ClaytonBocce
DTSTART;TZID=America/Los_Angeles:20260618T093000
DTEND;TZID=America/Los_Angeles:20260618T120000
STATUS:CONFIRMED
SUMMARY:BOCCE CHAMPIONS vs VFW POST 1351
URL:/League/Schedule/3141
DESCRIPTION:Regular Season match: BOCCE CHAMPIONS vs VFW POS
 T 1351
LOCATION:Martinez Court 1
END:VEVENT
BEGIN:VEVENT
DTSTAMP:20260423T000000Z
UID:3042ad75-e022-4ea6-9bfe-bc8e57045170@ClaytonBocce
DTSTART;TZID=America/Los_Angeles:20260625T093000
DTEND;TZID=America/Los_Angeles:20260625T120000
STATUS:CONFIRMED
SUMMARY:BOCCE CHAMPIONS vs BOCCE FRIENDS
URL:/League/Schedule/3141
DESCRIPTION:Regular Season match: BOCCE CHAMPIONS vs BOCCE F
 RIENDS
LOCATION:Martinez Court 7
END:VEVENT
BEGIN:VEVENT
DTSTAMP:20260423T000000Z
UID:8dbe116f-399d-456c-a34e-8fff7ea86821@ClaytonBocce
DTSTART;TZID=America/Los_Angeles:20260709T093000
DTEND;TZID=America/Los_Angeles:20260709T120000
STATUS:CONFIRMED
SUMMARY:BOCCE CHAMPIONS vs JAZZY BOCCE FRIENDS
URL:/League/Schedule/3141
DESCRIPTION:Regular Season match: BOCCE CHAMPIONS vs JAZZY B
 OCCE FRIENDS
LOCATION:Martinez Court 2
END:VEVENT
BEGIN:VEVENT
DTSTAMP:20260423T000000Z
UID:85066472-c39e-4554-897b-e27d58e0eb6b@ClaytonBocce
DTSTART;TZID=America/Los_Angeles:20260716T093000
DTEND;TZID=America/Los_Angeles:20260716T120000
STATUS:CONFIRMED
SUMMARY:BOCCE CHAMPIONS vs BOCCE PER SEMPRE
URL:/League/Schedule/3141
DESCRIPTION:Regular Season match: BOCCE CHAMPIONS vs BOCCE P
 ER SEMPRE
LOCATION:Martinez Court 14
END:VEVENT
BEGIN:VEVENT
DTSTAMP:20260423T000000Z
UID:5916ec7a-b8b6-4461-8ace-7d8f0339bd4e@ClaytonBocce
DTSTART;TZID=America/Los_Angeles:20260723T093000
DTEND;TZID=America/Los_Angeles:20260723T120000
STATUS:CONFIRMED
SUMMARY:BOCCE CHAMPIONS vs BOCCE GUYS
URL:/League/Schedule/3141
DESCRIPTION:Regular Season match: BOCCE CHAMPIONS vs BOCCE G
 UYS
LOCATION:Martinez Court 1
END:VEVENT
BEGIN:VEVENT
DTSTAMP:20260423T000000Z
UID:91213d79-53a2-4e59-b271-ff66facaaac9@ClaytonBocce
DTSTART;TZID=America/Los_Angeles:20260806T093000
DTEND;TZID=America/Los_Angeles:20260806T120000
STATUS:CONFIRMED
SUMMARY:BOCCE CHAMPIONS vs BALLS O' FYRE
URL:/League/Schedule/3141
DESCRIPTION:Regular Season match: BOCCE CHAMPIONS vs BALLS O
 ' FYRE
LOCATION:Martinez Court 3
END:VEVENT
BEGIN:VEVENT
DTSTAMP:20260423T000000Z
UID:7b93c6d3-101d-44c1-8c51-abd8c78ab77b@ClaytonBocce
DTSTART;TZID=America/Los_Angeles:20260813T093000
DTEND;TZID=America/Los_Angeles:20260813T120000
STATUS:CONFIRMED
SUMMARY:BOCCE CHAMPIONS vs VFW POST 1351
URL:/League/Schedule/3141
DESCRIPTION:Regular Season match: BOCCE CHAMPIONS vs VFW POS
 T 1351
LOCATION:Martinez Court 4
END:VEVENT
BEGIN:VEVENT
DTSTAMP:20260423T000000Z
UID:418aeaf5-2114-47dd-ba4f-61759db30765@ClaytonBocce
DTSTART;TZID=America/Los_Angeles:20260820T093000
DTEND;TZID=America/Los_Angeles:20260820T120000
STATUS:CONFIRMED
SUMMARY:BOCCE CHAMPIONS vs BOCCE FRIENDS
URL:/League/Schedule/3141
DESCRIPTION:Regular Season match: BOCCE CHAMPIONS vs BOCCE F
 RIENDS
LOCATION:Martinez Court 9
END:VEVENT
BEGIN:VEVENT
DTSTAMP:20260423T000000Z
UID:795ce22d-a00a-43d4-84c6-0e47796c4b8a@ClaytonBocce
DTSTART;TZID=America/Los_Angeles:20260827T093000
DTEND;TZID=America/Los_Angeles:20260827T120000
STATUS:CONFIRMED
SUMMARY:BOCCE CHAMPIONS vs JAZZY BOCCE FRIENDS
URL:/League/Schedule/3141
DESCRIPTION:Regular Season match: BOCCE CHAMPIONS vs JAZZY B
 OCCE FRIENDS
LOCATION:Martinez Court 8
END:VEVENT
BEGIN:VEVENT
DTSTAMP:20260423T000000Z
UID:25a7a1cc-d660-4df0-873e-28dad26b9502@ClaytonBocce
DTSTART;TZID=America/Los_Angeles:20260903T093000
DTEND;TZID=America/Los_Angeles:20260903T120000
STATUS:CONFIRMED
SUMMARY:BOCCE CHAMPIONS vs BOCCE PER SEMPRE
URL:/League/Schedule/3141
DESCRIPTION:Regular Season match: BOCCE CHAMPIONS vs BOCCE P
 ER SEMPRE
LOCATION:Martinez Court 7
END:VEVENT
BEGIN:VEVENT
DTSTAMP:20260423T000000Z
UID:b8d925ef-cafe-44dd-ac31-db440c773200@ClaytonBocce
DTSTART;TZID=America/Los_Angeles:20260910T093000
DTEND;TZID=America/Los_Angeles:20260910T120000
STATUS:CONFIRMED
SUMMARY:BOCCE CHAMPIONS vs BOCCE GUYS
URL:/League/Schedule/3141
DESCRIPTION:Regular Season match: BOCCE CHAMPIONS vs BOCCE G
 UYS
LOCATION:Martinez Court 11
END:VEVENT
END:VCALENDAR
