BEGIN:VCALENDAR
VERSION:2.0
PRODID:-//Clayton Bocce League
METHOD:PUBLISH
BEGIN:VTIMEZONE
TZID:America/Los_Angeles
X-LIC-LOCATION:America/Los_Angeles
BEGIN:DAYLIGHT
TZOFFSETFROM:-0800
TZOFFSETTO:-0700
TZNAME:PDT
DTSTART:20070311T020000
RRULE:FREQ=YEARLY;BYMONTH=3;BYDAY=2SU
END:DAYLIGHT
BEGIN:STANDARD
TZOFFSETFROM:-0700
TZOFFSETTO:-0800
TZNAME:PST
DTSTART:20071104T020000
RRULE:FREQ=YEARLY;BYMONTH=11;BYDAY=1SU
END:STANDARD
END:VTIMEZONE
BEGIN:VEVENT
DTSTAMP:20260423T000000Z
UID:d829cfe1-55e3-4fd6-ae13-af9cf880670f@ClaytonBocce
DTSTART;TZID=America/Los_Angeles:20260423T093000
DTEND;TZID=America/Los_Angeles:20260423T120000
STATUS:CONFIRMED
SUMMARY:TOE THE LINE vs JP BISTRO
URL:/League/Schedule/3137
DESCRIPTION:Regular Season match: TOE THE LINE vs JP BISTRO
LOCATION:Martinez Court 9
END:VEVENT
BEGIN:VEVENT
DTSTAMP:20260423T000000Z
UID:30b09d03-1c2a-4d51-8062-a43fa3f04a9e@ClaytonBocce
DTSTART;TZID=America/Los_Angeles:20260430T093000
DTEND;TZID=America/Los_Angeles:20260430T120000
STATUS:CONFIRMED
SUMMARY:TOE THE LINE vs BOCCIATORI
URL:/League/Schedule/3137
DESCRIPTION:Regular Season match: TOE THE LINE vs BOCCIATORI
LOCATION:Martinez Court 14
END:VEVENT
BEGIN:VEVENT
DTSTAMP:20260423T000000Z
UID:3de7dc3b-a89d-44ff-aa96-aa0016460dcb@ClaytonBocce
DTSTART;TZID=America/Los_Angeles:20260507T093000
DTEND;TZID=America/Los_Angeles:20260507T120000
STATUS:CONFIRMED
SUMMARY:TOE THE LINE vs BOCCE BENE
URL:/League/Schedule/3137
DESCRIPTION:Regular Season match: TOE THE LINE vs BOCCE BENE
LOCATION:Martinez Court 2
END:VEVENT
BEGIN:VEVENT
DTSTAMP:20260423T000000Z
UID:80073f40-a5bb-4924-9f06-550e970965f7@ClaytonBocce
DTSTART;TZID=America/Los_Angeles:20260521T093000
DTEND;TZID=America/Los_Angeles:20260521T120000
STATUS:CONFIRMED
SUMMARY:TOE THE LINE vs ZAPPERS
URL:/League/Schedule/3137
DESCRIPTION:Regular Season match: TOE THE LINE vs ZAPPERS
LOCATION:Martinez Court 10
END:VEVENT
BEGIN:VEVENT
DTSTAMP:20260423T000000Z
UID:cb34d7b7-5372-41d3-a8fc-e684f0326276@ClaytonBocce
DTSTART;TZID=America/Los_Angeles:20260528T093000
DTEND;TZID=America/Los_Angeles:20260528T120000
STATUS:CONFIRMED
SUMMARY:TOE THE LINE vs BOTCHEE 101
URL:/League/Schedule/3137
DESCRIPTION:Regular Season match: TOE THE LINE vs BOTCHEE 10
 1
LOCATION:Martinez Court 12
END:VEVENT
BEGIN:VEVENT
DTSTAMP:20260423T000000Z
UID:afae9efc-54c7-405d-9a20-5ac0db753d81@ClaytonBocce
DTSTART;TZID=America/Los_Angeles:20260604T093000
DTEND;TZID=America/Los_Angeles:20260604T120000
STATUS:CONFIRMED
SUMMARY:TOE THE LINE vs BESTIA D BOCCE
URL:/League/Schedule/3137
DESCRIPTION:Regular Season match: TOE THE LINE vs BESTIA D B
 OCCE
LOCATION:Martinez Court 1
END:VEVENT
BEGIN:VEVENT
DTSTAMP:20260423T000000Z
UID:dcde5cc6-5f0b-42f1-b39e-26b039dff552@ClaytonBocce
DTSTART;TZID=America/Los_Angeles:20260611T093000
DTEND;TZID=America/Los_Angeles:20260611T120000
STATUS:CONFIRMED
SUMMARY:TOE THE LINE vs JP BISTRO
URL:/League/Schedule/3137
DESCRIPTION:Regular Season match: TOE THE LINE vs JP BISTRO
LOCATION:Martinez Court 6
END:VEVENT
BEGIN:VEVENT
DTSTAMP:20260423T000000Z
UID:6b1ae242-b7b5-440a-986f-f005ef71266a@ClaytonBocce
DTSTART;TZID=America/Los_Angeles:20260618T093000
DTEND;TZID=America/Los_Angeles:20260618T120000
STATUS:CONFIRMED
SUMMARY:TOE THE LINE vs BOCCIATORI
URL:/League/Schedule/3137
DESCRIPTION:Regular Season match: TOE THE LINE vs BOCCIATORI
LOCATION:Martinez Court 15
END:VEVENT
BEGIN:VEVENT
DTSTAMP:20260423T000000Z
UID:15224763-856b-425f-a5d9-98cda76a4939@ClaytonBocce
DTSTART;TZID=America/Los_Angeles:20260625T093000
DTEND;TZID=America/Los_Angeles:20260625T120000
STATUS:CONFIRMED
SUMMARY:TOE THE LINE vs BOCCE BENE
URL:/League/Schedule/3137
DESCRIPTION:Regular Season match: TOE THE LINE vs BOCCE BENE
LOCATION:Martinez Court 4
END:VEVENT
BEGIN:VEVENT
DTSTAMP:20260423T000000Z
UID:773ed222-f661-4422-a474-b8b67b00e6ab@ClaytonBocce
DTSTART;TZID=America/Los_Angeles:20260716T093000
DTEND;TZID=America/Los_Angeles:20260716T120000
STATUS:CONFIRMED
SUMMARY:TOE THE LINE vs ZAPPERS
URL:/League/Schedule/3137
DESCRIPTION:Regular Season match: TOE THE LINE vs ZAPPERS
LOCATION:Martinez Court 1
END:VEVENT
BEGIN:VEVENT
DTSTAMP:20260423T000000Z
UID:b8029973-1f09-4567-b30c-0d6fd4fccdb7@ClaytonBocce
DTSTART;TZID=America/Los_Angeles:20260723T093000
DTEND;TZID=America/Los_Angeles:20260723T120000
STATUS:CONFIRMED
SUMMARY:TOE THE LINE vs BOTCHEE 101
URL:/League/Schedule/3137
DESCRIPTION:Regular Season match: TOE THE LINE vs BOTCHEE 10
 1
LOCATION:Martinez Court 11
END:VEVENT
BEGIN:VEVENT
DTSTAMP:20260423T000000Z
UID:561c9ac3-ee60-4711-9c50-a6f0416ced94@ClaytonBocce
DTSTART;TZID=America/Los_Angeles:20260730T093000
DTEND;TZID=America/Los_Angeles:20260730T120000
STATUS:CONFIRMED
SUMMARY:TOE THE LINE vs BESTIA D BOCCE
URL:/League/Schedule/3137
DESCRIPTION:Regular Season match: TOE THE LINE vs BESTIA D B
 OCCE
LOCATION:Martinez Court 14
END:VEVENT
BEGIN:VEVENT
DTSTAMP:20260423T000000Z
UID:14120799-af0f-445b-8d51-dd4f7165bb2b@ClaytonBocce
DTSTART;TZID=America/Los_Angeles:20260806T093000
DTEND;TZID=America/Los_Angeles:20260806T120000
STATUS:CONFIRMED
SUMMARY:TOE THE LINE vs JP BISTRO
URL:/League/Schedule/3137
DESCRIPTION:Regular Season match: TOE THE LINE vs JP BISTRO
LOCATION:Martinez Court 13
END:VEVENT
BEGIN:VEVENT
DTSTAMP:20260423T000000Z
UID:643ccc84-b4b1-4dfb-8373-74b77ce4412a@ClaytonBocce
DTSTART;TZID=America/Los_Angeles:20260813T093000
DTEND;TZID=America/Los_Angeles:20260813T120000
STATUS:CONFIRMED
SUMMARY:TOE THE LINE vs BOCCIATORI
URL:/League/Schedule/3137
DESCRIPTION:Regular Season match: TOE THE LINE vs BOCCIATORI
LOCATION:Martinez Court 9
END:VEVENT
BEGIN:VEVENT
DTSTAMP:20260423T000000Z
UID:7c12ca08-e04b-41be-affb-c02a98bc7579@ClaytonBocce
DTSTART;TZID=America/Los_Angeles:20260820T093000
DTEND;TZID=America/Los_Angeles:20260820T120000
STATUS:CONFIRMED
SUMMARY:TOE THE LINE vs BOCCE BENE
URL:/League/Schedule/3137
DESCRIPTION:Regular Season match: TOE THE LINE vs BOCCE BENE
LOCATION:Martinez Court 15
END:VEVENT
BEGIN:VEVENT
DTSTAMP:20260423T000000Z
UID:23dc4f25-c9f8-471c-af58-d819dd914625@ClaytonBocce
DTSTART;TZID=America/Los_Angeles:20260903T093000
DTEND;TZID=America/Los_Angeles:20260903T120000
STATUS:CONFIRMED
SUMMARY:TOE THE LINE vs ZAPPERS
URL:/League/Schedule/3137
DESCRIPTION:Regular Season match: TOE THE LINE vs ZAPPERS
LOCATION:Martinez Court 3
END:VEVENT
BEGIN:VEVENT
DTSTAMP:20260423T000000Z
UID:37be8c33-8ad2-4adb-ac7a-c3e798a79777@ClaytonBocce
DTSTART;TZID=America/Los_Angeles:20260910T093000
DTEND;TZID=America/Los_Angeles:20260910T120000
STATUS:CONFIRMED
SUMMARY:TOE THE LINE vs BOTCHEE 101
URL:/League/Schedule/3137
DESCRIPTION:Regular Season match: TOE THE LINE vs BOTCHEE 10
 1
LOCATION:Martinez Court 8
END:VEVENT
BEGIN:VEVENT
DTSTAMP:20260423T000000Z
UID:d3f8bfb1-d81b-4d1c-a5eb-12d08be0e34c@ClaytonBocce
DTSTART;TZID=America/Los_Angeles:20260917T093000
DTEND;TZID=America/Los_Angeles:20260917T120000
STATUS:CONFIRMED
SUMMARY:TOE THE LINE vs BESTIA D BOCCE
URL:/League/Schedule/3137
DESCRIPTION:Regular Season match: TOE THE LINE vs BESTIA D B
 OCCE
LOCATION:Martinez Court 5
END:VEVENT
END:VCALENDAR
