BEGIN:VCALENDAR
VERSION:2.0
PRODID:-//Clayton Bocce League
METHOD:PUBLISH
BEGIN:VTIMEZONE
TZID:America/Los_Angeles
X-LIC-LOCATION:America/Los_Angeles
BEGIN:DAYLIGHT
TZOFFSETFROM:-0800
TZOFFSETTO:-0700
TZNAME:PDT
DTSTART:20070311T020000
RRULE:FREQ=YEARLY;BYMONTH=3;BYDAY=2SU
END:DAYLIGHT
BEGIN:STANDARD
TZOFFSETFROM:-0700
TZOFFSETTO:-0800
TZNAME:PST
DTSTART:20071104T020000
RRULE:FREQ=YEARLY;BYMONTH=11;BYDAY=1SU
END:STANDARD
END:VTIMEZONE
BEGIN:VEVENT
DTSTAMP:20260423T000000Z
UID:d829cfe1-55e3-4fd6-ae13-af9cf880670f@ClaytonBocce
DTSTART;TZID=America/Los_Angeles:20260423T093000
DTEND;TZID=America/Los_Angeles:20260423T120000
STATUS:CONFIRMED
SUMMARY:JP BISTRO vs TOE THE LINE
URL:/League/Schedule/3136
DESCRIPTION:Regular Season match: JP BISTRO vs TOE THE LINE
LOCATION:Martinez Court 9
END:VEVENT
BEGIN:VEVENT
DTSTAMP:20260423T000000Z
UID:1d345eea-9adc-4619-b3f2-a85bafbb6ce6@ClaytonBocce
DTSTART;TZID=America/Los_Angeles:20260430T093000
DTEND;TZID=America/Los_Angeles:20260430T120000
STATUS:CONFIRMED
SUMMARY:JP BISTRO vs BESTIA D BOCCE
URL:/League/Schedule/3136
DESCRIPTION:Regular Season match: JP BISTRO vs BESTIA D BOCC
 E
LOCATION:Martinez Court 13
END:VEVENT
BEGIN:VEVENT
DTSTAMP:20260423T000000Z
UID:eb7219b5-3039-49c5-82fb-00d091ca89ba@ClaytonBocce
DTSTART;TZID=America/Los_Angeles:20260507T093000
DTEND;TZID=America/Los_Angeles:20260507T120000
STATUS:CONFIRMED
SUMMARY:JP BISTRO vs BOCCIATORI
URL:/League/Schedule/3136
DESCRIPTION:Regular Season match: JP BISTRO vs BOCCIATORI
LOCATION:Martinez Court 3
END:VEVENT
BEGIN:VEVENT
DTSTAMP:20260423T000000Z
UID:6fad19f5-e1d2-4ce4-a347-51e9fefef8a8@ClaytonBocce
DTSTART;TZID=America/Los_Angeles:20260514T093000
DTEND;TZID=America/Los_Angeles:20260514T120000
STATUS:CONFIRMED
SUMMARY:JP BISTRO vs BOCCE BENE
URL:/League/Schedule/3136
DESCRIPTION:Regular Season match: JP BISTRO vs BOCCE BENE
LOCATION:Martinez Court 6
END:VEVENT
BEGIN:VEVENT
DTSTAMP:20260423T000000Z
UID:efd381c4-4d00-46f4-a34f-cb09163d10cf@ClaytonBocce
DTSTART;TZID=America/Los_Angeles:20260528T093000
DTEND;TZID=America/Los_Angeles:20260528T120000
STATUS:CONFIRMED
SUMMARY:JP BISTRO vs ZAPPERS
URL:/League/Schedule/3136
DESCRIPTION:Regular Season match: JP BISTRO vs ZAPPERS
LOCATION:Martinez Court 11
END:VEVENT
BEGIN:VEVENT
DTSTAMP:20260423T000000Z
UID:1b9a1bfd-6376-456e-a874-cb3617311871@ClaytonBocce
DTSTART;TZID=America/Los_Angeles:20260604T093000
DTEND;TZID=America/Los_Angeles:20260604T120000
STATUS:CONFIRMED
SUMMARY:JP BISTRO vs BOTCHEE 101
URL:/League/Schedule/3136
DESCRIPTION:Regular Season match: JP BISTRO vs BOTCHEE 101
LOCATION:Martinez Court 15
END:VEVENT
BEGIN:VEVENT
DTSTAMP:20260423T000000Z
UID:dcde5cc6-5f0b-42f1-b39e-26b039dff552@ClaytonBocce
DTSTART;TZID=America/Los_Angeles:20260611T093000
DTEND;TZID=America/Los_Angeles:20260611T120000
STATUS:CONFIRMED
SUMMARY:JP BISTRO vs TOE THE LINE
URL:/League/Schedule/3136
DESCRIPTION:Regular Season match: JP BISTRO vs TOE THE LINE
LOCATION:Martinez Court 6
END:VEVENT
BEGIN:VEVENT
DTSTAMP:20260423T000000Z
UID:6b0985ea-5e5f-4a50-9eaa-8827969325f0@ClaytonBocce
DTSTART;TZID=America/Los_Angeles:20260618T093000
DTEND;TZID=America/Los_Angeles:20260618T120000
STATUS:CONFIRMED
SUMMARY:JP BISTRO vs BESTIA D BOCCE
URL:/League/Schedule/3136
DESCRIPTION:Regular Season match: JP BISTRO vs BESTIA D BOCC
 E
LOCATION:Martinez Court 2
END:VEVENT
BEGIN:VEVENT
DTSTAMP:20260423T000000Z
UID:16125ad9-80d6-4889-8ac6-0bfba72604ea@ClaytonBocce
DTSTART;TZID=America/Los_Angeles:20260625T093000
DTEND;TZID=America/Los_Angeles:20260625T120000
STATUS:CONFIRMED
SUMMARY:JP BISTRO vs BOCCIATORI
URL:/League/Schedule/3136
DESCRIPTION:Regular Season match: JP BISTRO vs BOCCIATORI
LOCATION:Martinez Court 5
END:VEVENT
BEGIN:VEVENT
DTSTAMP:20260423T000000Z
UID:6b37e5b1-479a-4d61-af5d-573b2b5a40d1@ClaytonBocce
DTSTART;TZID=America/Los_Angeles:20260709T093000
DTEND;TZID=America/Los_Angeles:20260709T120000
STATUS:CONFIRMED
SUMMARY:JP BISTRO vs BOCCE BENE
URL:/League/Schedule/3136
DESCRIPTION:Regular Season match: JP BISTRO vs BOCCE BENE
LOCATION:Martinez Court 14
END:VEVENT
BEGIN:VEVENT
DTSTAMP:20260423T000000Z
UID:99d937af-ae6a-4eb8-bab3-a0a8b45648e7@ClaytonBocce
DTSTART;TZID=America/Los_Angeles:20260723T093000
DTEND;TZID=America/Los_Angeles:20260723T120000
STATUS:CONFIRMED
SUMMARY:JP BISTRO vs ZAPPERS
URL:/League/Schedule/3136
DESCRIPTION:Regular Season match: JP BISTRO vs ZAPPERS
LOCATION:Martinez Court 2
END:VEVENT
BEGIN:VEVENT
DTSTAMP:20260423T000000Z
UID:89e6dcbc-a20b-479a-8e29-1fc56cf52074@ClaytonBocce
DTSTART;TZID=America/Los_Angeles:20260730T093000
DTEND;TZID=America/Los_Angeles:20260730T120000
STATUS:CONFIRMED
SUMMARY:JP BISTRO vs BOTCHEE 101
URL:/League/Schedule/3136
DESCRIPTION:Regular Season match: JP BISTRO vs BOTCHEE 101
LOCATION:Martinez Court 1
END:VEVENT
BEGIN:VEVENT
DTSTAMP:20260423T000000Z
UID:14120799-af0f-445b-8d51-dd4f7165bb2b@ClaytonBocce
DTSTART;TZID=America/Los_Angeles:20260806T093000
DTEND;TZID=America/Los_Angeles:20260806T120000
STATUS:CONFIRMED
SUMMARY:JP BISTRO vs TOE THE LINE
URL:/League/Schedule/3136
DESCRIPTION:Regular Season match: JP BISTRO vs TOE THE LINE
LOCATION:Martinez Court 13
END:VEVENT
BEGIN:VEVENT
DTSTAMP:20260423T000000Z
UID:939af767-eaa0-45d2-8643-e7b76f1b192f@ClaytonBocce
DTSTART;TZID=America/Los_Angeles:20260813T093000
DTEND;TZID=America/Los_Angeles:20260813T120000
STATUS:CONFIRMED
SUMMARY:JP BISTRO vs BESTIA D BOCCE
URL:/League/Schedule/3136
DESCRIPTION:Regular Season match: JP BISTRO vs BESTIA D BOCC
 E
LOCATION:Martinez Court 7
END:VEVENT
BEGIN:VEVENT
DTSTAMP:20260423T000000Z
UID:a84aca1f-a7e4-4944-8b3f-fb9b6ccc4b12@ClaytonBocce
DTSTART;TZID=America/Los_Angeles:20260820T093000
DTEND;TZID=America/Los_Angeles:20260820T120000
STATUS:CONFIRMED
SUMMARY:JP BISTRO vs BOCCIATORI
URL:/League/Schedule/3136
DESCRIPTION:Regular Season match: JP BISTRO vs BOCCIATORI
LOCATION:Martinez Court 12
END:VEVENT
BEGIN:VEVENT
DTSTAMP:20260423T000000Z
UID:380ebcec-4edb-48da-9225-93b4b6aae1f8@ClaytonBocce
DTSTART;TZID=America/Los_Angeles:20260827T093000
DTEND;TZID=America/Los_Angeles:20260827T120000
STATUS:CONFIRMED
SUMMARY:JP BISTRO vs BOCCE BENE
URL:/League/Schedule/3136
DESCRIPTION:Regular Season match: JP BISTRO vs BOCCE BENE
LOCATION:Martinez Court 5
END:VEVENT
BEGIN:VEVENT
DTSTAMP:20260423T000000Z
UID:bcbef25b-4290-4b4f-a9ef-f367a530175c@ClaytonBocce
DTSTART;TZID=America/Los_Angeles:20260910T093000
DTEND;TZID=America/Los_Angeles:20260910T120000
STATUS:CONFIRMED
SUMMARY:JP BISTRO vs ZAPPERS
URL:/League/Schedule/3136
DESCRIPTION:Regular Season match: JP BISTRO vs ZAPPERS
LOCATION:Martinez Court 10
END:VEVENT
BEGIN:VEVENT
DTSTAMP:20260423T000000Z
UID:3b1b8eff-43bf-4252-949b-30e01d4fe676@ClaytonBocce
DTSTART;TZID=America/Los_Angeles:20260917T093000
DTEND;TZID=America/Los_Angeles:20260917T120000
STATUS:CONFIRMED
SUMMARY:JP BISTRO vs BOTCHEE 101
URL:/League/Schedule/3136
DESCRIPTION:Regular Season match: JP BISTRO vs BOTCHEE 101
LOCATION:Martinez Court 4
END:VEVENT
END:VCALENDAR
