BEGIN:VCALENDAR
VERSION:2.0
PRODID:-//Clayton Bocce League
METHOD:PUBLISH
BEGIN:VTIMEZONE
TZID:America/Los_Angeles
X-LIC-LOCATION:America/Los_Angeles
BEGIN:DAYLIGHT
TZOFFSETFROM:-0800
TZOFFSETTO:-0700
TZNAME:PDT
DTSTART:20070311T020000
RRULE:FREQ=YEARLY;BYMONTH=3;BYDAY=2SU
END:DAYLIGHT
BEGIN:STANDARD
TZOFFSETFROM:-0700
TZOFFSETTO:-0800
TZNAME:PST
DTSTART:20071104T020000
RRULE:FREQ=YEARLY;BYMONTH=11;BYDAY=1SU
END:STANDARD
END:VTIMEZONE
BEGIN:VEVENT
DTSTAMP:20260423T000000Z
UID:30b09d03-1c2a-4d51-8062-a43fa3f04a9e@ClaytonBocce
DTSTART;TZID=America/Los_Angeles:20260430T093000
DTEND;TZID=America/Los_Angeles:20260430T120000
STATUS:CONFIRMED
SUMMARY:BOCCIATORI vs TOE THE LINE
URL:/League/Schedule/3140
DESCRIPTION:Regular Season match: BOCCIATORI vs TOE THE LINE
LOCATION:Martinez Court 14
END:VEVENT
BEGIN:VEVENT
DTSTAMP:20260423T000000Z
UID:eb7219b5-3039-49c5-82fb-00d091ca89ba@ClaytonBocce
DTSTART;TZID=America/Los_Angeles:20260507T093000
DTEND;TZID=America/Los_Angeles:20260507T120000
STATUS:CONFIRMED
SUMMARY:BOCCIATORI vs JP BISTRO
URL:/League/Schedule/3140
DESCRIPTION:Regular Season match: BOCCIATORI vs JP BISTRO
LOCATION:Martinez Court 3
END:VEVENT
BEGIN:VEVENT
DTSTAMP:20260423T000000Z
UID:bec99ea0-32b3-4e13-9b07-2bbf15ffad2c@ClaytonBocce
DTSTART;TZID=America/Los_Angeles:20260514T093000
DTEND;TZID=America/Los_Angeles:20260514T120000
STATUS:CONFIRMED
SUMMARY:BOCCIATORI vs BESTIA D BOCCE
URL:/League/Schedule/3140
DESCRIPTION:Regular Season match: BOCCIATORI vs BESTIA D BOC
 CE
LOCATION:Martinez Court 12
END:VEVENT
BEGIN:VEVENT
DTSTAMP:20260423T000000Z
UID:88dbf5bf-d7e2-403e-bc05-86d82eab99fc@ClaytonBocce
DTSTART;TZID=America/Los_Angeles:20260521T093000
DTEND;TZID=America/Los_Angeles:20260521T120000
STATUS:CONFIRMED
SUMMARY:BOCCIATORI vs BOTCHEE 101
URL:/League/Schedule/3140
DESCRIPTION:Regular Season match: BOCCIATORI vs BOTCHEE 101
LOCATION:Martinez Court 11
END:VEVENT
BEGIN:VEVENT
DTSTAMP:20260423T000000Z
UID:cabfdc2f-7e3b-4516-83c3-496ca4ee9fd5@ClaytonBocce
DTSTART;TZID=America/Los_Angeles:20260528T093000
DTEND;TZID=America/Los_Angeles:20260528T120000
STATUS:CONFIRMED
SUMMARY:BOCCIATORI vs BOCCE BENE
URL:/League/Schedule/3140
DESCRIPTION:Regular Season match: BOCCIATORI vs BOCCE BENE
LOCATION:Martinez Court 10
END:VEVENT
BEGIN:VEVENT
DTSTAMP:20260423T000000Z
UID:128a1c25-64bc-4f99-babe-0003654e660d@ClaytonBocce
DTSTART;TZID=America/Los_Angeles:20260604T093000
DTEND;TZID=America/Los_Angeles:20260604T120000
STATUS:CONFIRMED
SUMMARY:BOCCIATORI vs ZAPPERS
URL:/League/Schedule/3140
DESCRIPTION:Regular Season match: BOCCIATORI vs ZAPPERS
LOCATION:Martinez Court 2
END:VEVENT
BEGIN:VEVENT
DTSTAMP:20260423T000000Z
UID:6b1ae242-b7b5-440a-986f-f005ef71266a@ClaytonBocce
DTSTART;TZID=America/Los_Angeles:20260618T093000
DTEND;TZID=America/Los_Angeles:20260618T120000
STATUS:CONFIRMED
SUMMARY:BOCCIATORI vs TOE THE LINE
URL:/League/Schedule/3140
DESCRIPTION:Regular Season match: BOCCIATORI vs TOE THE LINE
LOCATION:Martinez Court 15
END:VEVENT
BEGIN:VEVENT
DTSTAMP:20260423T000000Z
UID:16125ad9-80d6-4889-8ac6-0bfba72604ea@ClaytonBocce
DTSTART;TZID=America/Los_Angeles:20260625T093000
DTEND;TZID=America/Los_Angeles:20260625T120000
STATUS:CONFIRMED
SUMMARY:BOCCIATORI vs JP BISTRO
URL:/League/Schedule/3140
DESCRIPTION:Regular Season match: BOCCIATORI vs JP BISTRO
LOCATION:Martinez Court 5
END:VEVENT
BEGIN:VEVENT
DTSTAMP:20260423T000000Z
UID:998d5390-9f5f-4fa8-a252-10e0acb5e5d5@ClaytonBocce
DTSTART;TZID=America/Los_Angeles:20260709T093000
DTEND;TZID=America/Los_Angeles:20260709T120000
STATUS:CONFIRMED
SUMMARY:BOCCIATORI vs BESTIA D BOCCE
URL:/League/Schedule/3140
DESCRIPTION:Regular Season match: BOCCIATORI vs BESTIA D BOC
 CE
LOCATION:Martinez Court 3
END:VEVENT
BEGIN:VEVENT
DTSTAMP:20260423T000000Z
UID:413ee11d-aa1a-427f-8a82-ef02699af84f@ClaytonBocce
DTSTART;TZID=America/Los_Angeles:20260716T093000
DTEND;TZID=America/Los_Angeles:20260716T120000
STATUS:CONFIRMED
SUMMARY:BOCCIATORI vs BOTCHEE 101
URL:/League/Schedule/3140
DESCRIPTION:Regular Season match: BOCCIATORI vs BOTCHEE 101
LOCATION:Martinez Court 15
END:VEVENT
BEGIN:VEVENT
DTSTAMP:20260423T000000Z
UID:76ca4a98-8681-4c1f-b2a2-010181d0f7f2@ClaytonBocce
DTSTART;TZID=America/Los_Angeles:20260723T093000
DTEND;TZID=America/Los_Angeles:20260723T120000
STATUS:CONFIRMED
SUMMARY:BOCCIATORI vs BOCCE BENE
URL:/League/Schedule/3140
DESCRIPTION:Regular Season match: BOCCIATORI vs BOCCE BENE
LOCATION:Martinez Court 13
END:VEVENT
BEGIN:VEVENT
DTSTAMP:20260423T000000Z
UID:ef1075bb-035d-47f2-a839-43c92df41705@ClaytonBocce
DTSTART;TZID=America/Los_Angeles:20260730T093000
DTEND;TZID=America/Los_Angeles:20260730T120000
STATUS:CONFIRMED
SUMMARY:BOCCIATORI vs ZAPPERS
URL:/League/Schedule/3140
DESCRIPTION:Regular Season match: BOCCIATORI vs ZAPPERS
LOCATION:Martinez Court 8
END:VEVENT
BEGIN:VEVENT
DTSTAMP:20260423T000000Z
UID:643ccc84-b4b1-4dfb-8373-74b77ce4412a@ClaytonBocce
DTSTART;TZID=America/Los_Angeles:20260813T093000
DTEND;TZID=America/Los_Angeles:20260813T120000
STATUS:CONFIRMED
SUMMARY:BOCCIATORI vs TOE THE LINE
URL:/League/Schedule/3140
DESCRIPTION:Regular Season match: BOCCIATORI vs TOE THE LINE
LOCATION:Martinez Court 9
END:VEVENT
BEGIN:VEVENT
DTSTAMP:20260423T000000Z
UID:a84aca1f-a7e4-4944-8b3f-fb9b6ccc4b12@ClaytonBocce
DTSTART;TZID=America/Los_Angeles:20260820T093000
DTEND;TZID=America/Los_Angeles:20260820T120000
STATUS:CONFIRMED
SUMMARY:BOCCIATORI vs JP BISTRO
URL:/League/Schedule/3140
DESCRIPTION:Regular Season match: BOCCIATORI vs JP BISTRO
LOCATION:Martinez Court 12
END:VEVENT
BEGIN:VEVENT
DTSTAMP:20260423T000000Z
UID:b356e614-bfae-43ec-a11d-e846a867390f@ClaytonBocce
DTSTART;TZID=America/Los_Angeles:20260827T093000
DTEND;TZID=America/Los_Angeles:20260827T120000
STATUS:CONFIRMED
SUMMARY:BOCCIATORI vs BESTIA D BOCCE
URL:/League/Schedule/3140
DESCRIPTION:Regular Season match: BOCCIATORI vs BESTIA D BOC
 CE
LOCATION:Martinez Court 11
END:VEVENT
BEGIN:VEVENT
DTSTAMP:20260423T000000Z
UID:ffc9593e-be44-4d03-a236-080bc7b0f030@ClaytonBocce
DTSTART;TZID=America/Los_Angeles:20260903T093000
DTEND;TZID=America/Los_Angeles:20260903T120000
STATUS:CONFIRMED
SUMMARY:BOCCIATORI vs BOTCHEE 101
URL:/League/Schedule/3140
DESCRIPTION:Regular Season match: BOCCIATORI vs BOTCHEE 101
LOCATION:Martinez Court 5
END:VEVENT
BEGIN:VEVENT
DTSTAMP:20260423T000000Z
UID:f8e40b41-d3c1-4acf-91b2-ade55e47ba8a@ClaytonBocce
DTSTART;TZID=America/Los_Angeles:20260910T093000
DTEND;TZID=America/Los_Angeles:20260910T120000
STATUS:CONFIRMED
SUMMARY:BOCCIATORI vs BOCCE BENE
URL:/League/Schedule/3140
DESCRIPTION:Regular Season match: BOCCIATORI vs BOCCE BENE
LOCATION:Martinez Court 1
END:VEVENT
BEGIN:VEVENT
DTSTAMP:20260423T000000Z
UID:a098f81f-9685-49cd-b4ec-701773ceea83@ClaytonBocce
DTSTART;TZID=America/Los_Angeles:20260917T093000
DTEND;TZID=America/Los_Angeles:20260917T120000
STATUS:CONFIRMED
SUMMARY:BOCCIATORI vs ZAPPERS
URL:/League/Schedule/3140
DESCRIPTION:Regular Season match: BOCCIATORI vs ZAPPERS
LOCATION:Martinez Court 7
END:VEVENT
END:VCALENDAR
