BEGIN:VCALENDAR
VERSION:2.0
PRODID:-//Clayton Bocce League
METHOD:PUBLISH
BEGIN:VTIMEZONE
TZID:America/Los_Angeles
X-LIC-LOCATION:America/Los_Angeles
BEGIN:DAYLIGHT
TZOFFSETFROM:-0800
TZOFFSETTO:-0700
TZNAME:PDT
DTSTART:20070311T020000
RRULE:FREQ=YEARLY;BYMONTH=3;BYDAY=2SU
END:DAYLIGHT
BEGIN:STANDARD
TZOFFSETFROM:-0700
TZOFFSETTO:-0800
TZNAME:PST
DTSTART:20071104T020000
RRULE:FREQ=YEARLY;BYMONTH=11;BYDAY=1SU
END:STANDARD
END:VTIMEZONE
BEGIN:VEVENT
DTSTAMP:20260423T000000Z
UID:7da32612-cdbf-46c1-85c0-b8bc5aa5e828@ClaytonBocce
DTSTART;TZID=America/Los_Angeles:20260423T093000
DTEND;TZID=America/Los_Angeles:20260423T120000
STATUS:CONFIRMED
SUMMARY:BESTIA D BOCCE vs ZAPPERS
URL:/League/Schedule/3135
DESCRIPTION:Regular Season match: BESTIA D BOCCE vs ZAPPERS
LOCATION:Martinez Court 8
END:VEVENT
BEGIN:VEVENT
DTSTAMP:20260423T000000Z
UID:1d345eea-9adc-4619-b3f2-a85bafbb6ce6@ClaytonBocce
DTSTART;TZID=America/Los_Angeles:20260430T093000
DTEND;TZID=America/Los_Angeles:20260430T120000
STATUS:CONFIRMED
SUMMARY:BESTIA D BOCCE vs JP BISTRO
URL:/League/Schedule/3135
DESCRIPTION:Regular Season match: BESTIA D BOCCE vs JP BISTR
 O
LOCATION:Martinez Court 13
END:VEVENT
BEGIN:VEVENT
DTSTAMP:20260423T000000Z
UID:26549511-afb5-42fd-bd0e-0f43172ee454@ClaytonBocce
DTSTART;TZID=America/Los_Angeles:20260507T093000
DTEND;TZID=America/Los_Angeles:20260507T120000
STATUS:CONFIRMED
SUMMARY:BESTIA D BOCCE vs BOTCHEE 101
URL:/League/Schedule/3135
DESCRIPTION:Regular Season match: BESTIA D BOCCE vs BOTCHEE 
 101
LOCATION:Martinez Court 4
END:VEVENT
BEGIN:VEVENT
DTSTAMP:20260423T000000Z
UID:bec99ea0-32b3-4e13-9b07-2bbf15ffad2c@ClaytonBocce
DTSTART;TZID=America/Los_Angeles:20260514T093000
DTEND;TZID=America/Los_Angeles:20260514T120000
STATUS:CONFIRMED
SUMMARY:BESTIA D BOCCE vs BOCCIATORI
URL:/League/Schedule/3135
DESCRIPTION:Regular Season match: BESTIA D BOCCE vs BOCCIATO
 RI
LOCATION:Martinez Court 12
END:VEVENT
BEGIN:VEVENT
DTSTAMP:20260423T000000Z
UID:e3442bba-2c19-4c33-88a8-79c17d320404@ClaytonBocce
DTSTART;TZID=America/Los_Angeles:20260521T093000
DTEND;TZID=America/Los_Angeles:20260521T120000
STATUS:CONFIRMED
SUMMARY:BESTIA D BOCCE vs BOCCE BENE
URL:/League/Schedule/3135
DESCRIPTION:Regular Season match: BESTIA D BOCCE vs BOCCE BE
 NE
LOCATION:Martinez Court 9
END:VEVENT
BEGIN:VEVENT
DTSTAMP:20260423T000000Z
UID:afae9efc-54c7-405d-9a20-5ac0db753d81@ClaytonBocce
DTSTART;TZID=America/Los_Angeles:20260604T093000
DTEND;TZID=America/Los_Angeles:20260604T120000
STATUS:CONFIRMED
SUMMARY:BESTIA D BOCCE vs TOE THE LINE
URL:/League/Schedule/3135
DESCRIPTION:Regular Season match: BESTIA D BOCCE vs TOE THE 
 LINE
LOCATION:Martinez Court 1
END:VEVENT
BEGIN:VEVENT
DTSTAMP:20260423T000000Z
UID:0c49de57-9b10-44b0-92bd-73cd2233e0fe@ClaytonBocce
DTSTART;TZID=America/Los_Angeles:20260611T093000
DTEND;TZID=America/Los_Angeles:20260611T120000
STATUS:CONFIRMED
SUMMARY:BESTIA D BOCCE vs ZAPPERS
URL:/League/Schedule/3135
DESCRIPTION:Regular Season match: BESTIA D BOCCE vs ZAPPERS
LOCATION:Martinez Court 7
END:VEVENT
BEGIN:VEVENT
DTSTAMP:20260423T000000Z
UID:6b0985ea-5e5f-4a50-9eaa-8827969325f0@ClaytonBocce
DTSTART;TZID=America/Los_Angeles:20260618T093000
DTEND;TZID=America/Los_Angeles:20260618T120000
STATUS:CONFIRMED
SUMMARY:BESTIA D BOCCE vs JP BISTRO
URL:/League/Schedule/3135
DESCRIPTION:Regular Season match: BESTIA D BOCCE vs JP BISTR
 O
LOCATION:Martinez Court 2
END:VEVENT
BEGIN:VEVENT
DTSTAMP:20260423T000000Z
UID:6773d507-794d-4a79-bf0b-b09ef52b8296@ClaytonBocce
DTSTART;TZID=America/Los_Angeles:20260625T093000
DTEND;TZID=America/Los_Angeles:20260625T120000
STATUS:CONFIRMED
SUMMARY:BESTIA D BOCCE vs BOTCHEE 101
URL:/League/Schedule/3135
DESCRIPTION:Regular Season match: BESTIA D BOCCE vs BOTCHEE 
 101
LOCATION:Martinez Court 6
END:VEVENT
BEGIN:VEVENT
DTSTAMP:20260423T000000Z
UID:998d5390-9f5f-4fa8-a252-10e0acb5e5d5@ClaytonBocce
DTSTART;TZID=America/Los_Angeles:20260709T093000
DTEND;TZID=America/Los_Angeles:20260709T120000
STATUS:CONFIRMED
SUMMARY:BESTIA D BOCCE vs BOCCIATORI
URL:/League/Schedule/3135
DESCRIPTION:Regular Season match: BESTIA D BOCCE vs BOCCIATO
 RI
LOCATION:Martinez Court 3
END:VEVENT
BEGIN:VEVENT
DTSTAMP:20260423T000000Z
UID:3ef55474-8c4c-427e-9575-4a9d1552dd6e@ClaytonBocce
DTSTART;TZID=America/Los_Angeles:20260716T093000
DTEND;TZID=America/Los_Angeles:20260716T120000
STATUS:CONFIRMED
SUMMARY:BESTIA D BOCCE vs BOCCE BENE
URL:/League/Schedule/3135
DESCRIPTION:Regular Season match: BESTIA D BOCCE vs BOCCE BE
 NE
LOCATION:Martinez Court 11
END:VEVENT
BEGIN:VEVENT
DTSTAMP:20260423T000000Z
UID:561c9ac3-ee60-4711-9c50-a6f0416ced94@ClaytonBocce
DTSTART;TZID=America/Los_Angeles:20260730T093000
DTEND;TZID=America/Los_Angeles:20260730T120000
STATUS:CONFIRMED
SUMMARY:BESTIA D BOCCE vs TOE THE LINE
URL:/League/Schedule/3135
DESCRIPTION:Regular Season match: BESTIA D BOCCE vs TOE THE 
 LINE
LOCATION:Martinez Court 14
END:VEVENT
BEGIN:VEVENT
DTSTAMP:20260423T000000Z
UID:bdaa387a-ae38-4e47-8364-1d1776a67e2e@ClaytonBocce
DTSTART;TZID=America/Los_Angeles:20260806T093000
DTEND;TZID=America/Los_Angeles:20260806T120000
STATUS:CONFIRMED
SUMMARY:BESTIA D BOCCE vs ZAPPERS
URL:/League/Schedule/3135
DESCRIPTION:Regular Season match: BESTIA D BOCCE vs ZAPPERS
LOCATION:Martinez Court 15
END:VEVENT
BEGIN:VEVENT
DTSTAMP:20260423T000000Z
UID:939af767-eaa0-45d2-8643-e7b76f1b192f@ClaytonBocce
DTSTART;TZID=America/Los_Angeles:20260813T093000
DTEND;TZID=America/Los_Angeles:20260813T120000
STATUS:CONFIRMED
SUMMARY:BESTIA D BOCCE vs JP BISTRO
URL:/League/Schedule/3135
DESCRIPTION:Regular Season match: BESTIA D BOCCE vs JP BISTR
 O
LOCATION:Martinez Court 7
END:VEVENT
BEGIN:VEVENT
DTSTAMP:20260423T000000Z
UID:af1d3588-4bba-4b11-b8eb-c241f38be8b5@ClaytonBocce
DTSTART;TZID=America/Los_Angeles:20260820T093000
DTEND;TZID=America/Los_Angeles:20260820T120000
STATUS:CONFIRMED
SUMMARY:BESTIA D BOCCE vs BOTCHEE 101
URL:/League/Schedule/3135
DESCRIPTION:Regular Season match: BESTIA D BOCCE vs BOTCHEE 
 101
LOCATION:Martinez Court 10
END:VEVENT
BEGIN:VEVENT
DTSTAMP:20260423T000000Z
UID:b356e614-bfae-43ec-a11d-e846a867390f@ClaytonBocce
DTSTART;TZID=America/Los_Angeles:20260827T093000
DTEND;TZID=America/Los_Angeles:20260827T120000
STATUS:CONFIRMED
SUMMARY:BESTIA D BOCCE vs BOCCIATORI
URL:/League/Schedule/3135
DESCRIPTION:Regular Season match: BESTIA D BOCCE vs BOCCIATO
 RI
LOCATION:Martinez Court 11
END:VEVENT
BEGIN:VEVENT
DTSTAMP:20260423T000000Z
UID:ce9844fe-3022-41e8-9333-f076a208f3ae@ClaytonBocce
DTSTART;TZID=America/Los_Angeles:20260903T093000
DTEND;TZID=America/Los_Angeles:20260903T120000
STATUS:CONFIRMED
SUMMARY:BESTIA D BOCCE vs BOCCE BENE
URL:/League/Schedule/3135
DESCRIPTION:Regular Season match: BESTIA D BOCCE vs BOCCE BE
 NE
LOCATION:Martinez Court 6
END:VEVENT
BEGIN:VEVENT
DTSTAMP:20260423T000000Z
UID:d3f8bfb1-d81b-4d1c-a5eb-12d08be0e34c@ClaytonBocce
DTSTART;TZID=America/Los_Angeles:20260917T093000
DTEND;TZID=America/Los_Angeles:20260917T120000
STATUS:CONFIRMED
SUMMARY:BESTIA D BOCCE vs TOE THE LINE
URL:/League/Schedule/3135
DESCRIPTION:Regular Season match: BESTIA D BOCCE vs TOE THE 
 LINE
LOCATION:Martinez Court 5
END:VEVENT
END:VCALENDAR
