BEGIN:VCALENDAR
VERSION:2.0
PRODID:-//Clayton Bocce League
METHOD:PUBLISH
BEGIN:VTIMEZONE
TZID:America/Los_Angeles
X-LIC-LOCATION:America/Los_Angeles
BEGIN:DAYLIGHT
TZOFFSETFROM:-0800
TZOFFSETTO:-0700
TZNAME:PDT
DTSTART:20070311T020000
RRULE:FREQ=YEARLY;BYMONTH=3;BYDAY=2SU
END:DAYLIGHT
BEGIN:STANDARD
TZOFFSETFROM:-0700
TZOFFSETTO:-0800
TZNAME:PST
DTSTART:20071104T020000
RRULE:FREQ=YEARLY;BYMONTH=11;BYDAY=1SU
END:STANDARD
END:VTIMEZONE
BEGIN:VEVENT
DTSTAMP:20260423T000000Z
UID:7da32612-cdbf-46c1-85c0-b8bc5aa5e828@ClaytonBocce
DTSTART;TZID=America/Los_Angeles:20260423T093000
DTEND;TZID=America/Los_Angeles:20260423T120000
STATUS:CONFIRMED
SUMMARY:ZAPPERS vs BESTIA D BOCCE
URL:/League/Schedule/3138
DESCRIPTION:Regular Season match: ZAPPERS vs BESTIA D BOCCE
LOCATION:Martinez Court 8
END:VEVENT
BEGIN:VEVENT
DTSTAMP:20260423T000000Z
UID:16b90db6-754e-4fd7-b357-38a5a6b87e6b@ClaytonBocce
DTSTART;TZID=America/Los_Angeles:20260430T093000
DTEND;TZID=America/Los_Angeles:20260430T120000
STATUS:CONFIRMED
SUMMARY:ZAPPERS vs BOCCE BENE
URL:/League/Schedule/3138
DESCRIPTION:Regular Season match: ZAPPERS vs BOCCE BENE
LOCATION:Martinez Court 12
END:VEVENT
BEGIN:VEVENT
DTSTAMP:20260423T000000Z
UID:0c1ee0de-af4a-4bbf-99ec-f1d42de305d8@ClaytonBocce
DTSTART;TZID=America/Los_Angeles:20260514T093000
DTEND;TZID=America/Los_Angeles:20260514T120000
STATUS:CONFIRMED
SUMMARY:ZAPPERS vs BOTCHEE 101
URL:/League/Schedule/3138
DESCRIPTION:Regular Season match: ZAPPERS vs BOTCHEE 101
LOCATION:Martinez Court 5
END:VEVENT
BEGIN:VEVENT
DTSTAMP:20260423T000000Z
UID:80073f40-a5bb-4924-9f06-550e970965f7@ClaytonBocce
DTSTART;TZID=America/Los_Angeles:20260521T093000
DTEND;TZID=America/Los_Angeles:20260521T120000
STATUS:CONFIRMED
SUMMARY:ZAPPERS vs TOE THE LINE
URL:/League/Schedule/3138
DESCRIPTION:Regular Season match: ZAPPERS vs TOE THE LINE
LOCATION:Martinez Court 10
END:VEVENT
BEGIN:VEVENT
DTSTAMP:20260423T000000Z
UID:efd381c4-4d00-46f4-a34f-cb09163d10cf@ClaytonBocce
DTSTART;TZID=America/Los_Angeles:20260528T093000
DTEND;TZID=America/Los_Angeles:20260528T120000
STATUS:CONFIRMED
SUMMARY:ZAPPERS vs JP BISTRO
URL:/League/Schedule/3138
DESCRIPTION:Regular Season match: ZAPPERS vs JP BISTRO
LOCATION:Martinez Court 11
END:VEVENT
BEGIN:VEVENT
DTSTAMP:20260423T000000Z
UID:128a1c25-64bc-4f99-babe-0003654e660d@ClaytonBocce
DTSTART;TZID=America/Los_Angeles:20260604T093000
DTEND;TZID=America/Los_Angeles:20260604T120000
STATUS:CONFIRMED
SUMMARY:ZAPPERS vs BOCCIATORI
URL:/League/Schedule/3138
DESCRIPTION:Regular Season match: ZAPPERS vs BOCCIATORI
LOCATION:Martinez Court 2
END:VEVENT
BEGIN:VEVENT
DTSTAMP:20260423T000000Z
UID:0c49de57-9b10-44b0-92bd-73cd2233e0fe@ClaytonBocce
DTSTART;TZID=America/Los_Angeles:20260611T093000
DTEND;TZID=America/Los_Angeles:20260611T120000
STATUS:CONFIRMED
SUMMARY:ZAPPERS vs BESTIA D BOCCE
URL:/League/Schedule/3138
DESCRIPTION:Regular Season match: ZAPPERS vs BESTIA D BOCCE
LOCATION:Martinez Court 7
END:VEVENT
BEGIN:VEVENT
DTSTAMP:20260423T000000Z
UID:e09bcd3d-b5bd-4f2d-a8c9-e2f3200d22b2@ClaytonBocce
DTSTART;TZID=America/Los_Angeles:20260618T093000
DTEND;TZID=America/Los_Angeles:20260618T120000
STATUS:CONFIRMED
SUMMARY:ZAPPERS vs BOCCE BENE
URL:/League/Schedule/3138
DESCRIPTION:Regular Season match: ZAPPERS vs BOCCE BENE
LOCATION:Martinez Court 5
END:VEVENT
BEGIN:VEVENT
DTSTAMP:20260423T000000Z
UID:e7470c3f-cd8b-45b7-823d-a971d4425fa1@ClaytonBocce
DTSTART;TZID=America/Los_Angeles:20260709T093000
DTEND;TZID=America/Los_Angeles:20260709T120000
STATUS:CONFIRMED
SUMMARY:ZAPPERS vs BOTCHEE 101
URL:/League/Schedule/3138
DESCRIPTION:Regular Season match: ZAPPERS vs BOTCHEE 101
LOCATION:Martinez Court 13
END:VEVENT
BEGIN:VEVENT
DTSTAMP:20260423T000000Z
UID:773ed222-f661-4422-a474-b8b67b00e6ab@ClaytonBocce
DTSTART;TZID=America/Los_Angeles:20260716T093000
DTEND;TZID=America/Los_Angeles:20260716T120000
STATUS:CONFIRMED
SUMMARY:ZAPPERS vs TOE THE LINE
URL:/League/Schedule/3138
DESCRIPTION:Regular Season match: ZAPPERS vs TOE THE LINE
LOCATION:Martinez Court 1
END:VEVENT
BEGIN:VEVENT
DTSTAMP:20260423T000000Z
UID:99d937af-ae6a-4eb8-bab3-a0a8b45648e7@ClaytonBocce
DTSTART;TZID=America/Los_Angeles:20260723T093000
DTEND;TZID=America/Los_Angeles:20260723T120000
STATUS:CONFIRMED
SUMMARY:ZAPPERS vs JP BISTRO
URL:/League/Schedule/3138
DESCRIPTION:Regular Season match: ZAPPERS vs JP BISTRO
LOCATION:Martinez Court 2
END:VEVENT
BEGIN:VEVENT
DTSTAMP:20260423T000000Z
UID:ef1075bb-035d-47f2-a839-43c92df41705@ClaytonBocce
DTSTART;TZID=America/Los_Angeles:20260730T093000
DTEND;TZID=America/Los_Angeles:20260730T120000
STATUS:CONFIRMED
SUMMARY:ZAPPERS vs BOCCIATORI
URL:/League/Schedule/3138
DESCRIPTION:Regular Season match: ZAPPERS vs BOCCIATORI
LOCATION:Martinez Court 8
END:VEVENT
BEGIN:VEVENT
DTSTAMP:20260423T000000Z
UID:bdaa387a-ae38-4e47-8364-1d1776a67e2e@ClaytonBocce
DTSTART;TZID=America/Los_Angeles:20260806T093000
DTEND;TZID=America/Los_Angeles:20260806T120000
STATUS:CONFIRMED
SUMMARY:ZAPPERS vs BESTIA D BOCCE
URL:/League/Schedule/3138
DESCRIPTION:Regular Season match: ZAPPERS vs BESTIA D BOCCE
LOCATION:Martinez Court 15
END:VEVENT
BEGIN:VEVENT
DTSTAMP:20260423T000000Z
UID:e870e710-60f8-4086-9722-35b945b88ab7@ClaytonBocce
DTSTART;TZID=America/Los_Angeles:20260813T093000
DTEND;TZID=America/Los_Angeles:20260813T120000
STATUS:CONFIRMED
SUMMARY:ZAPPERS vs BOCCE BENE
URL:/League/Schedule/3138
DESCRIPTION:Regular Season match: ZAPPERS vs BOCCE BENE
LOCATION:Martinez Court 12
END:VEVENT
BEGIN:VEVENT
DTSTAMP:20260423T000000Z
UID:29adbd06-36d4-4566-a6ab-43d7c35dbe99@ClaytonBocce
DTSTART;TZID=America/Los_Angeles:20260827T093000
DTEND;TZID=America/Los_Angeles:20260827T120000
STATUS:CONFIRMED
SUMMARY:ZAPPERS vs BOTCHEE 101
URL:/League/Schedule/3138
DESCRIPTION:Regular Season match: ZAPPERS vs BOTCHEE 101
LOCATION:Martinez Court 9
END:VEVENT
BEGIN:VEVENT
DTSTAMP:20260423T000000Z
UID:23dc4f25-c9f8-471c-af58-d819dd914625@ClaytonBocce
DTSTART;TZID=America/Los_Angeles:20260903T093000
DTEND;TZID=America/Los_Angeles:20260903T120000
STATUS:CONFIRMED
SUMMARY:ZAPPERS vs TOE THE LINE
URL:/League/Schedule/3138
DESCRIPTION:Regular Season match: ZAPPERS vs TOE THE LINE
LOCATION:Martinez Court 3
END:VEVENT
BEGIN:VEVENT
DTSTAMP:20260423T000000Z
UID:bcbef25b-4290-4b4f-a9ef-f367a530175c@ClaytonBocce
DTSTART;TZID=America/Los_Angeles:20260910T093000
DTEND;TZID=America/Los_Angeles:20260910T120000
STATUS:CONFIRMED
SUMMARY:ZAPPERS vs JP BISTRO
URL:/League/Schedule/3138
DESCRIPTION:Regular Season match: ZAPPERS vs JP BISTRO
LOCATION:Martinez Court 10
END:VEVENT
BEGIN:VEVENT
DTSTAMP:20260423T000000Z
UID:a098f81f-9685-49cd-b4ec-701773ceea83@ClaytonBocce
DTSTART;TZID=America/Los_Angeles:20260917T093000
DTEND;TZID=America/Los_Angeles:20260917T120000
STATUS:CONFIRMED
SUMMARY:ZAPPERS vs BOCCIATORI
URL:/League/Schedule/3138
DESCRIPTION:Regular Season match: ZAPPERS vs BOCCIATORI
LOCATION:Martinez Court 7
END:VEVENT
END:VCALENDAR
