BEGIN:VCALENDAR
VERSION:2.0
PRODID:-//Clayton Bocce League
METHOD:PUBLISH
BEGIN:VTIMEZONE
TZID:America/Los_Angeles
X-LIC-LOCATION:America/Los_Angeles
BEGIN:DAYLIGHT
TZOFFSETFROM:-0800
TZOFFSETTO:-0700
TZNAME:PDT
DTSTART:20070311T020000
RRULE:FREQ=YEARLY;BYMONTH=3;BYDAY=2SU
END:DAYLIGHT
BEGIN:STANDARD
TZOFFSETFROM:-0700
TZOFFSETTO:-0800
TZNAME:PST
DTSTART:20071104T020000
RRULE:FREQ=YEARLY;BYMONTH=11;BYDAY=1SU
END:STANDARD
END:VTIMEZONE
BEGIN:VEVENT
DTSTAMP:20260423T000000Z
UID:820ead9a-fbb2-4154-914e-28017c361be2@ClaytonBocce
DTSTART;TZID=America/Los_Angeles:20260423T093000
DTEND;TZID=America/Los_Angeles:20260423T120000
STATUS:CONFIRMED
SUMMARY:BOTCHEE 101 vs BOCCE BENE
URL:/League/Schedule/3139
DESCRIPTION:Regular Season match: BOTCHEE 101 vs BOCCE BENE
LOCATION:Martinez Court 7
END:VEVENT
BEGIN:VEVENT
DTSTAMP:20260423T000000Z
UID:26549511-afb5-42fd-bd0e-0f43172ee454@ClaytonBocce
DTSTART;TZID=America/Los_Angeles:20260507T093000
DTEND;TZID=America/Los_Angeles:20260507T120000
STATUS:CONFIRMED
SUMMARY:BOTCHEE 101 vs BESTIA D BOCCE
URL:/League/Schedule/3139
DESCRIPTION:Regular Season match: BOTCHEE 101 vs BESTIA D BO
 CCE
LOCATION:Martinez Court 4
END:VEVENT
BEGIN:VEVENT
DTSTAMP:20260423T000000Z
UID:0c1ee0de-af4a-4bbf-99ec-f1d42de305d8@ClaytonBocce
DTSTART;TZID=America/Los_Angeles:20260514T093000
DTEND;TZID=America/Los_Angeles:20260514T120000
STATUS:CONFIRMED
SUMMARY:BOTCHEE 101 vs ZAPPERS
URL:/League/Schedule/3139
DESCRIPTION:Regular Season match: BOTCHEE 101 vs ZAPPERS
LOCATION:Martinez Court 5
END:VEVENT
BEGIN:VEVENT
DTSTAMP:20260423T000000Z
UID:88dbf5bf-d7e2-403e-bc05-86d82eab99fc@ClaytonBocce
DTSTART;TZID=America/Los_Angeles:20260521T093000
DTEND;TZID=America/Los_Angeles:20260521T120000
STATUS:CONFIRMED
SUMMARY:BOTCHEE 101 vs BOCCIATORI
URL:/League/Schedule/3139
DESCRIPTION:Regular Season match: BOTCHEE 101 vs BOCCIATORI
LOCATION:Martinez Court 11
END:VEVENT
BEGIN:VEVENT
DTSTAMP:20260423T000000Z
UID:cb34d7b7-5372-41d3-a8fc-e684f0326276@ClaytonBocce
DTSTART;TZID=America/Los_Angeles:20260528T093000
DTEND;TZID=America/Los_Angeles:20260528T120000
STATUS:CONFIRMED
SUMMARY:BOTCHEE 101 vs TOE THE LINE
URL:/League/Schedule/3139
DESCRIPTION:Regular Season match: BOTCHEE 101 vs TOE THE LIN
 E
LOCATION:Martinez Court 12
END:VEVENT
BEGIN:VEVENT
DTSTAMP:20260423T000000Z
UID:1b9a1bfd-6376-456e-a874-cb3617311871@ClaytonBocce
DTSTART;TZID=America/Los_Angeles:20260604T093000
DTEND;TZID=America/Los_Angeles:20260604T120000
STATUS:CONFIRMED
SUMMARY:BOTCHEE 101 vs JP BISTRO
URL:/League/Schedule/3139
DESCRIPTION:Regular Season match: BOTCHEE 101 vs JP BISTRO
LOCATION:Martinez Court 15
END:VEVENT
BEGIN:VEVENT
DTSTAMP:20260423T000000Z
UID:531863fe-4b3e-49aa-b5f6-6ee0859c99ec@ClaytonBocce
DTSTART;TZID=America/Los_Angeles:20260611T093000
DTEND;TZID=America/Los_Angeles:20260611T120000
STATUS:CONFIRMED
SUMMARY:BOTCHEE 101 vs BOCCE BENE
URL:/League/Schedule/3139
DESCRIPTION:Regular Season match: BOTCHEE 101 vs BOCCE BENE
LOCATION:Martinez Court 3
END:VEVENT
BEGIN:VEVENT
DTSTAMP:20260423T000000Z
UID:6773d507-794d-4a79-bf0b-b09ef52b8296@ClaytonBocce
DTSTART;TZID=America/Los_Angeles:20260625T093000
DTEND;TZID=America/Los_Angeles:20260625T120000
STATUS:CONFIRMED
SUMMARY:BOTCHEE 101 vs BESTIA D BOCCE
URL:/League/Schedule/3139
DESCRIPTION:Regular Season match: BOTCHEE 101 vs BESTIA D BO
 CCE
LOCATION:Martinez Court 6
END:VEVENT
BEGIN:VEVENT
DTSTAMP:20260423T000000Z
UID:e7470c3f-cd8b-45b7-823d-a971d4425fa1@ClaytonBocce
DTSTART;TZID=America/Los_Angeles:20260709T093000
DTEND;TZID=America/Los_Angeles:20260709T120000
STATUS:CONFIRMED
SUMMARY:BOTCHEE 101 vs ZAPPERS
URL:/League/Schedule/3139
DESCRIPTION:Regular Season match: BOTCHEE 101 vs ZAPPERS
LOCATION:Martinez Court 13
END:VEVENT
BEGIN:VEVENT
DTSTAMP:20260423T000000Z
UID:413ee11d-aa1a-427f-8a82-ef02699af84f@ClaytonBocce
DTSTART;TZID=America/Los_Angeles:20260716T093000
DTEND;TZID=America/Los_Angeles:20260716T120000
STATUS:CONFIRMED
SUMMARY:BOTCHEE 101 vs BOCCIATORI
URL:/League/Schedule/3139
DESCRIPTION:Regular Season match: BOTCHEE 101 vs BOCCIATORI
LOCATION:Martinez Court 15
END:VEVENT
BEGIN:VEVENT
DTSTAMP:20260423T000000Z
UID:b8029973-1f09-4567-b30c-0d6fd4fccdb7@ClaytonBocce
DTSTART;TZID=America/Los_Angeles:20260723T093000
DTEND;TZID=America/Los_Angeles:20260723T120000
STATUS:CONFIRMED
SUMMARY:BOTCHEE 101 vs TOE THE LINE
URL:/League/Schedule/3139
DESCRIPTION:Regular Season match: BOTCHEE 101 vs TOE THE LIN
 E
LOCATION:Martinez Court 11
END:VEVENT
BEGIN:VEVENT
DTSTAMP:20260423T000000Z
UID:89e6dcbc-a20b-479a-8e29-1fc56cf52074@ClaytonBocce
DTSTART;TZID=America/Los_Angeles:20260730T093000
DTEND;TZID=America/Los_Angeles:20260730T120000
STATUS:CONFIRMED
SUMMARY:BOTCHEE 101 vs JP BISTRO
URL:/League/Schedule/3139
DESCRIPTION:Regular Season match: BOTCHEE 101 vs JP BISTRO
LOCATION:Martinez Court 1
END:VEVENT
BEGIN:VEVENT
DTSTAMP:20260423T000000Z
UID:232dcde7-8cba-49a6-881a-8c17e2c32d2f@ClaytonBocce
DTSTART;TZID=America/Los_Angeles:20260806T093000
DTEND;TZID=America/Los_Angeles:20260806T120000
STATUS:CONFIRMED
SUMMARY:BOTCHEE 101 vs BOCCE BENE
URL:/League/Schedule/3139
DESCRIPTION:Regular Season match: BOTCHEE 101 vs BOCCE BENE
LOCATION:Martinez Court 14
END:VEVENT
BEGIN:VEVENT
DTSTAMP:20260423T000000Z
UID:af1d3588-4bba-4b11-b8eb-c241f38be8b5@ClaytonBocce
DTSTART;TZID=America/Los_Angeles:20260820T093000
DTEND;TZID=America/Los_Angeles:20260820T120000
STATUS:CONFIRMED
SUMMARY:BOTCHEE 101 vs BESTIA D BOCCE
URL:/League/Schedule/3139
DESCRIPTION:Regular Season match: BOTCHEE 101 vs BESTIA D BO
 CCE
LOCATION:Martinez Court 10
END:VEVENT
BEGIN:VEVENT
DTSTAMP:20260423T000000Z
UID:29adbd06-36d4-4566-a6ab-43d7c35dbe99@ClaytonBocce
DTSTART;TZID=America/Los_Angeles:20260827T093000
DTEND;TZID=America/Los_Angeles:20260827T120000
STATUS:CONFIRMED
SUMMARY:BOTCHEE 101 vs ZAPPERS
URL:/League/Schedule/3139
DESCRIPTION:Regular Season match: BOTCHEE 101 vs ZAPPERS
LOCATION:Martinez Court 9
END:VEVENT
BEGIN:VEVENT
DTSTAMP:20260423T000000Z
UID:ffc9593e-be44-4d03-a236-080bc7b0f030@ClaytonBocce
DTSTART;TZID=America/Los_Angeles:20260903T093000
DTEND;TZID=America/Los_Angeles:20260903T120000
STATUS:CONFIRMED
SUMMARY:BOTCHEE 101 vs BOCCIATORI
URL:/League/Schedule/3139
DESCRIPTION:Regular Season match: BOTCHEE 101 vs BOCCIATORI
LOCATION:Martinez Court 5
END:VEVENT
BEGIN:VEVENT
DTSTAMP:20260423T000000Z
UID:37be8c33-8ad2-4adb-ac7a-c3e798a79777@ClaytonBocce
DTSTART;TZID=America/Los_Angeles:20260910T093000
DTEND;TZID=America/Los_Angeles:20260910T120000
STATUS:CONFIRMED
SUMMARY:BOTCHEE 101 vs TOE THE LINE
URL:/League/Schedule/3139
DESCRIPTION:Regular Season match: BOTCHEE 101 vs TOE THE LIN
 E
LOCATION:Martinez Court 8
END:VEVENT
BEGIN:VEVENT
DTSTAMP:20260423T000000Z
UID:3b1b8eff-43bf-4252-949b-30e01d4fe676@ClaytonBocce
DTSTART;TZID=America/Los_Angeles:20260917T093000
DTEND;TZID=America/Los_Angeles:20260917T120000
STATUS:CONFIRMED
SUMMARY:BOTCHEE 101 vs JP BISTRO
URL:/League/Schedule/3139
DESCRIPTION:Regular Season match: BOTCHEE 101 vs JP BISTRO
LOCATION:Martinez Court 4
END:VEVENT
END:VCALENDAR
