BEGIN:VCALENDAR
VERSION:2.0
PRODID:-//Clayton Bocce League
METHOD:PUBLISH
BEGIN:VTIMEZONE
TZID:America/Los_Angeles
X-LIC-LOCATION:America/Los_Angeles
BEGIN:DAYLIGHT
TZOFFSETFROM:-0800
TZOFFSETTO:-0700
TZNAME:PDT
DTSTART:20070311T020000
RRULE:FREQ=YEARLY;BYMONTH=3;BYDAY=2SU
END:DAYLIGHT
BEGIN:STANDARD
TZOFFSETFROM:-0700
TZOFFSETTO:-0800
TZNAME:PST
DTSTART:20071104T020000
RRULE:FREQ=YEARLY;BYMONTH=11;BYDAY=1SU
END:STANDARD
END:VTIMEZONE
BEGIN:VEVENT
DTSTAMP:20260423T000000Z
UID:820ead9a-fbb2-4154-914e-28017c361be2@ClaytonBocce
DTSTART;TZID=America/Los_Angeles:20260423T093000
DTEND;TZID=America/Los_Angeles:20260423T120000
STATUS:CONFIRMED
SUMMARY:BOCCE BENE vs BOTCHEE 101
URL:/League/Schedule/3134
DESCRIPTION:Regular Season match: BOCCE BENE vs BOTCHEE 101
LOCATION:Martinez Court 7
END:VEVENT
BEGIN:VEVENT
DTSTAMP:20260423T000000Z
UID:16b90db6-754e-4fd7-b357-38a5a6b87e6b@ClaytonBocce
DTSTART;TZID=America/Los_Angeles:20260430T093000
DTEND;TZID=America/Los_Angeles:20260430T120000
STATUS:CONFIRMED
SUMMARY:BOCCE BENE vs ZAPPERS
URL:/League/Schedule/3134
DESCRIPTION:Regular Season match: BOCCE BENE vs ZAPPERS
LOCATION:Martinez Court 12
END:VEVENT
BEGIN:VEVENT
DTSTAMP:20260423T000000Z
UID:3de7dc3b-a89d-44ff-aa96-aa0016460dcb@ClaytonBocce
DTSTART;TZID=America/Los_Angeles:20260507T093000
DTEND;TZID=America/Los_Angeles:20260507T120000
STATUS:CONFIRMED
SUMMARY:BOCCE BENE vs TOE THE LINE
URL:/League/Schedule/3134
DESCRIPTION:Regular Season match: BOCCE BENE vs TOE THE LINE
LOCATION:Martinez Court 2
END:VEVENT
BEGIN:VEVENT
DTSTAMP:20260423T000000Z
UID:6fad19f5-e1d2-4ce4-a347-51e9fefef8a8@ClaytonBocce
DTSTART;TZID=America/Los_Angeles:20260514T093000
DTEND;TZID=America/Los_Angeles:20260514T120000
STATUS:CONFIRMED
SUMMARY:BOCCE BENE vs JP BISTRO
URL:/League/Schedule/3134
DESCRIPTION:Regular Season match: BOCCE BENE vs JP BISTRO
LOCATION:Martinez Court 6
END:VEVENT
BEGIN:VEVENT
DTSTAMP:20260423T000000Z
UID:e3442bba-2c19-4c33-88a8-79c17d320404@ClaytonBocce
DTSTART;TZID=America/Los_Angeles:20260521T093000
DTEND;TZID=America/Los_Angeles:20260521T120000
STATUS:CONFIRMED
SUMMARY:BOCCE BENE vs BESTIA D BOCCE
URL:/League/Schedule/3134
DESCRIPTION:Regular Season match: BOCCE BENE vs BESTIA D BOC
 CE
LOCATION:Martinez Court 9
END:VEVENT
BEGIN:VEVENT
DTSTAMP:20260423T000000Z
UID:cabfdc2f-7e3b-4516-83c3-496ca4ee9fd5@ClaytonBocce
DTSTART;TZID=America/Los_Angeles:20260528T093000
DTEND;TZID=America/Los_Angeles:20260528T120000
STATUS:CONFIRMED
SUMMARY:BOCCE BENE vs BOCCIATORI
URL:/League/Schedule/3134
DESCRIPTION:Regular Season match: BOCCE BENE vs BOCCIATORI
LOCATION:Martinez Court 10
END:VEVENT
BEGIN:VEVENT
DTSTAMP:20260423T000000Z
UID:531863fe-4b3e-49aa-b5f6-6ee0859c99ec@ClaytonBocce
DTSTART;TZID=America/Los_Angeles:20260611T093000
DTEND;TZID=America/Los_Angeles:20260611T120000
STATUS:CONFIRMED
SUMMARY:BOCCE BENE vs BOTCHEE 101
URL:/League/Schedule/3134
DESCRIPTION:Regular Season match: BOCCE BENE vs BOTCHEE 101
LOCATION:Martinez Court 3
END:VEVENT
BEGIN:VEVENT
DTSTAMP:20260423T000000Z
UID:e09bcd3d-b5bd-4f2d-a8c9-e2f3200d22b2@ClaytonBocce
DTSTART;TZID=America/Los_Angeles:20260618T093000
DTEND;TZID=America/Los_Angeles:20260618T120000
STATUS:CONFIRMED
SUMMARY:BOCCE BENE vs ZAPPERS
URL:/League/Schedule/3134
DESCRIPTION:Regular Season match: BOCCE BENE vs ZAPPERS
LOCATION:Martinez Court 5
END:VEVENT
BEGIN:VEVENT
DTSTAMP:20260423T000000Z
UID:15224763-856b-425f-a5d9-98cda76a4939@ClaytonBocce
DTSTART;TZID=America/Los_Angeles:20260625T093000
DTEND;TZID=America/Los_Angeles:20260625T120000
STATUS:CONFIRMED
SUMMARY:BOCCE BENE vs TOE THE LINE
URL:/League/Schedule/3134
DESCRIPTION:Regular Season match: BOCCE BENE vs TOE THE LINE
LOCATION:Martinez Court 4
END:VEVENT
BEGIN:VEVENT
DTSTAMP:20260423T000000Z
UID:6b37e5b1-479a-4d61-af5d-573b2b5a40d1@ClaytonBocce
DTSTART;TZID=America/Los_Angeles:20260709T093000
DTEND;TZID=America/Los_Angeles:20260709T120000
STATUS:CONFIRMED
SUMMARY:BOCCE BENE vs JP BISTRO
URL:/League/Schedule/3134
DESCRIPTION:Regular Season match: BOCCE BENE vs JP BISTRO
LOCATION:Martinez Court 14
END:VEVENT
BEGIN:VEVENT
DTSTAMP:20260423T000000Z
UID:3ef55474-8c4c-427e-9575-4a9d1552dd6e@ClaytonBocce
DTSTART;TZID=America/Los_Angeles:20260716T093000
DTEND;TZID=America/Los_Angeles:20260716T120000
STATUS:CONFIRMED
SUMMARY:BOCCE BENE vs BESTIA D BOCCE
URL:/League/Schedule/3134
DESCRIPTION:Regular Season match: BOCCE BENE vs BESTIA D BOC
 CE
LOCATION:Martinez Court 11
END:VEVENT
BEGIN:VEVENT
DTSTAMP:20260423T000000Z
UID:76ca4a98-8681-4c1f-b2a2-010181d0f7f2@ClaytonBocce
DTSTART;TZID=America/Los_Angeles:20260723T093000
DTEND;TZID=America/Los_Angeles:20260723T120000
STATUS:CONFIRMED
SUMMARY:BOCCE BENE vs BOCCIATORI
URL:/League/Schedule/3134
DESCRIPTION:Regular Season match: BOCCE BENE vs BOCCIATORI
LOCATION:Martinez Court 13
END:VEVENT
BEGIN:VEVENT
DTSTAMP:20260423T000000Z
UID:232dcde7-8cba-49a6-881a-8c17e2c32d2f@ClaytonBocce
DTSTART;TZID=America/Los_Angeles:20260806T093000
DTEND;TZID=America/Los_Angeles:20260806T120000
STATUS:CONFIRMED
SUMMARY:BOCCE BENE vs BOTCHEE 101
URL:/League/Schedule/3134
DESCRIPTION:Regular Season match: BOCCE BENE vs BOTCHEE 101
LOCATION:Martinez Court 14
END:VEVENT
BEGIN:VEVENT
DTSTAMP:20260423T000000Z
UID:e870e710-60f8-4086-9722-35b945b88ab7@ClaytonBocce
DTSTART;TZID=America/Los_Angeles:20260813T093000
DTEND;TZID=America/Los_Angeles:20260813T120000
STATUS:CONFIRMED
SUMMARY:BOCCE BENE vs ZAPPERS
URL:/League/Schedule/3134
DESCRIPTION:Regular Season match: BOCCE BENE vs ZAPPERS
LOCATION:Martinez Court 12
END:VEVENT
BEGIN:VEVENT
DTSTAMP:20260423T000000Z
UID:7c12ca08-e04b-41be-affb-c02a98bc7579@ClaytonBocce
DTSTART;TZID=America/Los_Angeles:20260820T093000
DTEND;TZID=America/Los_Angeles:20260820T120000
STATUS:CONFIRMED
SUMMARY:BOCCE BENE vs TOE THE LINE
URL:/League/Schedule/3134
DESCRIPTION:Regular Season match: BOCCE BENE vs TOE THE LINE
LOCATION:Martinez Court 15
END:VEVENT
BEGIN:VEVENT
DTSTAMP:20260423T000000Z
UID:380ebcec-4edb-48da-9225-93b4b6aae1f8@ClaytonBocce
DTSTART;TZID=America/Los_Angeles:20260827T093000
DTEND;TZID=America/Los_Angeles:20260827T120000
STATUS:CONFIRMED
SUMMARY:BOCCE BENE vs JP BISTRO
URL:/League/Schedule/3134
DESCRIPTION:Regular Season match: BOCCE BENE vs JP BISTRO
LOCATION:Martinez Court 5
END:VEVENT
BEGIN:VEVENT
DTSTAMP:20260423T000000Z
UID:ce9844fe-3022-41e8-9333-f076a208f3ae@ClaytonBocce
DTSTART;TZID=America/Los_Angeles:20260903T093000
DTEND;TZID=America/Los_Angeles:20260903T120000
STATUS:CONFIRMED
SUMMARY:BOCCE BENE vs BESTIA D BOCCE
URL:/League/Schedule/3134
DESCRIPTION:Regular Season match: BOCCE BENE vs BESTIA D BOC
 CE
LOCATION:Martinez Court 6
END:VEVENT
BEGIN:VEVENT
DTSTAMP:20260423T000000Z
UID:f8e40b41-d3c1-4acf-91b2-ade55e47ba8a@ClaytonBocce
DTSTART;TZID=America/Los_Angeles:20260910T093000
DTEND;TZID=America/Los_Angeles:20260910T120000
STATUS:CONFIRMED
SUMMARY:BOCCE BENE vs BOCCIATORI
URL:/League/Schedule/3134
DESCRIPTION:Regular Season match: BOCCE BENE vs BOCCIATORI
LOCATION:Martinez Court 1
END:VEVENT
END:VCALENDAR
