BEGIN:VCALENDAR
VERSION:2.0
PRODID:-//Clayton Bocce League
METHOD:PUBLISH
BEGIN:VTIMEZONE
TZID:America/Los_Angeles
X-LIC-LOCATION:America/Los_Angeles
BEGIN:DAYLIGHT
TZOFFSETFROM:-0800
TZOFFSETTO:-0700
TZNAME:PDT
DTSTART:20070311T020000
RRULE:FREQ=YEARLY;BYMONTH=3;BYDAY=2SU
END:DAYLIGHT
BEGIN:STANDARD
TZOFFSETFROM:-0700
TZOFFSETTO:-0800
TZNAME:PST
DTSTART:20071104T020000
RRULE:FREQ=YEARLY;BYMONTH=11;BYDAY=1SU
END:STANDARD
END:VTIMEZONE
BEGIN:VEVENT
DTSTAMP:20260423T000000Z
UID:8a0722d9-fbac-408b-9847-b7e1c744766e@ClaytonBocce
DTSTART;TZID=America/Los_Angeles:20260430T093000
DTEND;TZID=America/Los_Angeles:20260430T120000
STATUS:CONFIRMED
SUMMARY:OLD FASHION BOCCE vs CARQUINEZ STRAITS
URL:/League/Schedule/3133
DESCRIPTION:Regular Season match: OLD FASHION BOCCE vs CARQU
 INEZ STRAITS
LOCATION:Martinez Court 11
END:VEVENT
BEGIN:VEVENT
DTSTAMP:20260423T000000Z
UID:4573b4d4-f960-47a1-b523-e8b7dee451a0@ClaytonBocce
DTSTART;TZID=America/Los_Angeles:20260507T093000
DTEND;TZID=America/Los_Angeles:20260507T120000
STATUS:CONFIRMED
SUMMARY:OLD FASHION BOCCE vs VINO BOCCE
URL:/League/Schedule/3133
DESCRIPTION:Regular Season match: OLD FASHION BOCCE vs VINO 
 BOCCE
LOCATION:Martinez Court 1
END:VEVENT
BEGIN:VEVENT
DTSTAMP:20260423T000000Z
UID:7e821074-2306-4879-9ba9-4fd47f686e26@ClaytonBocce
DTSTART;TZID=America/Los_Angeles:20260514T093000
DTEND;TZID=America/Los_Angeles:20260514T120000
STATUS:CONFIRMED
SUMMARY:OLD FASHION BOCCE vs CROCKETT CRYSTALS
URL:/League/Schedule/3133
DESCRIPTION:Regular Season match: OLD FASHION BOCCE vs CROCK
 ETT CRYSTALS
LOCATION:Martinez Court 4
END:VEVENT
BEGIN:VEVENT
DTSTAMP:20260423T000000Z
UID:f71db726-899f-40c4-ba27-2248b5db699d@ClaytonBocce
DTSTART;TZID=America/Los_Angeles:20260521T093000
DTEND;TZID=America/Los_Angeles:20260521T120000
STATUS:CONFIRMED
SUMMARY:OLD FASHION BOCCE vs ABC
URL:/League/Schedule/3133
DESCRIPTION:Regular Season match: OLD FASHION BOCCE vs ABC
LOCATION:Martinez Court 8
END:VEVENT
BEGIN:VEVENT
DTSTAMP:20260423T000000Z
UID:7647f7b5-92b6-4be8-9826-108578e966e3@ClaytonBocce
DTSTART;TZID=America/Los_Angeles:20260528T093000
DTEND;TZID=America/Los_Angeles:20260528T120000
STATUS:CONFIRMED
SUMMARY:OLD FASHION BOCCE vs BOCCE MAGIC
URL:/League/Schedule/3133
DESCRIPTION:Regular Season match: OLD FASHION BOCCE vs BOCCE
  MAGIC
LOCATION:Martinez Court 7
END:VEVENT
BEGIN:VEVENT
DTSTAMP:20260423T000000Z
UID:cfb17cde-4a14-47af-a2f6-5dbf59adc0ad@ClaytonBocce
DTSTART;TZID=America/Los_Angeles:20260604T093000
DTEND;TZID=America/Los_Angeles:20260604T120000
STATUS:CONFIRMED
SUMMARY:OLD FASHION BOCCE vs BADA BING
URL:/League/Schedule/3133
DESCRIPTION:Regular Season match: OLD FASHION BOCCE vs BADA 
 BING
LOCATION:Martinez Court 14
END:VEVENT
BEGIN:VEVENT
DTSTAMP:20260423T000000Z
UID:d1148d17-7849-463e-8627-ab5eb34fb720@ClaytonBocce
DTSTART;TZID=America/Los_Angeles:20260618T093000
DTEND;TZID=America/Los_Angeles:20260618T120000
STATUS:CONFIRMED
SUMMARY:OLD FASHION BOCCE vs CARQUINEZ STRAITS
URL:/League/Schedule/3133
DESCRIPTION:Regular Season match: OLD FASHION BOCCE vs CARQU
 INEZ STRAITS
LOCATION:Martinez Court 6
END:VEVENT
BEGIN:VEVENT
DTSTAMP:20260423T000000Z
UID:ab64fd0d-bd4e-46e0-8821-e85bd90f1642@ClaytonBocce
DTSTART;TZID=America/Los_Angeles:20260625T093000
DTEND;TZID=America/Los_Angeles:20260625T120000
STATUS:CONFIRMED
SUMMARY:OLD FASHION BOCCE vs VINO BOCCE
URL:/League/Schedule/3133
DESCRIPTION:Regular Season match: OLD FASHION BOCCE vs VINO 
 BOCCE
LOCATION:Martinez Court 2
END:VEVENT
BEGIN:VEVENT
DTSTAMP:20260423T000000Z
UID:755dd2d4-8654-456f-823b-1a345c462475@ClaytonBocce
DTSTART;TZID=America/Los_Angeles:20260709T093000
DTEND;TZID=America/Los_Angeles:20260709T120000
STATUS:CONFIRMED
SUMMARY:OLD FASHION BOCCE vs CROCKETT CRYSTALS
URL:/League/Schedule/3133
DESCRIPTION:Regular Season match: OLD FASHION BOCCE vs CROCK
 ETT CRYSTALS
LOCATION:Martinez Court 12
END:VEVENT
BEGIN:VEVENT
DTSTAMP:20260423T000000Z
UID:f488765e-9d0b-476c-b4ee-26226319a7fa@ClaytonBocce
DTSTART;TZID=America/Los_Angeles:20260716T093000
DTEND;TZID=America/Los_Angeles:20260716T120000
STATUS:CONFIRMED
SUMMARY:OLD FASHION BOCCE vs ABC
URL:/League/Schedule/3133
DESCRIPTION:Regular Season match: OLD FASHION BOCCE vs ABC
LOCATION:Martinez Court 13
END:VEVENT
BEGIN:VEVENT
DTSTAMP:20260423T000000Z
UID:83d0bc6f-8dd2-4a35-a38b-77d73e8e0aef@ClaytonBocce
DTSTART;TZID=America/Los_Angeles:20260723T093000
DTEND;TZID=America/Los_Angeles:20260723T120000
STATUS:CONFIRMED
SUMMARY:OLD FASHION BOCCE vs BOCCE MAGIC
URL:/League/Schedule/3133
DESCRIPTION:Regular Season match: OLD FASHION BOCCE vs BOCCE
  MAGIC
LOCATION:Martinez Court 10
END:VEVENT
BEGIN:VEVENT
DTSTAMP:20260423T000000Z
UID:0fa260b0-6980-42b8-b220-39a5d1a55a96@ClaytonBocce
DTSTART;TZID=America/Los_Angeles:20260730T093000
DTEND;TZID=America/Los_Angeles:20260730T120000
STATUS:CONFIRMED
SUMMARY:OLD FASHION BOCCE vs BADA BING
URL:/League/Schedule/3133
DESCRIPTION:Regular Season match: OLD FASHION BOCCE vs BADA 
 BING
LOCATION:Martinez Court 3
END:VEVENT
BEGIN:VEVENT
DTSTAMP:20260423T000000Z
UID:d4b0f14d-463b-4e39-9809-04d847f9de41@ClaytonBocce
DTSTART;TZID=America/Los_Angeles:20260813T093000
DTEND;TZID=America/Los_Angeles:20260813T120000
STATUS:CONFIRMED
SUMMARY:OLD FASHION BOCCE vs CARQUINEZ STRAITS
URL:/League/Schedule/3133
DESCRIPTION:Regular Season match: OLD FASHION BOCCE vs CARQU
 INEZ STRAITS
LOCATION:Martinez Court 15
END:VEVENT
BEGIN:VEVENT
DTSTAMP:20260423T000000Z
UID:d106a0fe-3330-4d82-8354-4b185cbec153@ClaytonBocce
DTSTART;TZID=America/Los_Angeles:20260820T093000
DTEND;TZID=America/Los_Angeles:20260820T120000
STATUS:CONFIRMED
SUMMARY:OLD FASHION BOCCE vs VINO BOCCE
URL:/League/Schedule/3133
DESCRIPTION:Regular Season match: OLD FASHION BOCCE vs VINO 
 BOCCE
LOCATION:Martinez Court 4
END:VEVENT
BEGIN:VEVENT
DTSTAMP:20260423T000000Z
UID:6a95be3a-d95f-4f6f-b68f-c51c51a09117@ClaytonBocce
DTSTART;TZID=America/Los_Angeles:20260827T093000
DTEND;TZID=America/Los_Angeles:20260827T120000
STATUS:CONFIRMED
SUMMARY:OLD FASHION BOCCE vs CROCKETT CRYSTALS
URL:/League/Schedule/3133
DESCRIPTION:Regular Season match: OLD FASHION BOCCE vs CROCK
 ETT CRYSTALS
LOCATION:Martinez Court 2
END:VEVENT
BEGIN:VEVENT
DTSTAMP:20260423T000000Z
UID:302f1a19-5b02-4b87-86dc-9a6397bbc645@ClaytonBocce
DTSTART;TZID=America/Los_Angeles:20260903T093000
DTEND;TZID=America/Los_Angeles:20260903T120000
STATUS:CONFIRMED
SUMMARY:OLD FASHION BOCCE vs ABC
URL:/League/Schedule/3133
DESCRIPTION:Regular Season match: OLD FASHION BOCCE vs ABC
LOCATION:Martinez Court 1
END:VEVENT
BEGIN:VEVENT
DTSTAMP:20260423T000000Z
UID:68724fea-15bd-436a-8b0c-ee0407f9a93e@ClaytonBocce
DTSTART;TZID=America/Los_Angeles:20260910T093000
DTEND;TZID=America/Los_Angeles:20260910T120000
STATUS:CONFIRMED
SUMMARY:OLD FASHION BOCCE vs BOCCE MAGIC
URL:/League/Schedule/3133
DESCRIPTION:Regular Season match: OLD FASHION BOCCE vs BOCCE
  MAGIC
LOCATION:Martinez Court 9
END:VEVENT
BEGIN:VEVENT
DTSTAMP:20260423T000000Z
UID:a5054ad8-ad18-4233-a06f-2c3fe67e12fb@ClaytonBocce
DTSTART;TZID=America/Los_Angeles:20260917T093000
DTEND;TZID=America/Los_Angeles:20260917T120000
STATUS:CONFIRMED
SUMMARY:OLD FASHION BOCCE vs BADA BING
URL:/League/Schedule/3133
DESCRIPTION:Regular Season match: OLD FASHION BOCCE vs BADA 
 BING
LOCATION:Martinez Court 8
END:VEVENT
END:VCALENDAR
