BEGIN:VCALENDAR
VERSION:2.0
PRODID:-//Clayton Bocce League
METHOD:PUBLISH
BEGIN:VTIMEZONE
TZID:America/Los_Angeles
X-LIC-LOCATION:America/Los_Angeles
BEGIN:DAYLIGHT
TZOFFSETFROM:-0800
TZOFFSETTO:-0700
TZNAME:PDT
DTSTART:20070311T020000
RRULE:FREQ=YEARLY;BYMONTH=3;BYDAY=2SU
END:DAYLIGHT
BEGIN:STANDARD
TZOFFSETFROM:-0700
TZOFFSETTO:-0800
TZNAME:PST
DTSTART:20071104T020000
RRULE:FREQ=YEARLY;BYMONTH=11;BYDAY=1SU
END:STANDARD
END:VTIMEZONE
BEGIN:VEVENT
DTSTAMP:20260423T000000Z
UID:27d5f957-8ca1-4152-a84b-f79fa1ad9d6c@ClaytonBocce
DTSTART;TZID=America/Los_Angeles:20260423T093000
DTEND;TZID=America/Los_Angeles:20260423T120000
STATUS:CONFIRMED
SUMMARY:CARQUINEZ STRAITS vs VINO BOCCE
URL:/League/Schedule/3130
DESCRIPTION:Regular Season match: CARQUINEZ STRAITS vs VINO 
 BOCCE
LOCATION:Martinez Court 6
END:VEVENT
BEGIN:VEVENT
DTSTAMP:20260423T000000Z
UID:8a0722d9-fbac-408b-9847-b7e1c744766e@ClaytonBocce
DTSTART;TZID=America/Los_Angeles:20260430T093000
DTEND;TZID=America/Los_Angeles:20260430T120000
STATUS:CONFIRMED
SUMMARY:CARQUINEZ STRAITS vs OLD FASHION BOCCE
URL:/League/Schedule/3130
DESCRIPTION:Regular Season match: CARQUINEZ STRAITS vs OLD F
 ASHION BOCCE
LOCATION:Martinez Court 11
END:VEVENT
BEGIN:VEVENT
DTSTAMP:20260423T000000Z
UID:198d2512-9546-4716-91bb-e0aeb43c15d1@ClaytonBocce
DTSTART;TZID=America/Los_Angeles:20260507T093000
DTEND;TZID=America/Los_Angeles:20260507T120000
STATUS:CONFIRMED
SUMMARY:CARQUINEZ STRAITS vs BOCCE MAGIC
URL:/League/Schedule/3130
DESCRIPTION:Regular Season match: CARQUINEZ STRAITS vs BOCCE
  MAGIC
LOCATION:Martinez Court 14
END:VEVENT
BEGIN:VEVENT
DTSTAMP:20260423T000000Z
UID:c1aa8af0-a007-45e2-95ef-144d5e691256@ClaytonBocce
DTSTART;TZID=America/Los_Angeles:20260521T093000
DTEND;TZID=America/Los_Angeles:20260521T120000
STATUS:CONFIRMED
SUMMARY:CARQUINEZ STRAITS vs BADA BING
URL:/League/Schedule/3130
DESCRIPTION:Regular Season match: CARQUINEZ STRAITS vs BADA 
 BING
LOCATION:Martinez Court 7
END:VEVENT
BEGIN:VEVENT
DTSTAMP:20260423T000000Z
UID:81795aca-1e27-4355-89d0-5161f21f5084@ClaytonBocce
DTSTART;TZID=America/Los_Angeles:20260528T093000
DTEND;TZID=America/Los_Angeles:20260528T120000
STATUS:CONFIRMED
SUMMARY:CARQUINEZ STRAITS vs ABC
URL:/League/Schedule/3130
DESCRIPTION:Regular Season match: CARQUINEZ STRAITS vs ABC
LOCATION:Martinez Court 9
END:VEVENT
BEGIN:VEVENT
DTSTAMP:20260423T000000Z
UID:537623bb-2420-43a4-9bac-0755e9eff99f@ClaytonBocce
DTSTART;TZID=America/Los_Angeles:20260604T093000
DTEND;TZID=America/Los_Angeles:20260604T120000
STATUS:CONFIRMED
SUMMARY:CARQUINEZ STRAITS vs CROCKETT CRYSTALS
URL:/League/Schedule/3130
DESCRIPTION:Regular Season match: CARQUINEZ STRAITS vs CROCK
 ETT CRYSTALS
LOCATION:Martinez Court 3
END:VEVENT
BEGIN:VEVENT
DTSTAMP:20260423T000000Z
UID:fab642f1-fa53-424c-9157-b1b8d754be2d@ClaytonBocce
DTSTART;TZID=America/Los_Angeles:20260611T093000
DTEND;TZID=America/Los_Angeles:20260611T120000
STATUS:CONFIRMED
SUMMARY:CARQUINEZ STRAITS vs VINO BOCCE
URL:/League/Schedule/3130
DESCRIPTION:Regular Season match: CARQUINEZ STRAITS vs VINO 
 BOCCE
LOCATION:Martinez Court 4
END:VEVENT
BEGIN:VEVENT
DTSTAMP:20260423T000000Z
UID:d1148d17-7849-463e-8627-ab5eb34fb720@ClaytonBocce
DTSTART;TZID=America/Los_Angeles:20260618T093000
DTEND;TZID=America/Los_Angeles:20260618T120000
STATUS:CONFIRMED
SUMMARY:CARQUINEZ STRAITS vs OLD FASHION BOCCE
URL:/League/Schedule/3130
DESCRIPTION:Regular Season match: CARQUINEZ STRAITS vs OLD F
 ASHION BOCCE
LOCATION:Martinez Court 6
END:VEVENT
BEGIN:VEVENT
DTSTAMP:20260423T000000Z
UID:308210fd-a8a4-46b7-ba17-20556f42f4c3@ClaytonBocce
DTSTART;TZID=America/Los_Angeles:20260625T093000
DTEND;TZID=America/Los_Angeles:20260625T120000
STATUS:CONFIRMED
SUMMARY:CARQUINEZ STRAITS vs BOCCE MAGIC
URL:/League/Schedule/3130
DESCRIPTION:Regular Season match: CARQUINEZ STRAITS vs BOCCE
  MAGIC
LOCATION:Martinez Court 10
END:VEVENT
BEGIN:VEVENT
DTSTAMP:20260423T000000Z
UID:5d5d40e0-ac11-469b-88a0-8aadbaf2c395@ClaytonBocce
DTSTART;TZID=America/Los_Angeles:20260716T093000
DTEND;TZID=America/Los_Angeles:20260716T120000
STATUS:CONFIRMED
SUMMARY:CARQUINEZ STRAITS vs BADA BING
URL:/League/Schedule/3130
DESCRIPTION:Regular Season match: CARQUINEZ STRAITS vs BADA 
 BING
LOCATION:Martinez Court 12
END:VEVENT
BEGIN:VEVENT
DTSTAMP:20260423T000000Z
UID:dd509eef-9db7-41e0-b9e4-652feeb4cec0@ClaytonBocce
DTSTART;TZID=America/Los_Angeles:20260723T093000
DTEND;TZID=America/Los_Angeles:20260723T120000
STATUS:CONFIRMED
SUMMARY:CARQUINEZ STRAITS vs ABC
URL:/League/Schedule/3130
DESCRIPTION:Regular Season match: CARQUINEZ STRAITS vs ABC
LOCATION:Martinez Court 14
END:VEVENT
BEGIN:VEVENT
DTSTAMP:20260423T000000Z
UID:23df0d6e-061b-415c-ad5e-d57aed1ec854@ClaytonBocce
DTSTART;TZID=America/Los_Angeles:20260730T093000
DTEND;TZID=America/Los_Angeles:20260730T120000
STATUS:CONFIRMED
SUMMARY:CARQUINEZ STRAITS vs CROCKETT CRYSTALS
URL:/League/Schedule/3130
DESCRIPTION:Regular Season match: CARQUINEZ STRAITS vs CROCK
 ETT CRYSTALS
LOCATION:Martinez Court 7
END:VEVENT
BEGIN:VEVENT
DTSTAMP:20260423T000000Z
UID:21083085-bbdb-4931-a0c0-5709da428249@ClaytonBocce
DTSTART;TZID=America/Los_Angeles:20260806T093000
DTEND;TZID=America/Los_Angeles:20260806T120000
STATUS:CONFIRMED
SUMMARY:CARQUINEZ STRAITS vs VINO BOCCE
URL:/League/Schedule/3130
DESCRIPTION:Regular Season match: CARQUINEZ STRAITS vs VINO 
 BOCCE
LOCATION:Martinez Court 8
END:VEVENT
BEGIN:VEVENT
DTSTAMP:20260423T000000Z
UID:d4b0f14d-463b-4e39-9809-04d847f9de41@ClaytonBocce
DTSTART;TZID=America/Los_Angeles:20260813T093000
DTEND;TZID=America/Los_Angeles:20260813T120000
STATUS:CONFIRMED
SUMMARY:CARQUINEZ STRAITS vs OLD FASHION BOCCE
URL:/League/Schedule/3130
DESCRIPTION:Regular Season match: CARQUINEZ STRAITS vs OLD F
 ASHION BOCCE
LOCATION:Martinez Court 15
END:VEVENT
BEGIN:VEVENT
DTSTAMP:20260423T000000Z
UID:7e97d7e9-480e-4a59-9be9-e1cd2156d246@ClaytonBocce
DTSTART;TZID=America/Los_Angeles:20260820T093000
DTEND;TZID=America/Los_Angeles:20260820T120000
STATUS:CONFIRMED
SUMMARY:CARQUINEZ STRAITS vs BOCCE MAGIC
URL:/League/Schedule/3130
DESCRIPTION:Regular Season match: CARQUINEZ STRAITS vs BOCCE
  MAGIC
LOCATION:Martinez Court 2
END:VEVENT
BEGIN:VEVENT
DTSTAMP:20260423T000000Z
UID:bd0eed19-c3ff-49d3-abb5-3848dde6c2df@ClaytonBocce
DTSTART;TZID=America/Los_Angeles:20260903T093000
DTEND;TZID=America/Los_Angeles:20260903T120000
STATUS:CONFIRMED
SUMMARY:CARQUINEZ STRAITS vs BADA BING
URL:/League/Schedule/3130
DESCRIPTION:Regular Season match: CARQUINEZ STRAITS vs BADA 
 BING
LOCATION:Martinez Court 4
END:VEVENT
BEGIN:VEVENT
DTSTAMP:20260423T000000Z
UID:07884c34-04c8-4eca-8821-24fb59b0f75f@ClaytonBocce
DTSTART;TZID=America/Los_Angeles:20260910T093000
DTEND;TZID=America/Los_Angeles:20260910T120000
STATUS:CONFIRMED
SUMMARY:CARQUINEZ STRAITS vs ABC
URL:/League/Schedule/3130
DESCRIPTION:Regular Season match: CARQUINEZ STRAITS vs ABC
LOCATION:Martinez Court 13
END:VEVENT
BEGIN:VEVENT
DTSTAMP:20260423T000000Z
UID:5bc1a709-0173-4635-a7fa-786d484414aa@ClaytonBocce
DTSTART;TZID=America/Los_Angeles:20260917T093000
DTEND;TZID=America/Los_Angeles:20260917T120000
STATUS:CONFIRMED
SUMMARY:CARQUINEZ STRAITS vs CROCKETT CRYSTALS
URL:/League/Schedule/3130
DESCRIPTION:Regular Season match: CARQUINEZ STRAITS vs CROCK
 ETT CRYSTALS
LOCATION:Martinez Court 1
END:VEVENT
END:VCALENDAR
