BEGIN:VCALENDAR
VERSION:2.0
PRODID:-//Clayton Bocce League
METHOD:PUBLISH
BEGIN:VTIMEZONE
TZID:America/Los_Angeles
X-LIC-LOCATION:America/Los_Angeles
BEGIN:DAYLIGHT
TZOFFSETFROM:-0800
TZOFFSETTO:-0700
TZNAME:PDT
DTSTART:20070311T020000
RRULE:FREQ=YEARLY;BYMONTH=3;BYDAY=2SU
END:DAYLIGHT
BEGIN:STANDARD
TZOFFSETFROM:-0700
TZOFFSETTO:-0800
TZNAME:PST
DTSTART:20071104T020000
RRULE:FREQ=YEARLY;BYMONTH=11;BYDAY=1SU
END:STANDARD
END:VTIMEZONE
BEGIN:VEVENT
DTSTAMP:20260423T000000Z
UID:27d5f957-8ca1-4152-a84b-f79fa1ad9d6c@ClaytonBocce
DTSTART;TZID=America/Los_Angeles:20260423T093000
DTEND;TZID=America/Los_Angeles:20260423T120000
STATUS:CONFIRMED
SUMMARY:VINO BOCCE vs CARQUINEZ STRAITS
URL:/League/Schedule/3129
DESCRIPTION:Regular Season match: VINO BOCCE vs CARQUINEZ ST
 RAITS
LOCATION:Martinez Court 6
END:VEVENT
BEGIN:VEVENT
DTSTAMP:20260423T000000Z
UID:f095ee2f-b0e3-498b-b465-c58ad0976268@ClaytonBocce
DTSTART;TZID=America/Los_Angeles:20260430T093000
DTEND;TZID=America/Los_Angeles:20260430T120000
STATUS:CONFIRMED
SUMMARY:VINO BOCCE vs CROCKETT CRYSTALS
URL:/League/Schedule/3129
DESCRIPTION:Regular Season match: VINO BOCCE vs CROCKETT CRY
 STALS
LOCATION:Martinez Court 10
END:VEVENT
BEGIN:VEVENT
DTSTAMP:20260423T000000Z
UID:4573b4d4-f960-47a1-b523-e8b7dee451a0@ClaytonBocce
DTSTART;TZID=America/Los_Angeles:20260507T093000
DTEND;TZID=America/Los_Angeles:20260507T120000
STATUS:CONFIRMED
SUMMARY:VINO BOCCE vs OLD FASHION BOCCE
URL:/League/Schedule/3129
DESCRIPTION:Regular Season match: VINO BOCCE vs OLD FASHION 
 BOCCE
LOCATION:Martinez Court 1
END:VEVENT
BEGIN:VEVENT
DTSTAMP:20260423T000000Z
UID:9b5f251b-f202-40c1-818b-489c9a49717a@ClaytonBocce
DTSTART;TZID=America/Los_Angeles:20260514T093000
DTEND;TZID=America/Los_Angeles:20260514T120000
STATUS:CONFIRMED
SUMMARY:VINO BOCCE vs BOCCE MAGIC
URL:/League/Schedule/3129
DESCRIPTION:Regular Season match: VINO BOCCE vs BOCCE MAGIC
LOCATION:Martinez Court 3
END:VEVENT
BEGIN:VEVENT
DTSTAMP:20260423T000000Z
UID:795b135f-ed57-45b6-b8e8-11c151a26a60@ClaytonBocce
DTSTART;TZID=America/Los_Angeles:20260528T093000
DTEND;TZID=America/Los_Angeles:20260528T120000
STATUS:CONFIRMED
SUMMARY:VINO BOCCE vs BADA BING
URL:/League/Schedule/3129
DESCRIPTION:Regular Season match: VINO BOCCE vs BADA BING
LOCATION:Martinez Court 8
END:VEVENT
BEGIN:VEVENT
DTSTAMP:20260423T000000Z
UID:bb290d5e-76e9-466a-a808-b564eccf839d@ClaytonBocce
DTSTART;TZID=America/Los_Angeles:20260604T093000
DTEND;TZID=America/Los_Angeles:20260604T120000
STATUS:CONFIRMED
SUMMARY:VINO BOCCE vs ABC
URL:/League/Schedule/3129
DESCRIPTION:Regular Season match: VINO BOCCE vs ABC
LOCATION:Martinez Court 12
END:VEVENT
BEGIN:VEVENT
DTSTAMP:20260423T000000Z
UID:fab642f1-fa53-424c-9157-b1b8d754be2d@ClaytonBocce
DTSTART;TZID=America/Los_Angeles:20260611T093000
DTEND;TZID=America/Los_Angeles:20260611T120000
STATUS:CONFIRMED
SUMMARY:VINO BOCCE vs CARQUINEZ STRAITS
URL:/League/Schedule/3129
DESCRIPTION:Regular Season match: VINO BOCCE vs CARQUINEZ ST
 RAITS
LOCATION:Martinez Court 4
END:VEVENT
BEGIN:VEVENT
DTSTAMP:20260423T000000Z
UID:df659a03-2393-4d2d-a3dc-289398b7768e@ClaytonBocce
DTSTART;TZID=America/Los_Angeles:20260618T093000
DTEND;TZID=America/Los_Angeles:20260618T120000
STATUS:CONFIRMED
SUMMARY:VINO BOCCE vs CROCKETT CRYSTALS
URL:/League/Schedule/3129
DESCRIPTION:Regular Season match: VINO BOCCE vs CROCKETT CRY
 STALS
LOCATION:Martinez Court 14
END:VEVENT
BEGIN:VEVENT
DTSTAMP:20260423T000000Z
UID:ab64fd0d-bd4e-46e0-8821-e85bd90f1642@ClaytonBocce
DTSTART;TZID=America/Los_Angeles:20260625T093000
DTEND;TZID=America/Los_Angeles:20260625T120000
STATUS:CONFIRMED
SUMMARY:VINO BOCCE vs OLD FASHION BOCCE
URL:/League/Schedule/3129
DESCRIPTION:Regular Season match: VINO BOCCE vs OLD FASHION 
 BOCCE
LOCATION:Martinez Court 2
END:VEVENT
BEGIN:VEVENT
DTSTAMP:20260423T000000Z
UID:4664f8f4-3f39-4ac5-b105-5951f24369c3@ClaytonBocce
DTSTART;TZID=America/Los_Angeles:20260709T093000
DTEND;TZID=America/Los_Angeles:20260709T120000
STATUS:CONFIRMED
SUMMARY:VINO BOCCE vs BOCCE MAGIC
URL:/League/Schedule/3129
DESCRIPTION:Regular Season match: VINO BOCCE vs BOCCE MAGIC
LOCATION:Martinez Court 11
END:VEVENT
BEGIN:VEVENT
DTSTAMP:20260423T000000Z
UID:8c4f10d4-9ce2-45da-af3e-2d421f348172@ClaytonBocce
DTSTART;TZID=America/Los_Angeles:20260723T093000
DTEND;TZID=America/Los_Angeles:20260723T120000
STATUS:CONFIRMED
SUMMARY:VINO BOCCE vs BADA BING
URL:/League/Schedule/3129
DESCRIPTION:Regular Season match: VINO BOCCE vs BADA BING
LOCATION:Martinez Court 15
END:VEVENT
BEGIN:VEVENT
DTSTAMP:20260423T000000Z
UID:9e4ab4a1-cad4-4458-afb4-95413a0fc136@ClaytonBocce
DTSTART;TZID=America/Los_Angeles:20260730T093000
DTEND;TZID=America/Los_Angeles:20260730T120000
STATUS:CONFIRMED
SUMMARY:VINO BOCCE vs ABC
URL:/League/Schedule/3129
DESCRIPTION:Regular Season match: VINO BOCCE vs ABC
LOCATION:Martinez Court 5
END:VEVENT
BEGIN:VEVENT
DTSTAMP:20260423T000000Z
UID:21083085-bbdb-4931-a0c0-5709da428249@ClaytonBocce
DTSTART;TZID=America/Los_Angeles:20260806T093000
DTEND;TZID=America/Los_Angeles:20260806T120000
STATUS:CONFIRMED
SUMMARY:VINO BOCCE vs CARQUINEZ STRAITS
URL:/League/Schedule/3129
DESCRIPTION:Regular Season match: VINO BOCCE vs CARQUINEZ ST
 RAITS
LOCATION:Martinez Court 8
END:VEVENT
BEGIN:VEVENT
DTSTAMP:20260423T000000Z
UID:1fe78442-3139-4a32-b3b5-da8e488d5405@ClaytonBocce
DTSTART;TZID=America/Los_Angeles:20260813T093000
DTEND;TZID=America/Los_Angeles:20260813T120000
STATUS:CONFIRMED
SUMMARY:VINO BOCCE vs CROCKETT CRYSTALS
URL:/League/Schedule/3129
DESCRIPTION:Regular Season match: VINO BOCCE vs CROCKETT CRY
 STALS
LOCATION:Martinez Court 13
END:VEVENT
BEGIN:VEVENT
DTSTAMP:20260423T000000Z
UID:d106a0fe-3330-4d82-8354-4b185cbec153@ClaytonBocce
DTSTART;TZID=America/Los_Angeles:20260820T093000
DTEND;TZID=America/Los_Angeles:20260820T120000
STATUS:CONFIRMED
SUMMARY:VINO BOCCE vs OLD FASHION BOCCE
URL:/League/Schedule/3129
DESCRIPTION:Regular Season match: VINO BOCCE vs OLD FASHION 
 BOCCE
LOCATION:Martinez Court 4
END:VEVENT
BEGIN:VEVENT
DTSTAMP:20260423T000000Z
UID:0edc4a90-af67-4397-8ce8-45978461ae86@ClaytonBocce
DTSTART;TZID=America/Los_Angeles:20260827T093000
DTEND;TZID=America/Los_Angeles:20260827T120000
STATUS:CONFIRMED
SUMMARY:VINO BOCCE vs BOCCE MAGIC
URL:/League/Schedule/3129
DESCRIPTION:Regular Season match: VINO BOCCE vs BOCCE MAGIC
LOCATION:Martinez Court 15
END:VEVENT
BEGIN:VEVENT
DTSTAMP:20260423T000000Z
UID:15748d00-d674-489e-aea3-1f18a331d32d@ClaytonBocce
DTSTART;TZID=America/Los_Angeles:20260910T093000
DTEND;TZID=America/Los_Angeles:20260910T120000
STATUS:CONFIRMED
SUMMARY:VINO BOCCE vs BADA BING
URL:/League/Schedule/3129
DESCRIPTION:Regular Season match: VINO BOCCE vs BADA BING
LOCATION:Martinez Court 7
END:VEVENT
BEGIN:VEVENT
DTSTAMP:20260423T000000Z
UID:5b32bf87-eb06-4315-9e6b-720c9f94d6e9@ClaytonBocce
DTSTART;TZID=America/Los_Angeles:20260917T093000
DTEND;TZID=America/Los_Angeles:20260917T120000
STATUS:CONFIRMED
SUMMARY:VINO BOCCE vs ABC
URL:/League/Schedule/3129
DESCRIPTION:Regular Season match: VINO BOCCE vs ABC
LOCATION:Martinez Court 9
END:VEVENT
END:VCALENDAR
