BEGIN:VCALENDAR
VERSION:2.0
PRODID:-//Clayton Bocce League
METHOD:PUBLISH
BEGIN:VTIMEZONE
TZID:America/Los_Angeles
X-LIC-LOCATION:America/Los_Angeles
BEGIN:DAYLIGHT
TZOFFSETFROM:-0800
TZOFFSETTO:-0700
TZNAME:PDT
DTSTART:20070311T020000
RRULE:FREQ=YEARLY;BYMONTH=3;BYDAY=2SU
END:DAYLIGHT
BEGIN:STANDARD
TZOFFSETFROM:-0700
TZOFFSETTO:-0800
TZNAME:PST
DTSTART:20071104T020000
RRULE:FREQ=YEARLY;BYMONTH=11;BYDAY=1SU
END:STANDARD
END:VTIMEZONE
BEGIN:VEVENT
DTSTAMP:20260423T000000Z
UID:fdb2e573-e53a-4f30-b97d-f303e6b6bc7a@ClaytonBocce
DTSTART;TZID=America/Los_Angeles:20260423T093000
DTEND;TZID=America/Los_Angeles:20260423T120000
STATUS:CONFIRMED
SUMMARY:BADA BING vs CROCKETT CRYSTALS
URL:/League/Schedule/3131
DESCRIPTION:Regular Season match: BADA BING vs CROCKETT CRYS
 TALS
LOCATION:Martinez Court 5
END:VEVENT
BEGIN:VEVENT
DTSTAMP:20260423T000000Z
UID:bc0f19e6-bd2d-4fa6-9488-bfeeeb32d11a@ClaytonBocce
DTSTART;TZID=America/Los_Angeles:20260430T093000
DTEND;TZID=America/Los_Angeles:20260430T120000
STATUS:CONFIRMED
SUMMARY:BADA BING vs BOCCE MAGIC
URL:/League/Schedule/3131
DESCRIPTION:Regular Season match: BADA BING vs BOCCE MAGIC
LOCATION:Martinez Court 9
END:VEVENT
BEGIN:VEVENT
DTSTAMP:20260423T000000Z
UID:373b76c7-fe4b-4eef-8a6c-378f4616271d@ClaytonBocce
DTSTART;TZID=America/Los_Angeles:20260514T093000
DTEND;TZID=America/Los_Angeles:20260514T120000
STATUS:CONFIRMED
SUMMARY:BADA BING vs ABC
URL:/League/Schedule/3131
DESCRIPTION:Regular Season match: BADA BING vs ABC
LOCATION:Martinez Court 2
END:VEVENT
BEGIN:VEVENT
DTSTAMP:20260423T000000Z
UID:c1aa8af0-a007-45e2-95ef-144d5e691256@ClaytonBocce
DTSTART;TZID=America/Los_Angeles:20260521T093000
DTEND;TZID=America/Los_Angeles:20260521T120000
STATUS:CONFIRMED
SUMMARY:BADA BING vs CARQUINEZ STRAITS
URL:/League/Schedule/3131
DESCRIPTION:Regular Season match: BADA BING vs CARQUINEZ STR
 AITS
LOCATION:Martinez Court 7
END:VEVENT
BEGIN:VEVENT
DTSTAMP:20260423T000000Z
UID:795b135f-ed57-45b6-b8e8-11c151a26a60@ClaytonBocce
DTSTART;TZID=America/Los_Angeles:20260528T093000
DTEND;TZID=America/Los_Angeles:20260528T120000
STATUS:CONFIRMED
SUMMARY:BADA BING vs VINO BOCCE
URL:/League/Schedule/3131
DESCRIPTION:Regular Season match: BADA BING vs VINO BOCCE
LOCATION:Martinez Court 8
END:VEVENT
BEGIN:VEVENT
DTSTAMP:20260423T000000Z
UID:cfb17cde-4a14-47af-a2f6-5dbf59adc0ad@ClaytonBocce
DTSTART;TZID=America/Los_Angeles:20260604T093000
DTEND;TZID=America/Los_Angeles:20260604T120000
STATUS:CONFIRMED
SUMMARY:BADA BING vs OLD FASHION BOCCE
URL:/League/Schedule/3131
DESCRIPTION:Regular Season match: BADA BING vs OLD FASHION B
 OCCE
LOCATION:Martinez Court 14
END:VEVENT
BEGIN:VEVENT
DTSTAMP:20260423T000000Z
UID:b0ee85e8-d7d3-45ea-9e62-a6e19c24512d@ClaytonBocce
DTSTART;TZID=America/Los_Angeles:20260611T093000
DTEND;TZID=America/Los_Angeles:20260611T120000
STATUS:CONFIRMED
SUMMARY:BADA BING vs CROCKETT CRYSTALS
URL:/League/Schedule/3131
DESCRIPTION:Regular Season match: BADA BING vs CROCKETT CRYS
 TALS
LOCATION:Martinez Court 9
END:VEVENT
BEGIN:VEVENT
DTSTAMP:20260423T000000Z
UID:0e58003b-6722-4f9b-baf5-17a8f6dbff67@ClaytonBocce
DTSTART;TZID=America/Los_Angeles:20260618T093000
DTEND;TZID=America/Los_Angeles:20260618T120000
STATUS:CONFIRMED
SUMMARY:BADA BING vs BOCCE MAGIC
URL:/League/Schedule/3131
DESCRIPTION:Regular Season match: BADA BING vs BOCCE MAGIC
LOCATION:Martinez Court 13
END:VEVENT
BEGIN:VEVENT
DTSTAMP:20260423T000000Z
UID:fa412ff1-5f06-4320-92dc-9bc50f7da18b@ClaytonBocce
DTSTART;TZID=America/Los_Angeles:20260709T093000
DTEND;TZID=America/Los_Angeles:20260709T120000
STATUS:CONFIRMED
SUMMARY:BADA BING vs ABC
URL:/League/Schedule/3131
DESCRIPTION:Regular Season match: BADA BING vs ABC
LOCATION:Martinez Court 10
END:VEVENT
BEGIN:VEVENT
DTSTAMP:20260423T000000Z
UID:5d5d40e0-ac11-469b-88a0-8aadbaf2c395@ClaytonBocce
DTSTART;TZID=America/Los_Angeles:20260716T093000
DTEND;TZID=America/Los_Angeles:20260716T120000
STATUS:CONFIRMED
SUMMARY:BADA BING vs CARQUINEZ STRAITS
URL:/League/Schedule/3131
DESCRIPTION:Regular Season match: BADA BING vs CARQUINEZ STR
 AITS
LOCATION:Martinez Court 12
END:VEVENT
BEGIN:VEVENT
DTSTAMP:20260423T000000Z
UID:8c4f10d4-9ce2-45da-af3e-2d421f348172@ClaytonBocce
DTSTART;TZID=America/Los_Angeles:20260723T093000
DTEND;TZID=America/Los_Angeles:20260723T120000
STATUS:CONFIRMED
SUMMARY:BADA BING vs VINO BOCCE
URL:/League/Schedule/3131
DESCRIPTION:Regular Season match: BADA BING vs VINO BOCCE
LOCATION:Martinez Court 15
END:VEVENT
BEGIN:VEVENT
DTSTAMP:20260423T000000Z
UID:0fa260b0-6980-42b8-b220-39a5d1a55a96@ClaytonBocce
DTSTART;TZID=America/Los_Angeles:20260730T093000
DTEND;TZID=America/Los_Angeles:20260730T120000
STATUS:CONFIRMED
SUMMARY:BADA BING vs OLD FASHION BOCCE
URL:/League/Schedule/3131
DESCRIPTION:Regular Season match: BADA BING vs OLD FASHION B
 OCCE
LOCATION:Martinez Court 3
END:VEVENT
BEGIN:VEVENT
DTSTAMP:20260423T000000Z
UID:8e157862-6a2c-48c2-acc8-9a6e03260173@ClaytonBocce
DTSTART;TZID=America/Los_Angeles:20260806T093000
DTEND;TZID=America/Los_Angeles:20260806T120000
STATUS:CONFIRMED
SUMMARY:BADA BING vs CROCKETT CRYSTALS
URL:/League/Schedule/3131
DESCRIPTION:Regular Season match: BADA BING vs CROCKETT CRYS
 TALS
LOCATION:Martinez Court 11
END:VEVENT
BEGIN:VEVENT
DTSTAMP:20260423T000000Z
UID:1ac51dd3-bf47-4088-82f1-4a42492ba5c0@ClaytonBocce
DTSTART;TZID=America/Los_Angeles:20260813T093000
DTEND;TZID=America/Los_Angeles:20260813T120000
STATUS:CONFIRMED
SUMMARY:BADA BING vs BOCCE MAGIC
URL:/League/Schedule/3131
DESCRIPTION:Regular Season match: BADA BING vs BOCCE MAGIC
LOCATION:Martinez Court 1
END:VEVENT
BEGIN:VEVENT
DTSTAMP:20260423T000000Z
UID:308c2972-2488-4ecd-afc1-2d2bd68f00fa@ClaytonBocce
DTSTART;TZID=America/Los_Angeles:20260827T093000
DTEND;TZID=America/Los_Angeles:20260827T120000
STATUS:CONFIRMED
SUMMARY:BADA BING vs ABC
URL:/League/Schedule/3131
DESCRIPTION:Regular Season match: BADA BING vs ABC
LOCATION:Martinez Court 6
END:VEVENT
BEGIN:VEVENT
DTSTAMP:20260423T000000Z
UID:bd0eed19-c3ff-49d3-abb5-3848dde6c2df@ClaytonBocce
DTSTART;TZID=America/Los_Angeles:20260903T093000
DTEND;TZID=America/Los_Angeles:20260903T120000
STATUS:CONFIRMED
SUMMARY:BADA BING vs CARQUINEZ STRAITS
URL:/League/Schedule/3131
DESCRIPTION:Regular Season match: BADA BING vs CARQUINEZ STR
 AITS
LOCATION:Martinez Court 4
END:VEVENT
BEGIN:VEVENT
DTSTAMP:20260423T000000Z
UID:15748d00-d674-489e-aea3-1f18a331d32d@ClaytonBocce
DTSTART;TZID=America/Los_Angeles:20260910T093000
DTEND;TZID=America/Los_Angeles:20260910T120000
STATUS:CONFIRMED
SUMMARY:BADA BING vs VINO BOCCE
URL:/League/Schedule/3131
DESCRIPTION:Regular Season match: BADA BING vs VINO BOCCE
LOCATION:Martinez Court 7
END:VEVENT
BEGIN:VEVENT
DTSTAMP:20260423T000000Z
UID:a5054ad8-ad18-4233-a06f-2c3fe67e12fb@ClaytonBocce
DTSTART;TZID=America/Los_Angeles:20260917T093000
DTEND;TZID=America/Los_Angeles:20260917T120000
STATUS:CONFIRMED
SUMMARY:BADA BING vs OLD FASHION BOCCE
URL:/League/Schedule/3131
DESCRIPTION:Regular Season match: BADA BING vs OLD FASHION B
 OCCE
LOCATION:Martinez Court 8
END:VEVENT
END:VCALENDAR
