BEGIN:VCALENDAR
VERSION:2.0
PRODID:-//Clayton Bocce League
METHOD:PUBLISH
BEGIN:VTIMEZONE
TZID:America/Los_Angeles
X-LIC-LOCATION:America/Los_Angeles
BEGIN:DAYLIGHT
TZOFFSETFROM:-0800
TZOFFSETTO:-0700
TZNAME:PDT
DTSTART:20070311T020000
RRULE:FREQ=YEARLY;BYMONTH=3;BYDAY=2SU
END:DAYLIGHT
BEGIN:STANDARD
TZOFFSETFROM:-0700
TZOFFSETTO:-0800
TZNAME:PST
DTSTART:20071104T020000
RRULE:FREQ=YEARLY;BYMONTH=11;BYDAY=1SU
END:STANDARD
END:VTIMEZONE
BEGIN:VEVENT
DTSTAMP:20260423T000000Z
UID:fdb2e573-e53a-4f30-b97d-f303e6b6bc7a@ClaytonBocce
DTSTART;TZID=America/Los_Angeles:20260423T093000
DTEND;TZID=America/Los_Angeles:20260423T120000
STATUS:CONFIRMED
SUMMARY:CROCKETT CRYSTALS vs BADA BING
URL:/League/Schedule/3128
DESCRIPTION:Regular Season match: CROCKETT CRYSTALS vs BADA 
 BING
LOCATION:Martinez Court 5
END:VEVENT
BEGIN:VEVENT
DTSTAMP:20260423T000000Z
UID:f095ee2f-b0e3-498b-b465-c58ad0976268@ClaytonBocce
DTSTART;TZID=America/Los_Angeles:20260430T093000
DTEND;TZID=America/Los_Angeles:20260430T120000
STATUS:CONFIRMED
SUMMARY:CROCKETT CRYSTALS vs VINO BOCCE
URL:/League/Schedule/3128
DESCRIPTION:Regular Season match: CROCKETT CRYSTALS vs VINO 
 BOCCE
LOCATION:Martinez Court 10
END:VEVENT
BEGIN:VEVENT
DTSTAMP:20260423T000000Z
UID:158c80b3-8a59-4152-bfab-bf4a1c3c65cd@ClaytonBocce
DTSTART;TZID=America/Los_Angeles:20260507T093000
DTEND;TZID=America/Los_Angeles:20260507T120000
STATUS:CONFIRMED
SUMMARY:CROCKETT CRYSTALS vs ABC
URL:/League/Schedule/3128
DESCRIPTION:Regular Season match: CROCKETT CRYSTALS vs ABC
LOCATION:Martinez Court 15
END:VEVENT
BEGIN:VEVENT
DTSTAMP:20260423T000000Z
UID:7e821074-2306-4879-9ba9-4fd47f686e26@ClaytonBocce
DTSTART;TZID=America/Los_Angeles:20260514T093000
DTEND;TZID=America/Los_Angeles:20260514T120000
STATUS:CONFIRMED
SUMMARY:CROCKETT CRYSTALS vs OLD FASHION BOCCE
URL:/League/Schedule/3128
DESCRIPTION:Regular Season match: CROCKETT CRYSTALS vs OLD F
 ASHION BOCCE
LOCATION:Martinez Court 4
END:VEVENT
BEGIN:VEVENT
DTSTAMP:20260423T000000Z
UID:8d6ff759-f948-4dca-ae90-b1f537cce12a@ClaytonBocce
DTSTART;TZID=America/Los_Angeles:20260521T093000
DTEND;TZID=America/Los_Angeles:20260521T120000
STATUS:CONFIRMED
SUMMARY:CROCKETT CRYSTALS vs BOCCE MAGIC
URL:/League/Schedule/3128
DESCRIPTION:Regular Season match: CROCKETT CRYSTALS vs BOCCE
  MAGIC
LOCATION:Martinez Court 6
END:VEVENT
BEGIN:VEVENT
DTSTAMP:20260423T000000Z
UID:537623bb-2420-43a4-9bac-0755e9eff99f@ClaytonBocce
DTSTART;TZID=America/Los_Angeles:20260604T093000
DTEND;TZID=America/Los_Angeles:20260604T120000
STATUS:CONFIRMED
SUMMARY:CROCKETT CRYSTALS vs CARQUINEZ STRAITS
URL:/League/Schedule/3128
DESCRIPTION:Regular Season match: CROCKETT CRYSTALS vs CARQU
 INEZ STRAITS
LOCATION:Martinez Court 3
END:VEVENT
BEGIN:VEVENT
DTSTAMP:20260423T000000Z
UID:b0ee85e8-d7d3-45ea-9e62-a6e19c24512d@ClaytonBocce
DTSTART;TZID=America/Los_Angeles:20260611T093000
DTEND;TZID=America/Los_Angeles:20260611T120000
STATUS:CONFIRMED
SUMMARY:CROCKETT CRYSTALS vs BADA BING
URL:/League/Schedule/3128
DESCRIPTION:Regular Season match: CROCKETT CRYSTALS vs BADA 
 BING
LOCATION:Martinez Court 9
END:VEVENT
BEGIN:VEVENT
DTSTAMP:20260423T000000Z
UID:df659a03-2393-4d2d-a3dc-289398b7768e@ClaytonBocce
DTSTART;TZID=America/Los_Angeles:20260618T093000
DTEND;TZID=America/Los_Angeles:20260618T120000
STATUS:CONFIRMED
SUMMARY:CROCKETT CRYSTALS vs VINO BOCCE
URL:/League/Schedule/3128
DESCRIPTION:Regular Season match: CROCKETT CRYSTALS vs VINO 
 BOCCE
LOCATION:Martinez Court 14
END:VEVENT
BEGIN:VEVENT
DTSTAMP:20260423T000000Z
UID:27b25f43-40e2-448e-b808-5c347b6c8907@ClaytonBocce
DTSTART;TZID=America/Los_Angeles:20260625T093000
DTEND;TZID=America/Los_Angeles:20260625T120000
STATUS:CONFIRMED
SUMMARY:CROCKETT CRYSTALS vs ABC
URL:/League/Schedule/3128
DESCRIPTION:Regular Season match: CROCKETT CRYSTALS vs ABC
LOCATION:Martinez Court 11
END:VEVENT
BEGIN:VEVENT
DTSTAMP:20260423T000000Z
UID:755dd2d4-8654-456f-823b-1a345c462475@ClaytonBocce
DTSTART;TZID=America/Los_Angeles:20260709T093000
DTEND;TZID=America/Los_Angeles:20260709T120000
STATUS:CONFIRMED
SUMMARY:CROCKETT CRYSTALS vs OLD FASHION BOCCE
URL:/League/Schedule/3128
DESCRIPTION:Regular Season match: CROCKETT CRYSTALS vs OLD F
 ASHION BOCCE
LOCATION:Martinez Court 12
END:VEVENT
BEGIN:VEVENT
DTSTAMP:20260423T000000Z
UID:50191047-7e28-4b24-9654-d80f4f6af749@ClaytonBocce
DTSTART;TZID=America/Los_Angeles:20260716T093000
DTEND;TZID=America/Los_Angeles:20260716T120000
STATUS:CONFIRMED
SUMMARY:CROCKETT CRYSTALS vs BOCCE MAGIC
URL:/League/Schedule/3128
DESCRIPTION:Regular Season match: CROCKETT CRYSTALS vs BOCCE
  MAGIC
LOCATION:Martinez Court 8
END:VEVENT
BEGIN:VEVENT
DTSTAMP:20260423T000000Z
UID:23df0d6e-061b-415c-ad5e-d57aed1ec854@ClaytonBocce
DTSTART;TZID=America/Los_Angeles:20260730T093000
DTEND;TZID=America/Los_Angeles:20260730T120000
STATUS:CONFIRMED
SUMMARY:CROCKETT CRYSTALS vs CARQUINEZ STRAITS
URL:/League/Schedule/3128
DESCRIPTION:Regular Season match: CROCKETT CRYSTALS vs CARQU
 INEZ STRAITS
LOCATION:Martinez Court 7
END:VEVENT
BEGIN:VEVENT
DTSTAMP:20260423T000000Z
UID:8e157862-6a2c-48c2-acc8-9a6e03260173@ClaytonBocce
DTSTART;TZID=America/Los_Angeles:20260806T093000
DTEND;TZID=America/Los_Angeles:20260806T120000
STATUS:CONFIRMED
SUMMARY:CROCKETT CRYSTALS vs BADA BING
URL:/League/Schedule/3128
DESCRIPTION:Regular Season match: CROCKETT CRYSTALS vs BADA 
 BING
LOCATION:Martinez Court 11
END:VEVENT
BEGIN:VEVENT
DTSTAMP:20260423T000000Z
UID:1fe78442-3139-4a32-b3b5-da8e488d5405@ClaytonBocce
DTSTART;TZID=America/Los_Angeles:20260813T093000
DTEND;TZID=America/Los_Angeles:20260813T120000
STATUS:CONFIRMED
SUMMARY:CROCKETT CRYSTALS vs VINO BOCCE
URL:/League/Schedule/3128
DESCRIPTION:Regular Season match: CROCKETT CRYSTALS vs VINO 
 BOCCE
LOCATION:Martinez Court 13
END:VEVENT
BEGIN:VEVENT
DTSTAMP:20260423T000000Z
UID:1d940dce-c7a8-4c11-ab87-9102a24e004e@ClaytonBocce
DTSTART;TZID=America/Los_Angeles:20260820T093000
DTEND;TZID=America/Los_Angeles:20260820T120000
STATUS:CONFIRMED
SUMMARY:CROCKETT CRYSTALS vs ABC
URL:/League/Schedule/3128
DESCRIPTION:Regular Season match: CROCKETT CRYSTALS vs ABC
LOCATION:Martinez Court 3
END:VEVENT
BEGIN:VEVENT
DTSTAMP:20260423T000000Z
UID:6a95be3a-d95f-4f6f-b68f-c51c51a09117@ClaytonBocce
DTSTART;TZID=America/Los_Angeles:20260827T093000
DTEND;TZID=America/Los_Angeles:20260827T120000
STATUS:CONFIRMED
SUMMARY:CROCKETT CRYSTALS vs OLD FASHION BOCCE
URL:/League/Schedule/3128
DESCRIPTION:Regular Season match: CROCKETT CRYSTALS vs OLD F
 ASHION BOCCE
LOCATION:Martinez Court 2
END:VEVENT
BEGIN:VEVENT
DTSTAMP:20260423T000000Z
UID:8fffc940-6a23-469b-ab75-e7f89623c8de@ClaytonBocce
DTSTART;TZID=America/Los_Angeles:20260903T093000
DTEND;TZID=America/Los_Angeles:20260903T120000
STATUS:CONFIRMED
SUMMARY:CROCKETT CRYSTALS vs BOCCE MAGIC
URL:/League/Schedule/3128
DESCRIPTION:Regular Season match: CROCKETT CRYSTALS vs BOCCE
  MAGIC
LOCATION:Martinez Court 14
END:VEVENT
BEGIN:VEVENT
DTSTAMP:20260423T000000Z
UID:5bc1a709-0173-4635-a7fa-786d484414aa@ClaytonBocce
DTSTART;TZID=America/Los_Angeles:20260917T093000
DTEND;TZID=America/Los_Angeles:20260917T120000
STATUS:CONFIRMED
SUMMARY:CROCKETT CRYSTALS vs CARQUINEZ STRAITS
URL:/League/Schedule/3128
DESCRIPTION:Regular Season match: CROCKETT CRYSTALS vs CARQU
 INEZ STRAITS
LOCATION:Martinez Court 1
END:VEVENT
END:VCALENDAR
