BEGIN:VCALENDAR
VERSION:2.0
PRODID:-//Clayton Bocce League
METHOD:PUBLISH
BEGIN:VTIMEZONE
TZID:America/Los_Angeles
X-LIC-LOCATION:America/Los_Angeles
BEGIN:DAYLIGHT
TZOFFSETFROM:-0800
TZOFFSETTO:-0700
TZNAME:PDT
DTSTART:20070311T020000
RRULE:FREQ=YEARLY;BYMONTH=3;BYDAY=2SU
END:DAYLIGHT
BEGIN:STANDARD
TZOFFSETFROM:-0700
TZOFFSETTO:-0800
TZNAME:PST
DTSTART:20071104T020000
RRULE:FREQ=YEARLY;BYMONTH=11;BYDAY=1SU
END:STANDARD
END:VTIMEZONE
BEGIN:VEVENT
DTSTAMP:20260423T000000Z
UID:0cc9598a-d424-4ac9-a136-91292ac86e4e@ClaytonBocce
DTSTART;TZID=America/Los_Angeles:20260423T093000
DTEND;TZID=America/Los_Angeles:20260423T120000
STATUS:CONFIRMED
SUMMARY:BOCCE MAGIC vs ABC
URL:/League/Schedule/3127
DESCRIPTION:Regular Season match: BOCCE MAGIC vs ABC
LOCATION:Martinez Court 4
END:VEVENT
BEGIN:VEVENT
DTSTAMP:20260423T000000Z
UID:bc0f19e6-bd2d-4fa6-9488-bfeeeb32d11a@ClaytonBocce
DTSTART;TZID=America/Los_Angeles:20260430T093000
DTEND;TZID=America/Los_Angeles:20260430T120000
STATUS:CONFIRMED
SUMMARY:BOCCE MAGIC vs BADA BING
URL:/League/Schedule/3127
DESCRIPTION:Regular Season match: BOCCE MAGIC vs BADA BING
LOCATION:Martinez Court 9
END:VEVENT
BEGIN:VEVENT
DTSTAMP:20260423T000000Z
UID:198d2512-9546-4716-91bb-e0aeb43c15d1@ClaytonBocce
DTSTART;TZID=America/Los_Angeles:20260507T093000
DTEND;TZID=America/Los_Angeles:20260507T120000
STATUS:CONFIRMED
SUMMARY:BOCCE MAGIC vs CARQUINEZ STRAITS
URL:/League/Schedule/3127
DESCRIPTION:Regular Season match: BOCCE MAGIC vs CARQUINEZ S
 TRAITS
LOCATION:Martinez Court 14
END:VEVENT
BEGIN:VEVENT
DTSTAMP:20260423T000000Z
UID:9b5f251b-f202-40c1-818b-489c9a49717a@ClaytonBocce
DTSTART;TZID=America/Los_Angeles:20260514T093000
DTEND;TZID=America/Los_Angeles:20260514T120000
STATUS:CONFIRMED
SUMMARY:BOCCE MAGIC vs VINO BOCCE
URL:/League/Schedule/3127
DESCRIPTION:Regular Season match: BOCCE MAGIC vs VINO BOCCE
LOCATION:Martinez Court 3
END:VEVENT
BEGIN:VEVENT
DTSTAMP:20260423T000000Z
UID:8d6ff759-f948-4dca-ae90-b1f537cce12a@ClaytonBocce
DTSTART;TZID=America/Los_Angeles:20260521T093000
DTEND;TZID=America/Los_Angeles:20260521T120000
STATUS:CONFIRMED
SUMMARY:BOCCE MAGIC vs CROCKETT CRYSTALS
URL:/League/Schedule/3127
DESCRIPTION:Regular Season match: BOCCE MAGIC vs CROCKETT CR
 YSTALS
LOCATION:Martinez Court 6
END:VEVENT
BEGIN:VEVENT
DTSTAMP:20260423T000000Z
UID:7647f7b5-92b6-4be8-9826-108578e966e3@ClaytonBocce
DTSTART;TZID=America/Los_Angeles:20260528T093000
DTEND;TZID=America/Los_Angeles:20260528T120000
STATUS:CONFIRMED
SUMMARY:BOCCE MAGIC vs OLD FASHION BOCCE
URL:/League/Schedule/3127
DESCRIPTION:Regular Season match: BOCCE MAGIC vs OLD FASHION
  BOCCE
LOCATION:Martinez Court 7
END:VEVENT
BEGIN:VEVENT
DTSTAMP:20260423T000000Z
UID:a29179ca-568b-424b-803f-2cab3632c333@ClaytonBocce
DTSTART;TZID=America/Los_Angeles:20260611T093000
DTEND;TZID=America/Los_Angeles:20260611T120000
STATUS:CONFIRMED
SUMMARY:BOCCE MAGIC vs ABC
URL:/League/Schedule/3127
DESCRIPTION:Regular Season match: BOCCE MAGIC vs ABC
LOCATION:Martinez Court 5
END:VEVENT
BEGIN:VEVENT
DTSTAMP:20260423T000000Z
UID:0e58003b-6722-4f9b-baf5-17a8f6dbff67@ClaytonBocce
DTSTART;TZID=America/Los_Angeles:20260618T093000
DTEND;TZID=America/Los_Angeles:20260618T120000
STATUS:CONFIRMED
SUMMARY:BOCCE MAGIC vs BADA BING
URL:/League/Schedule/3127
DESCRIPTION:Regular Season match: BOCCE MAGIC vs BADA BING
LOCATION:Martinez Court 13
END:VEVENT
BEGIN:VEVENT
DTSTAMP:20260423T000000Z
UID:308210fd-a8a4-46b7-ba17-20556f42f4c3@ClaytonBocce
DTSTART;TZID=America/Los_Angeles:20260625T093000
DTEND;TZID=America/Los_Angeles:20260625T120000
STATUS:CONFIRMED
SUMMARY:BOCCE MAGIC vs CARQUINEZ STRAITS
URL:/League/Schedule/3127
DESCRIPTION:Regular Season match: BOCCE MAGIC vs CARQUINEZ S
 TRAITS
LOCATION:Martinez Court 10
END:VEVENT
BEGIN:VEVENT
DTSTAMP:20260423T000000Z
UID:4664f8f4-3f39-4ac5-b105-5951f24369c3@ClaytonBocce
DTSTART;TZID=America/Los_Angeles:20260709T093000
DTEND;TZID=America/Los_Angeles:20260709T120000
STATUS:CONFIRMED
SUMMARY:BOCCE MAGIC vs VINO BOCCE
URL:/League/Schedule/3127
DESCRIPTION:Regular Season match: BOCCE MAGIC vs VINO BOCCE
LOCATION:Martinez Court 11
END:VEVENT
BEGIN:VEVENT
DTSTAMP:20260423T000000Z
UID:50191047-7e28-4b24-9654-d80f4f6af749@ClaytonBocce
DTSTART;TZID=America/Los_Angeles:20260716T093000
DTEND;TZID=America/Los_Angeles:20260716T120000
STATUS:CONFIRMED
SUMMARY:BOCCE MAGIC vs CROCKETT CRYSTALS
URL:/League/Schedule/3127
DESCRIPTION:Regular Season match: BOCCE MAGIC vs CROCKETT CR
 YSTALS
LOCATION:Martinez Court 8
END:VEVENT
BEGIN:VEVENT
DTSTAMP:20260423T000000Z
UID:83d0bc6f-8dd2-4a35-a38b-77d73e8e0aef@ClaytonBocce
DTSTART;TZID=America/Los_Angeles:20260723T093000
DTEND;TZID=America/Los_Angeles:20260723T120000
STATUS:CONFIRMED
SUMMARY:BOCCE MAGIC vs OLD FASHION BOCCE
URL:/League/Schedule/3127
DESCRIPTION:Regular Season match: BOCCE MAGIC vs OLD FASHION
  BOCCE
LOCATION:Martinez Court 10
END:VEVENT
BEGIN:VEVENT
DTSTAMP:20260423T000000Z
UID:7e847976-a358-4af8-9abb-30dceb47e59c@ClaytonBocce
DTSTART;TZID=America/Los_Angeles:20260806T093000
DTEND;TZID=America/Los_Angeles:20260806T120000
STATUS:CONFIRMED
SUMMARY:BOCCE MAGIC vs ABC
URL:/League/Schedule/3127
DESCRIPTION:Regular Season match: BOCCE MAGIC vs ABC
LOCATION:Martinez Court 12
END:VEVENT
BEGIN:VEVENT
DTSTAMP:20260423T000000Z
UID:1ac51dd3-bf47-4088-82f1-4a42492ba5c0@ClaytonBocce
DTSTART;TZID=America/Los_Angeles:20260813T093000
DTEND;TZID=America/Los_Angeles:20260813T120000
STATUS:CONFIRMED
SUMMARY:BOCCE MAGIC vs BADA BING
URL:/League/Schedule/3127
DESCRIPTION:Regular Season match: BOCCE MAGIC vs BADA BING
LOCATION:Martinez Court 1
END:VEVENT
BEGIN:VEVENT
DTSTAMP:20260423T000000Z
UID:7e97d7e9-480e-4a59-9be9-e1cd2156d246@ClaytonBocce
DTSTART;TZID=America/Los_Angeles:20260820T093000
DTEND;TZID=America/Los_Angeles:20260820T120000
STATUS:CONFIRMED
SUMMARY:BOCCE MAGIC vs CARQUINEZ STRAITS
URL:/League/Schedule/3127
DESCRIPTION:Regular Season match: BOCCE MAGIC vs CARQUINEZ S
 TRAITS
LOCATION:Martinez Court 2
END:VEVENT
BEGIN:VEVENT
DTSTAMP:20260423T000000Z
UID:0edc4a90-af67-4397-8ce8-45978461ae86@ClaytonBocce
DTSTART;TZID=America/Los_Angeles:20260827T093000
DTEND;TZID=America/Los_Angeles:20260827T120000
STATUS:CONFIRMED
SUMMARY:BOCCE MAGIC vs VINO BOCCE
URL:/League/Schedule/3127
DESCRIPTION:Regular Season match: BOCCE MAGIC vs VINO BOCCE
LOCATION:Martinez Court 15
END:VEVENT
BEGIN:VEVENT
DTSTAMP:20260423T000000Z
UID:8fffc940-6a23-469b-ab75-e7f89623c8de@ClaytonBocce
DTSTART;TZID=America/Los_Angeles:20260903T093000
DTEND;TZID=America/Los_Angeles:20260903T120000
STATUS:CONFIRMED
SUMMARY:BOCCE MAGIC vs CROCKETT CRYSTALS
URL:/League/Schedule/3127
DESCRIPTION:Regular Season match: BOCCE MAGIC vs CROCKETT CR
 YSTALS
LOCATION:Martinez Court 14
END:VEVENT
BEGIN:VEVENT
DTSTAMP:20260423T000000Z
UID:68724fea-15bd-436a-8b0c-ee0407f9a93e@ClaytonBocce
DTSTART;TZID=America/Los_Angeles:20260910T093000
DTEND;TZID=America/Los_Angeles:20260910T120000
STATUS:CONFIRMED
SUMMARY:BOCCE MAGIC vs OLD FASHION BOCCE
URL:/League/Schedule/3127
DESCRIPTION:Regular Season match: BOCCE MAGIC vs OLD FASHION
  BOCCE
LOCATION:Martinez Court 9
END:VEVENT
END:VCALENDAR
