BEGIN:VCALENDAR
VERSION:2.0
PRODID:-//Clayton Bocce League
METHOD:PUBLISH
BEGIN:VTIMEZONE
TZID:America/Los_Angeles
X-LIC-LOCATION:America/Los_Angeles
BEGIN:DAYLIGHT
TZOFFSETFROM:-0800
TZOFFSETTO:-0700
TZNAME:PDT
DTSTART:20070311T020000
RRULE:FREQ=YEARLY;BYMONTH=3;BYDAY=2SU
END:DAYLIGHT
BEGIN:STANDARD
TZOFFSETFROM:-0700
TZOFFSETTO:-0800
TZNAME:PST
DTSTART:20071104T020000
RRULE:FREQ=YEARLY;BYMONTH=11;BYDAY=1SU
END:STANDARD
END:VTIMEZONE
BEGIN:VEVENT
DTSTAMP:20260423T000000Z
UID:0cc9598a-d424-4ac9-a136-91292ac86e4e@ClaytonBocce
DTSTART;TZID=America/Los_Angeles:20260423T093000
DTEND;TZID=America/Los_Angeles:20260423T120000
STATUS:CONFIRMED
SUMMARY:ABC vs BOCCE MAGIC
URL:/League/Schedule/3132
DESCRIPTION:Regular Season match: ABC vs BOCCE MAGIC
LOCATION:Martinez Court 4
END:VEVENT
BEGIN:VEVENT
DTSTAMP:20260423T000000Z
UID:158c80b3-8a59-4152-bfab-bf4a1c3c65cd@ClaytonBocce
DTSTART;TZID=America/Los_Angeles:20260507T093000
DTEND;TZID=America/Los_Angeles:20260507T120000
STATUS:CONFIRMED
SUMMARY:ABC vs CROCKETT CRYSTALS
URL:/League/Schedule/3132
DESCRIPTION:Regular Season match: ABC vs CROCKETT CRYSTALS
LOCATION:Martinez Court 15
END:VEVENT
BEGIN:VEVENT
DTSTAMP:20260423T000000Z
UID:373b76c7-fe4b-4eef-8a6c-378f4616271d@ClaytonBocce
DTSTART;TZID=America/Los_Angeles:20260514T093000
DTEND;TZID=America/Los_Angeles:20260514T120000
STATUS:CONFIRMED
SUMMARY:ABC vs BADA BING
URL:/League/Schedule/3132
DESCRIPTION:Regular Season match: ABC vs BADA BING
LOCATION:Martinez Court 2
END:VEVENT
BEGIN:VEVENT
DTSTAMP:20260423T000000Z
UID:f71db726-899f-40c4-ba27-2248b5db699d@ClaytonBocce
DTSTART;TZID=America/Los_Angeles:20260521T093000
DTEND;TZID=America/Los_Angeles:20260521T120000
STATUS:CONFIRMED
SUMMARY:ABC vs OLD FASHION BOCCE
URL:/League/Schedule/3132
DESCRIPTION:Regular Season match: ABC vs OLD FASHION BOCCE
LOCATION:Martinez Court 8
END:VEVENT
BEGIN:VEVENT
DTSTAMP:20260423T000000Z
UID:81795aca-1e27-4355-89d0-5161f21f5084@ClaytonBocce
DTSTART;TZID=America/Los_Angeles:20260528T093000
DTEND;TZID=America/Los_Angeles:20260528T120000
STATUS:CONFIRMED
SUMMARY:ABC vs CARQUINEZ STRAITS
URL:/League/Schedule/3132
DESCRIPTION:Regular Season match: ABC vs CARQUINEZ STRAITS
LOCATION:Martinez Court 9
END:VEVENT
BEGIN:VEVENT
DTSTAMP:20260423T000000Z
UID:bb290d5e-76e9-466a-a808-b564eccf839d@ClaytonBocce
DTSTART;TZID=America/Los_Angeles:20260604T093000
DTEND;TZID=America/Los_Angeles:20260604T120000
STATUS:CONFIRMED
SUMMARY:ABC vs VINO BOCCE
URL:/League/Schedule/3132
DESCRIPTION:Regular Season match: ABC vs VINO BOCCE
LOCATION:Martinez Court 12
END:VEVENT
BEGIN:VEVENT
DTSTAMP:20260423T000000Z
UID:a29179ca-568b-424b-803f-2cab3632c333@ClaytonBocce
DTSTART;TZID=America/Los_Angeles:20260611T093000
DTEND;TZID=America/Los_Angeles:20260611T120000
STATUS:CONFIRMED
SUMMARY:ABC vs BOCCE MAGIC
URL:/League/Schedule/3132
DESCRIPTION:Regular Season match: ABC vs BOCCE MAGIC
LOCATION:Martinez Court 5
END:VEVENT
BEGIN:VEVENT
DTSTAMP:20260423T000000Z
UID:27b25f43-40e2-448e-b808-5c347b6c8907@ClaytonBocce
DTSTART;TZID=America/Los_Angeles:20260625T093000
DTEND;TZID=America/Los_Angeles:20260625T120000
STATUS:CONFIRMED
SUMMARY:ABC vs CROCKETT CRYSTALS
URL:/League/Schedule/3132
DESCRIPTION:Regular Season match: ABC vs CROCKETT CRYSTALS
LOCATION:Martinez Court 11
END:VEVENT
BEGIN:VEVENT
DTSTAMP:20260423T000000Z
UID:fa412ff1-5f06-4320-92dc-9bc50f7da18b@ClaytonBocce
DTSTART;TZID=America/Los_Angeles:20260709T093000
DTEND;TZID=America/Los_Angeles:20260709T120000
STATUS:CONFIRMED
SUMMARY:ABC vs BADA BING
URL:/League/Schedule/3132
DESCRIPTION:Regular Season match: ABC vs BADA BING
LOCATION:Martinez Court 10
END:VEVENT
BEGIN:VEVENT
DTSTAMP:20260423T000000Z
UID:f488765e-9d0b-476c-b4ee-26226319a7fa@ClaytonBocce
DTSTART;TZID=America/Los_Angeles:20260716T093000
DTEND;TZID=America/Los_Angeles:20260716T120000
STATUS:CONFIRMED
SUMMARY:ABC vs OLD FASHION BOCCE
URL:/League/Schedule/3132
DESCRIPTION:Regular Season match: ABC vs OLD FASHION BOCCE
LOCATION:Martinez Court 13
END:VEVENT
BEGIN:VEVENT
DTSTAMP:20260423T000000Z
UID:dd509eef-9db7-41e0-b9e4-652feeb4cec0@ClaytonBocce
DTSTART;TZID=America/Los_Angeles:20260723T093000
DTEND;TZID=America/Los_Angeles:20260723T120000
STATUS:CONFIRMED
SUMMARY:ABC vs CARQUINEZ STRAITS
URL:/League/Schedule/3132
DESCRIPTION:Regular Season match: ABC vs CARQUINEZ STRAITS
LOCATION:Martinez Court 14
END:VEVENT
BEGIN:VEVENT
DTSTAMP:20260423T000000Z
UID:9e4ab4a1-cad4-4458-afb4-95413a0fc136@ClaytonBocce
DTSTART;TZID=America/Los_Angeles:20260730T093000
DTEND;TZID=America/Los_Angeles:20260730T120000
STATUS:CONFIRMED
SUMMARY:ABC vs VINO BOCCE
URL:/League/Schedule/3132
DESCRIPTION:Regular Season match: ABC vs VINO BOCCE
LOCATION:Martinez Court 5
END:VEVENT
BEGIN:VEVENT
DTSTAMP:20260423T000000Z
UID:7e847976-a358-4af8-9abb-30dceb47e59c@ClaytonBocce
DTSTART;TZID=America/Los_Angeles:20260806T093000
DTEND;TZID=America/Los_Angeles:20260806T120000
STATUS:CONFIRMED
SUMMARY:ABC vs BOCCE MAGIC
URL:/League/Schedule/3132
DESCRIPTION:Regular Season match: ABC vs BOCCE MAGIC
LOCATION:Martinez Court 12
END:VEVENT
BEGIN:VEVENT
DTSTAMP:20260423T000000Z
UID:1d940dce-c7a8-4c11-ab87-9102a24e004e@ClaytonBocce
DTSTART;TZID=America/Los_Angeles:20260820T093000
DTEND;TZID=America/Los_Angeles:20260820T120000
STATUS:CONFIRMED
SUMMARY:ABC vs CROCKETT CRYSTALS
URL:/League/Schedule/3132
DESCRIPTION:Regular Season match: ABC vs CROCKETT CRYSTALS
LOCATION:Martinez Court 3
END:VEVENT
BEGIN:VEVENT
DTSTAMP:20260423T000000Z
UID:308c2972-2488-4ecd-afc1-2d2bd68f00fa@ClaytonBocce
DTSTART;TZID=America/Los_Angeles:20260827T093000
DTEND;TZID=America/Los_Angeles:20260827T120000
STATUS:CONFIRMED
SUMMARY:ABC vs BADA BING
URL:/League/Schedule/3132
DESCRIPTION:Regular Season match: ABC vs BADA BING
LOCATION:Martinez Court 6
END:VEVENT
BEGIN:VEVENT
DTSTAMP:20260423T000000Z
UID:302f1a19-5b02-4b87-86dc-9a6397bbc645@ClaytonBocce
DTSTART;TZID=America/Los_Angeles:20260903T093000
DTEND;TZID=America/Los_Angeles:20260903T120000
STATUS:CONFIRMED
SUMMARY:ABC vs OLD FASHION BOCCE
URL:/League/Schedule/3132
DESCRIPTION:Regular Season match: ABC vs OLD FASHION BOCCE
LOCATION:Martinez Court 1
END:VEVENT
BEGIN:VEVENT
DTSTAMP:20260423T000000Z
UID:07884c34-04c8-4eca-8821-24fb59b0f75f@ClaytonBocce
DTSTART;TZID=America/Los_Angeles:20260910T093000
DTEND;TZID=America/Los_Angeles:20260910T120000
STATUS:CONFIRMED
SUMMARY:ABC vs CARQUINEZ STRAITS
URL:/League/Schedule/3132
DESCRIPTION:Regular Season match: ABC vs CARQUINEZ STRAITS
LOCATION:Martinez Court 13
END:VEVENT
BEGIN:VEVENT
DTSTAMP:20260423T000000Z
UID:5b32bf87-eb06-4315-9e6b-720c9f94d6e9@ClaytonBocce
DTSTART;TZID=America/Los_Angeles:20260917T093000
DTEND;TZID=America/Los_Angeles:20260917T120000
STATUS:CONFIRMED
SUMMARY:ABC vs VINO BOCCE
URL:/League/Schedule/3132
DESCRIPTION:Regular Season match: ABC vs VINO BOCCE
LOCATION:Martinez Court 9
END:VEVENT
END:VCALENDAR
