BEGIN:VCALENDAR
VERSION:2.0
PRODID:-//Clayton Bocce League
METHOD:PUBLISH
BEGIN:VTIMEZONE
TZID:America/Los_Angeles
X-LIC-LOCATION:America/Los_Angeles
BEGIN:DAYLIGHT
TZOFFSETFROM:-0800
TZOFFSETTO:-0700
TZNAME:PDT
DTSTART:20070311T020000
RRULE:FREQ=YEARLY;BYMONTH=3;BYDAY=2SU
END:DAYLIGHT
BEGIN:STANDARD
TZOFFSETFROM:-0700
TZOFFSETTO:-0800
TZNAME:PST
DTSTART:20071104T020000
RRULE:FREQ=YEARLY;BYMONTH=11;BYDAY=1SU
END:STANDARD
END:VTIMEZONE
BEGIN:VEVENT
DTSTAMP:20260423T000000Z
UID:0b8d5ac4-5bcd-4e4a-a754-bf82cee64822@ClaytonBocce
DTSTART;TZID=America/Los_Angeles:20260423T093000
DTEND;TZID=America/Los_Angeles:20260423T120000
STATUS:CONFIRMED
SUMMARY:4TH QUARTER vs AMICI
URL:/League/Schedule/3121
DESCRIPTION:Regular Season match: 4TH QUARTER vs AMICI
LOCATION:Martinez Court 2
END:VEVENT
BEGIN:VEVENT
DTSTAMP:20260423T000000Z
UID:009e8b59-a005-45dc-829b-1590e6cedff8@ClaytonBocce
DTSTART;TZID=America/Los_Angeles:20260430T093000
DTEND;TZID=America/Los_Angeles:20260430T120000
STATUS:CONFIRMED
SUMMARY:4TH QUARTER vs SHORTS NO GOOD
URL:/League/Schedule/3121
DESCRIPTION:Regular Season match: 4TH QUARTER vs SHORTS NO G
 OOD
LOCATION:Martinez Court 7
END:VEVENT
BEGIN:VEVENT
DTSTAMP:20260423T000000Z
UID:ddf8513f-afe8-4c9c-9e20-8bfc176d7cb5@ClaytonBocce
DTSTART;TZID=America/Los_Angeles:20260507T093000
DTEND;TZID=America/Los_Angeles:20260507T120000
STATUS:CONFIRMED
SUMMARY:4TH QUARTER vs MISFITS
URL:/League/Schedule/3121
DESCRIPTION:Regular Season match: 4TH QUARTER vs MISFITS
LOCATION:Martinez Court 12
END:VEVENT
BEGIN:VEVENT
DTSTAMP:20260423T000000Z
UID:777de1f0-37e2-4955-92b5-9678d562a009@ClaytonBocce
DTSTART;TZID=America/Los_Angeles:20260514T093000
DTEND;TZID=America/Los_Angeles:20260514T120000
STATUS:CONFIRMED
SUMMARY:4TH QUARTER vs BLUE BALLS
URL:/League/Schedule/3121
DESCRIPTION:Regular Season match: 4TH QUARTER vs BLUE BALLS
LOCATION:Martinez Court 1
END:VEVENT
BEGIN:VEVENT
DTSTAMP:20260423T000000Z
UID:640f4975-9050-4ea4-84d7-1d801374f29c@ClaytonBocce
DTSTART;TZID=America/Los_Angeles:20260521T093000
DTEND;TZID=America/Los_Angeles:20260521T120000
STATUS:CONFIRMED
SUMMARY:4TH QUARTER vs BOCCE BY TATE
URL:/League/Schedule/3121
DESCRIPTION:Regular Season match: 4TH QUARTER vs BOCCE BY TA
 TE
LOCATION:Martinez Court 3
END:VEVENT
BEGIN:VEVENT
DTSTAMP:20260423T000000Z
UID:894cf0a2-f796-4521-ae34-5bd60587ad09@ClaytonBocce
DTSTART;TZID=America/Los_Angeles:20260604T093000
DTEND;TZID=America/Los_Angeles:20260604T120000
STATUS:CONFIRMED
SUMMARY:4TH QUARTER vs VAGABONDS
URL:/League/Schedule/3121
DESCRIPTION:Regular Season match: 4TH QUARTER vs VAGABONDS
LOCATION:Martinez Court 10
END:VEVENT
BEGIN:VEVENT
DTSTAMP:20260423T000000Z
UID:0371e066-f1b1-4ce4-9b3d-49f073bef093@ClaytonBocce
DTSTART;TZID=America/Los_Angeles:20260611T093000
DTEND;TZID=America/Los_Angeles:20260611T120000
STATUS:CONFIRMED
SUMMARY:4TH QUARTER vs AMICI
URL:/League/Schedule/3121
DESCRIPTION:Regular Season match: 4TH QUARTER vs AMICI
LOCATION:Martinez Court 8
END:VEVENT
BEGIN:VEVENT
DTSTAMP:20260423T000000Z
UID:af4d257d-3037-45e8-b3d3-cc83f4d1a2f2@ClaytonBocce
DTSTART;TZID=America/Los_Angeles:20260618T093000
DTEND;TZID=America/Los_Angeles:20260618T120000
STATUS:CONFIRMED
SUMMARY:4TH QUARTER vs SHORTS NO GOOD
URL:/League/Schedule/3121
DESCRIPTION:Regular Season match: 4TH QUARTER vs SHORTS NO G
 OOD
LOCATION:Martinez Court 4
END:VEVENT
BEGIN:VEVENT
DTSTAMP:20260423T000000Z
UID:4ca7acd2-325d-4114-99b1-eb13675388aa@ClaytonBocce
DTSTART;TZID=America/Los_Angeles:20260625T093000
DTEND;TZID=America/Los_Angeles:20260625T120000
STATUS:CONFIRMED
SUMMARY:4TH QUARTER vs MISFITS
URL:/League/Schedule/3121
DESCRIPTION:Regular Season match: 4TH QUARTER vs MISFITS
LOCATION:Martinez Court 15
END:VEVENT
BEGIN:VEVENT
DTSTAMP:20260423T000000Z
UID:bfe1ac12-f9f7-46fd-90c2-541c9b637f62@ClaytonBocce
DTSTART;TZID=America/Los_Angeles:20260709T093000
DTEND;TZID=America/Los_Angeles:20260709T120000
STATUS:CONFIRMED
SUMMARY:4TH QUARTER vs BLUE BALLS
URL:/League/Schedule/3121
DESCRIPTION:Regular Season match: 4TH QUARTER vs BLUE BALLS
LOCATION:Martinez Court 9
END:VEVENT
BEGIN:VEVENT
DTSTAMP:20260423T000000Z
UID:4ffb60ec-9d6b-466d-8787-2928f08da76e@ClaytonBocce
DTSTART;TZID=America/Los_Angeles:20260716T093000
DTEND;TZID=America/Los_Angeles:20260716T120000
STATUS:CONFIRMED
SUMMARY:4TH QUARTER vs BOCCE BY TATE
URL:/League/Schedule/3121
DESCRIPTION:Regular Season match: 4TH QUARTER vs BOCCE BY TA
 TE
LOCATION:Martinez Court 5
END:VEVENT
BEGIN:VEVENT
DTSTAMP:20260423T000000Z
UID:775ad901-e3c3-4fef-bfe6-5eb9b206c10e@ClaytonBocce
DTSTART;TZID=America/Los_Angeles:20260730T093000
DTEND;TZID=America/Los_Angeles:20260730T120000
STATUS:CONFIRMED
SUMMARY:4TH QUARTER vs VAGABONDS
URL:/League/Schedule/3121
DESCRIPTION:Regular Season match: 4TH QUARTER vs VAGABONDS
LOCATION:Martinez Court 13
END:VEVENT
BEGIN:VEVENT
DTSTAMP:20260423T000000Z
UID:5116ca71-c687-4d75-86c1-5a1b3fbc9b7c@ClaytonBocce
DTSTART;TZID=America/Los_Angeles:20260806T093000
DTEND;TZID=America/Los_Angeles:20260806T120000
STATUS:CONFIRMED
SUMMARY:4TH QUARTER vs AMICI
URL:/League/Schedule/3121
DESCRIPTION:Regular Season match: 4TH QUARTER vs AMICI
LOCATION:Martinez Court 10
END:VEVENT
BEGIN:VEVENT
DTSTAMP:20260423T000000Z
UID:fe1d37f2-43e0-476e-9637-6a057df62c2f@ClaytonBocce
DTSTART;TZID=America/Los_Angeles:20260813T093000
DTEND;TZID=America/Los_Angeles:20260813T120000
STATUS:CONFIRMED
SUMMARY:4TH QUARTER vs SHORTS NO GOOD
URL:/League/Schedule/3121
DESCRIPTION:Regular Season match: 4TH QUARTER vs SHORTS NO G
 OOD
LOCATION:Martinez Court 2
END:VEVENT
BEGIN:VEVENT
DTSTAMP:20260423T000000Z
UID:677f2e30-14b9-4448-84a5-89f5d1d37f09@ClaytonBocce
DTSTART;TZID=America/Los_Angeles:20260820T093000
DTEND;TZID=America/Los_Angeles:20260820T120000
STATUS:CONFIRMED
SUMMARY:4TH QUARTER vs MISFITS
URL:/League/Schedule/3121
DESCRIPTION:Regular Season match: 4TH QUARTER vs MISFITS
LOCATION:Martinez Court 6
END:VEVENT
BEGIN:VEVENT
DTSTAMP:20260423T000000Z
UID:f3fbe451-c17f-4d5c-aedf-126486e4797f@ClaytonBocce
DTSTART;TZID=America/Los_Angeles:20260827T093000
DTEND;TZID=America/Los_Angeles:20260827T120000
STATUS:CONFIRMED
SUMMARY:4TH QUARTER vs BLUE BALLS
URL:/League/Schedule/3121
DESCRIPTION:Regular Season match: 4TH QUARTER vs BLUE BALLS
LOCATION:Martinez Court 14
END:VEVENT
BEGIN:VEVENT
DTSTAMP:20260423T000000Z
UID:63829543-3b97-429e-8a6f-d9a1c6cefe1d@ClaytonBocce
DTSTART;TZID=America/Los_Angeles:20260903T093000
DTEND;TZID=America/Los_Angeles:20260903T120000
STATUS:CONFIRMED
SUMMARY:4TH QUARTER vs BOCCE BY TATE
URL:/League/Schedule/3121
DESCRIPTION:Regular Season match: 4TH QUARTER vs BOCCE BY TA
 TE
LOCATION:Martinez Court 11
END:VEVENT
BEGIN:VEVENT
DTSTAMP:20260423T000000Z
UID:15519aa1-b602-4cf8-b2e8-2100140020a9@ClaytonBocce
DTSTART;TZID=America/Los_Angeles:20260917T093000
DTEND;TZID=America/Los_Angeles:20260917T120000
STATUS:CONFIRMED
SUMMARY:4TH QUARTER vs VAGABONDS
URL:/League/Schedule/3121
DESCRIPTION:Regular Season match: 4TH QUARTER vs VAGABONDS
LOCATION:Martinez Court 15
END:VEVENT
END:VCALENDAR
