BEGIN:VCALENDAR
VERSION:2.0
PRODID:-//Clayton Bocce League
METHOD:PUBLISH
BEGIN:VTIMEZONE
TZID:America/Los_Angeles
X-LIC-LOCATION:America/Los_Angeles
BEGIN:DAYLIGHT
TZOFFSETFROM:-0800
TZOFFSETTO:-0700
TZNAME:PDT
DTSTART:20070311T020000
RRULE:FREQ=YEARLY;BYMONTH=3;BYDAY=2SU
END:DAYLIGHT
BEGIN:STANDARD
TZOFFSETFROM:-0700
TZOFFSETTO:-0800
TZNAME:PST
DTSTART:20071104T020000
RRULE:FREQ=YEARLY;BYMONTH=11;BYDAY=1SU
END:STANDARD
END:VTIMEZONE
BEGIN:VEVENT
DTSTAMP:20260423T000000Z
UID:0b8d5ac4-5bcd-4e4a-a754-bf82cee64822@ClaytonBocce
DTSTART;TZID=America/Los_Angeles:20260423T093000
DTEND;TZID=America/Los_Angeles:20260423T120000
STATUS:CONFIRMED
SUMMARY:AMICI vs 4TH QUARTER
URL:/League/Schedule/3124
DESCRIPTION:Regular Season match: AMICI vs 4TH QUARTER
LOCATION:Martinez Court 2
END:VEVENT
BEGIN:VEVENT
DTSTAMP:20260423T000000Z
UID:7ea48940-5ec3-43d9-a1a0-089461389029@ClaytonBocce
DTSTART;TZID=America/Los_Angeles:20260430T093000
DTEND;TZID=America/Los_Angeles:20260430T120000
STATUS:CONFIRMED
SUMMARY:AMICI vs BOCCE BY TATE
URL:/League/Schedule/3124
DESCRIPTION:Regular Season match: AMICI vs BOCCE BY TATE
LOCATION:Martinez Court 6
END:VEVENT
BEGIN:VEVENT
DTSTAMP:20260423T000000Z
UID:0f105e48-e867-4d6e-9f9d-34885416f244@ClaytonBocce
DTSTART;TZID=America/Los_Angeles:20260514T093000
DTEND;TZID=America/Los_Angeles:20260514T120000
STATUS:CONFIRMED
SUMMARY:AMICI vs MISFITS
URL:/League/Schedule/3124
DESCRIPTION:Regular Season match: AMICI vs MISFITS
LOCATION:Martinez Court 14
END:VEVENT
BEGIN:VEVENT
DTSTAMP:20260423T000000Z
UID:9e47a8b0-d0ee-4f9c-b10f-66159a7b0cec@ClaytonBocce
DTSTART;TZID=America/Los_Angeles:20260521T093000
DTEND;TZID=America/Los_Angeles:20260521T120000
STATUS:CONFIRMED
SUMMARY:AMICI vs VAGABONDS
URL:/League/Schedule/3124
DESCRIPTION:Regular Season match: AMICI vs VAGABONDS
LOCATION:Martinez Court 4
END:VEVENT
BEGIN:VEVENT
DTSTAMP:20260423T000000Z
UID:00372c8c-84e1-445f-b308-dc56e9845d0f@ClaytonBocce
DTSTART;TZID=America/Los_Angeles:20260528T093000
DTEND;TZID=America/Los_Angeles:20260528T120000
STATUS:CONFIRMED
SUMMARY:AMICI vs SHORTS NO GOOD
URL:/League/Schedule/3124
DESCRIPTION:Regular Season match: AMICI vs SHORTS NO GOOD
LOCATION:Martinez Court 5
END:VEVENT
BEGIN:VEVENT
DTSTAMP:20260423T000000Z
UID:4ff1c0d1-e304-4781-8a54-ce0fecff360c@ClaytonBocce
DTSTART;TZID=America/Los_Angeles:20260604T093000
DTEND;TZID=America/Los_Angeles:20260604T120000
STATUS:CONFIRMED
SUMMARY:AMICI vs BLUE BALLS
URL:/League/Schedule/3124
DESCRIPTION:Regular Season match: AMICI vs BLUE BALLS
LOCATION:Martinez Court 11
END:VEVENT
BEGIN:VEVENT
DTSTAMP:20260423T000000Z
UID:0371e066-f1b1-4ce4-9b3d-49f073bef093@ClaytonBocce
DTSTART;TZID=America/Los_Angeles:20260611T093000
DTEND;TZID=America/Los_Angeles:20260611T120000
STATUS:CONFIRMED
SUMMARY:AMICI vs 4TH QUARTER
URL:/League/Schedule/3124
DESCRIPTION:Regular Season match: AMICI vs 4TH QUARTER
LOCATION:Martinez Court 8
END:VEVENT
BEGIN:VEVENT
DTSTAMP:20260423T000000Z
UID:c15326cc-37f1-4600-84ca-74b97f22b2e2@ClaytonBocce
DTSTART;TZID=America/Los_Angeles:20260618T093000
DTEND;TZID=America/Los_Angeles:20260618T120000
STATUS:CONFIRMED
SUMMARY:AMICI vs BOCCE BY TATE
URL:/League/Schedule/3124
DESCRIPTION:Regular Season match: AMICI vs BOCCE BY TATE
LOCATION:Martinez Court 10
END:VEVENT
BEGIN:VEVENT
DTSTAMP:20260423T000000Z
UID:4469a0b7-5f21-4c35-bd89-9f08d9577601@ClaytonBocce
DTSTART;TZID=America/Los_Angeles:20260709T093000
DTEND;TZID=America/Los_Angeles:20260709T120000
STATUS:CONFIRMED
SUMMARY:AMICI vs MISFITS
URL:/League/Schedule/3124
DESCRIPTION:Regular Season match: AMICI vs MISFITS
LOCATION:Martinez Court 7
END:VEVENT
BEGIN:VEVENT
DTSTAMP:20260423T000000Z
UID:81f56953-7b1e-4b5a-a162-b236917efb32@ClaytonBocce
DTSTART;TZID=America/Los_Angeles:20260716T093000
DTEND;TZID=America/Los_Angeles:20260716T120000
STATUS:CONFIRMED
SUMMARY:AMICI vs VAGABONDS
URL:/League/Schedule/3124
DESCRIPTION:Regular Season match: AMICI vs VAGABONDS
LOCATION:Martinez Court 9
END:VEVENT
BEGIN:VEVENT
DTSTAMP:20260423T000000Z
UID:d0795e4b-2ab5-414c-9875-ea39f29ec739@ClaytonBocce
DTSTART;TZID=America/Los_Angeles:20260723T093000
DTEND;TZID=America/Los_Angeles:20260723T120000
STATUS:CONFIRMED
SUMMARY:AMICI vs SHORTS NO GOOD
URL:/League/Schedule/3124
DESCRIPTION:Regular Season match: AMICI vs SHORTS NO GOOD
LOCATION:Martinez Court 12
END:VEVENT
BEGIN:VEVENT
DTSTAMP:20260423T000000Z
UID:d3bf5a3c-f352-4e0e-b80f-f4b13b6bf110@ClaytonBocce
DTSTART;TZID=America/Los_Angeles:20260730T093000
DTEND;TZID=America/Los_Angeles:20260730T120000
STATUS:CONFIRMED
SUMMARY:AMICI vs BLUE BALLS
URL:/League/Schedule/3124
DESCRIPTION:Regular Season match: AMICI vs BLUE BALLS
LOCATION:Martinez Court 15
END:VEVENT
BEGIN:VEVENT
DTSTAMP:20260423T000000Z
UID:5116ca71-c687-4d75-86c1-5a1b3fbc9b7c@ClaytonBocce
DTSTART;TZID=America/Los_Angeles:20260806T093000
DTEND;TZID=America/Los_Angeles:20260806T120000
STATUS:CONFIRMED
SUMMARY:AMICI vs 4TH QUARTER
URL:/League/Schedule/3124
DESCRIPTION:Regular Season match: AMICI vs 4TH QUARTER
LOCATION:Martinez Court 10
END:VEVENT
BEGIN:VEVENT
DTSTAMP:20260423T000000Z
UID:6d38f1c3-d230-4633-904f-47d09025367b@ClaytonBocce
DTSTART;TZID=America/Los_Angeles:20260813T093000
DTEND;TZID=America/Los_Angeles:20260813T120000
STATUS:CONFIRMED
SUMMARY:AMICI vs BOCCE BY TATE
URL:/League/Schedule/3124
DESCRIPTION:Regular Season match: AMICI vs BOCCE BY TATE
LOCATION:Martinez Court 3
END:VEVENT
BEGIN:VEVENT
DTSTAMP:20260423T000000Z
UID:7cab5b50-215f-478b-9c13-bb9406d0e513@ClaytonBocce
DTSTART;TZID=America/Los_Angeles:20260827T093000
DTEND;TZID=America/Los_Angeles:20260827T120000
STATUS:CONFIRMED
SUMMARY:AMICI vs MISFITS
URL:/League/Schedule/3124
DESCRIPTION:Regular Season match: AMICI vs MISFITS
LOCATION:Martinez Court 13
END:VEVENT
BEGIN:VEVENT
DTSTAMP:20260423T000000Z
UID:bbede707-4fdd-4514-a3a5-e469f10c06e0@ClaytonBocce
DTSTART;TZID=America/Los_Angeles:20260903T093000
DTEND;TZID=America/Los_Angeles:20260903T120000
STATUS:CONFIRMED
SUMMARY:AMICI vs VAGABONDS
URL:/League/Schedule/3124
DESCRIPTION:Regular Season match: AMICI vs VAGABONDS
LOCATION:Martinez Court 2
END:VEVENT
BEGIN:VEVENT
DTSTAMP:20260423T000000Z
UID:0c39db8c-d8ea-4ebb-a91e-c1b89916f8c8@ClaytonBocce
DTSTART;TZID=America/Los_Angeles:20260910T093000
DTEND;TZID=America/Los_Angeles:20260910T120000
STATUS:CONFIRMED
SUMMARY:AMICI vs SHORTS NO GOOD
URL:/League/Schedule/3124
DESCRIPTION:Regular Season match: AMICI vs SHORTS NO GOOD
LOCATION:Martinez Court 6
END:VEVENT
BEGIN:VEVENT
DTSTAMP:20260423T000000Z
UID:4f184710-5296-4455-a423-ad90107be9dc@ClaytonBocce
DTSTART;TZID=America/Los_Angeles:20260917T093000
DTEND;TZID=America/Los_Angeles:20260917T120000
STATUS:CONFIRMED
SUMMARY:AMICI vs BLUE BALLS
URL:/League/Schedule/3124
DESCRIPTION:Regular Season match: AMICI vs BLUE BALLS
LOCATION:Martinez Court 3
END:VEVENT
END:VCALENDAR
