BEGIN:VCALENDAR
VERSION:2.0
PRODID:-//Clayton Bocce League
METHOD:PUBLISH
BEGIN:VTIMEZONE
TZID:America/Los_Angeles
X-LIC-LOCATION:America/Los_Angeles
BEGIN:DAYLIGHT
TZOFFSETFROM:-0800
TZOFFSETTO:-0700
TZNAME:PDT
DTSTART:20070311T020000
RRULE:FREQ=YEARLY;BYMONTH=3;BYDAY=2SU
END:DAYLIGHT
BEGIN:STANDARD
TZOFFSETFROM:-0700
TZOFFSETTO:-0800
TZNAME:PST
DTSTART:20071104T020000
RRULE:FREQ=YEARLY;BYMONTH=11;BYDAY=1SU
END:STANDARD
END:VTIMEZONE
BEGIN:VEVENT
DTSTAMP:20260423T000000Z
UID:c979220d-3013-462a-96ed-a675ada7fcd4@ClaytonBocce
DTSTART;TZID=America/Los_Angeles:20260430T093000
DTEND;TZID=America/Los_Angeles:20260430T120000
STATUS:CONFIRMED
SUMMARY:BLUE BALLS vs VAGABONDS
URL:/League/Schedule/3126
DESCRIPTION:Regular Season match: BLUE BALLS vs VAGABONDS
LOCATION:Martinez Court 8
END:VEVENT
BEGIN:VEVENT
DTSTAMP:20260423T000000Z
UID:6dfdfbe0-73bf-445f-8f97-84f1283cc0d7@ClaytonBocce
DTSTART;TZID=America/Los_Angeles:20260507T093000
DTEND;TZID=America/Los_Angeles:20260507T120000
STATUS:CONFIRMED
SUMMARY:BLUE BALLS vs SHORTS NO GOOD
URL:/League/Schedule/3126
DESCRIPTION:Regular Season match: BLUE BALLS vs SHORTS NO GO
 OD
LOCATION:Martinez Court 13
END:VEVENT
BEGIN:VEVENT
DTSTAMP:20260423T000000Z
UID:777de1f0-37e2-4955-92b5-9678d562a009@ClaytonBocce
DTSTART;TZID=America/Los_Angeles:20260514T093000
DTEND;TZID=America/Los_Angeles:20260514T120000
STATUS:CONFIRMED
SUMMARY:BLUE BALLS vs 4TH QUARTER
URL:/League/Schedule/3126
DESCRIPTION:Regular Season match: BLUE BALLS vs 4TH QUARTER
LOCATION:Martinez Court 1
END:VEVENT
BEGIN:VEVENT
DTSTAMP:20260423T000000Z
UID:f5d42025-c989-4b3a-a9bd-5279aa910a5f@ClaytonBocce
DTSTART;TZID=America/Los_Angeles:20260521T093000
DTEND;TZID=America/Los_Angeles:20260521T120000
STATUS:CONFIRMED
SUMMARY:BLUE BALLS vs MISFITS
URL:/League/Schedule/3126
DESCRIPTION:Regular Season match: BLUE BALLS vs MISFITS
LOCATION:Martinez Court 5
END:VEVENT
BEGIN:VEVENT
DTSTAMP:20260423T000000Z
UID:ac7e64a1-4d05-4af9-b446-2e1605a2611f@ClaytonBocce
DTSTART;TZID=America/Los_Angeles:20260528T093000
DTEND;TZID=America/Los_Angeles:20260528T120000
STATUS:CONFIRMED
SUMMARY:BLUE BALLS vs BOCCE BY TATE
URL:/League/Schedule/3126
DESCRIPTION:Regular Season match: BLUE BALLS vs BOCCE BY TAT
 E
LOCATION:Martinez Court 4
END:VEVENT
BEGIN:VEVENT
DTSTAMP:20260423T000000Z
UID:4ff1c0d1-e304-4781-8a54-ce0fecff360c@ClaytonBocce
DTSTART;TZID=America/Los_Angeles:20260604T093000
DTEND;TZID=America/Los_Angeles:20260604T120000
STATUS:CONFIRMED
SUMMARY:BLUE BALLS vs AMICI
URL:/League/Schedule/3126
DESCRIPTION:Regular Season match: BLUE BALLS vs AMICI
LOCATION:Martinez Court 11
END:VEVENT
BEGIN:VEVENT
DTSTAMP:20260423T000000Z
UID:6c2c9730-1e57-4dc9-a348-6e5683b164ee@ClaytonBocce
DTSTART;TZID=America/Los_Angeles:20260618T093000
DTEND;TZID=America/Los_Angeles:20260618T120000
STATUS:CONFIRMED
SUMMARY:BLUE BALLS vs VAGABONDS
URL:/League/Schedule/3126
DESCRIPTION:Regular Season match: BLUE BALLS vs VAGABONDS
LOCATION:Martinez Court 12
END:VEVENT
BEGIN:VEVENT
DTSTAMP:20260423T000000Z
UID:2f4cfa06-61e1-44e8-8f53-c800a6f79a13@ClaytonBocce
DTSTART;TZID=America/Los_Angeles:20260625T093000
DTEND;TZID=America/Los_Angeles:20260625T120000
STATUS:CONFIRMED
SUMMARY:BLUE BALLS vs SHORTS NO GOOD
URL:/League/Schedule/3126
DESCRIPTION:Regular Season match: BLUE BALLS vs SHORTS NO GO
 OD
LOCATION:Martinez Court 14
END:VEVENT
BEGIN:VEVENT
DTSTAMP:20260423T000000Z
UID:bfe1ac12-f9f7-46fd-90c2-541c9b637f62@ClaytonBocce
DTSTART;TZID=America/Los_Angeles:20260709T093000
DTEND;TZID=America/Los_Angeles:20260709T120000
STATUS:CONFIRMED
SUMMARY:BLUE BALLS vs 4TH QUARTER
URL:/League/Schedule/3126
DESCRIPTION:Regular Season match: BLUE BALLS vs 4TH QUARTER
LOCATION:Martinez Court 9
END:VEVENT
BEGIN:VEVENT
DTSTAMP:20260423T000000Z
UID:dbfed909-b59b-4932-a3ed-7099710ca768@ClaytonBocce
DTSTART;TZID=America/Los_Angeles:20260716T093000
DTEND;TZID=America/Los_Angeles:20260716T120000
STATUS:CONFIRMED
SUMMARY:BLUE BALLS vs MISFITS
URL:/League/Schedule/3126
DESCRIPTION:Regular Season match: BLUE BALLS vs MISFITS
LOCATION:Martinez Court 10
END:VEVENT
BEGIN:VEVENT
DTSTAMP:20260423T000000Z
UID:2fc165cd-3ad5-414e-9e22-f3468e8c51d6@ClaytonBocce
DTSTART;TZID=America/Los_Angeles:20260723T093000
DTEND;TZID=America/Los_Angeles:20260723T120000
STATUS:CONFIRMED
SUMMARY:BLUE BALLS vs BOCCE BY TATE
URL:/League/Schedule/3126
DESCRIPTION:Regular Season match: BLUE BALLS vs BOCCE BY TAT
 E
LOCATION:Martinez Court 7
END:VEVENT
BEGIN:VEVENT
DTSTAMP:20260423T000000Z
UID:d3bf5a3c-f352-4e0e-b80f-f4b13b6bf110@ClaytonBocce
DTSTART;TZID=America/Los_Angeles:20260730T093000
DTEND;TZID=America/Los_Angeles:20260730T120000
STATUS:CONFIRMED
SUMMARY:BLUE BALLS vs AMICI
URL:/League/Schedule/3126
DESCRIPTION:Regular Season match: BLUE BALLS vs AMICI
LOCATION:Martinez Court 15
END:VEVENT
BEGIN:VEVENT
DTSTAMP:20260423T000000Z
UID:72f41502-fd25-4bf1-a900-6d275c9d5bb2@ClaytonBocce
DTSTART;TZID=America/Los_Angeles:20260813T093000
DTEND;TZID=America/Los_Angeles:20260813T120000
STATUS:CONFIRMED
SUMMARY:BLUE BALLS vs VAGABONDS
URL:/League/Schedule/3126
DESCRIPTION:Regular Season match: BLUE BALLS vs VAGABONDS
LOCATION:Martinez Court 6
END:VEVENT
BEGIN:VEVENT
DTSTAMP:20260423T000000Z
UID:bcc2c2d4-afc6-41b1-ad39-58eb658a86ac@ClaytonBocce
DTSTART;TZID=America/Los_Angeles:20260820T093000
DTEND;TZID=America/Los_Angeles:20260820T120000
STATUS:CONFIRMED
SUMMARY:BLUE BALLS vs SHORTS NO GOOD
URL:/League/Schedule/3126
DESCRIPTION:Regular Season match: BLUE BALLS vs SHORTS NO GO
 OD
LOCATION:Martinez Court 5
END:VEVENT
BEGIN:VEVENT
DTSTAMP:20260423T000000Z
UID:f3fbe451-c17f-4d5c-aedf-126486e4797f@ClaytonBocce
DTSTART;TZID=America/Los_Angeles:20260827T093000
DTEND;TZID=America/Los_Angeles:20260827T120000
STATUS:CONFIRMED
SUMMARY:BLUE BALLS vs 4TH QUARTER
URL:/League/Schedule/3126
DESCRIPTION:Regular Season match: BLUE BALLS vs 4TH QUARTER
LOCATION:Martinez Court 14
END:VEVENT
BEGIN:VEVENT
DTSTAMP:20260423T000000Z
UID:d216c707-010d-4cf9-b59c-2ac2eee073c9@ClaytonBocce
DTSTART;TZID=America/Los_Angeles:20260903T093000
DTEND;TZID=America/Los_Angeles:20260903T120000
STATUS:CONFIRMED
SUMMARY:BLUE BALLS vs MISFITS
URL:/League/Schedule/3126
DESCRIPTION:Regular Season match: BLUE BALLS vs MISFITS
LOCATION:Martinez Court 10
END:VEVENT
BEGIN:VEVENT
DTSTAMP:20260423T000000Z
UID:40a954b6-859b-4be6-b686-a529ef4d1153@ClaytonBocce
DTSTART;TZID=America/Los_Angeles:20260910T093000
DTEND;TZID=America/Los_Angeles:20260910T120000
STATUS:CONFIRMED
SUMMARY:BLUE BALLS vs BOCCE BY TATE
URL:/League/Schedule/3126
DESCRIPTION:Regular Season match: BLUE BALLS vs BOCCE BY TAT
 E
LOCATION:Martinez Court 2
END:VEVENT
BEGIN:VEVENT
DTSTAMP:20260423T000000Z
UID:4f184710-5296-4455-a423-ad90107be9dc@ClaytonBocce
DTSTART;TZID=America/Los_Angeles:20260917T093000
DTEND;TZID=America/Los_Angeles:20260917T120000
STATUS:CONFIRMED
SUMMARY:BLUE BALLS vs AMICI
URL:/League/Schedule/3126
DESCRIPTION:Regular Season match: BLUE BALLS vs AMICI
LOCATION:Martinez Court 3
END:VEVENT
END:VCALENDAR
