BEGIN:VCALENDAR
VERSION:2.0
PRODID:-//Clayton Bocce League
METHOD:PUBLISH
BEGIN:VTIMEZONE
TZID:America/Los_Angeles
X-LIC-LOCATION:America/Los_Angeles
BEGIN:DAYLIGHT
TZOFFSETFROM:-0800
TZOFFSETTO:-0700
TZNAME:PDT
DTSTART:20070311T020000
RRULE:FREQ=YEARLY;BYMONTH=3;BYDAY=2SU
END:DAYLIGHT
BEGIN:STANDARD
TZOFFSETFROM:-0700
TZOFFSETTO:-0800
TZNAME:PST
DTSTART:20071104T020000
RRULE:FREQ=YEARLY;BYMONTH=11;BYDAY=1SU
END:STANDARD
END:VTIMEZONE
BEGIN:VEVENT
DTSTAMP:20260423T000000Z
UID:aefafa5a-d3c1-4203-aa68-dff6de1c102c@ClaytonBocce
DTSTART;TZID=America/Los_Angeles:20260423T093000
DTEND;TZID=America/Los_Angeles:20260423T120000
STATUS:CONFIRMED
SUMMARY:SHORTS NO GOOD vs VAGABONDS
URL:/League/Schedule/3122
DESCRIPTION:Regular Season match: SHORTS NO GOOD vs VAGABOND
 S
LOCATION:Martinez Court 3
END:VEVENT
BEGIN:VEVENT
DTSTAMP:20260423T000000Z
UID:009e8b59-a005-45dc-829b-1590e6cedff8@ClaytonBocce
DTSTART;TZID=America/Los_Angeles:20260430T093000
DTEND;TZID=America/Los_Angeles:20260430T120000
STATUS:CONFIRMED
SUMMARY:SHORTS NO GOOD vs 4TH QUARTER
URL:/League/Schedule/3122
DESCRIPTION:Regular Season match: SHORTS NO GOOD vs 4TH QUAR
 TER
LOCATION:Martinez Court 7
END:VEVENT
BEGIN:VEVENT
DTSTAMP:20260423T000000Z
UID:6dfdfbe0-73bf-445f-8f97-84f1283cc0d7@ClaytonBocce
DTSTART;TZID=America/Los_Angeles:20260507T093000
DTEND;TZID=America/Los_Angeles:20260507T120000
STATUS:CONFIRMED
SUMMARY:SHORTS NO GOOD vs BLUE BALLS
URL:/League/Schedule/3122
DESCRIPTION:Regular Season match: SHORTS NO GOOD vs BLUE BAL
 LS
LOCATION:Martinez Court 13
END:VEVENT
BEGIN:VEVENT
DTSTAMP:20260423T000000Z
UID:6915af45-f391-4658-a045-63323aab2d44@ClaytonBocce
DTSTART;TZID=America/Los_Angeles:20260514T093000
DTEND;TZID=America/Los_Angeles:20260514T120000
STATUS:CONFIRMED
SUMMARY:SHORTS NO GOOD vs BOCCE BY TATE
URL:/League/Schedule/3122
DESCRIPTION:Regular Season match: SHORTS NO GOOD vs BOCCE BY
  TATE
LOCATION:Martinez Court 15
END:VEVENT
BEGIN:VEVENT
DTSTAMP:20260423T000000Z
UID:00372c8c-84e1-445f-b308-dc56e9845d0f@ClaytonBocce
DTSTART;TZID=America/Los_Angeles:20260528T093000
DTEND;TZID=America/Los_Angeles:20260528T120000
STATUS:CONFIRMED
SUMMARY:SHORTS NO GOOD vs AMICI
URL:/League/Schedule/3122
DESCRIPTION:Regular Season match: SHORTS NO GOOD vs AMICI
LOCATION:Martinez Court 5
END:VEVENT
BEGIN:VEVENT
DTSTAMP:20260423T000000Z
UID:af6e250b-2e4c-4462-b7d2-ff9f5870968a@ClaytonBocce
DTSTART;TZID=America/Los_Angeles:20260604T093000
DTEND;TZID=America/Los_Angeles:20260604T120000
STATUS:CONFIRMED
SUMMARY:SHORTS NO GOOD vs MISFITS
URL:/League/Schedule/3122
DESCRIPTION:Regular Season match: SHORTS NO GOOD vs MISFITS
LOCATION:Martinez Court 9
END:VEVENT
BEGIN:VEVENT
DTSTAMP:20260423T000000Z
UID:71ce8ec1-f2e8-44b5-8548-063241c3e5f4@ClaytonBocce
DTSTART;TZID=America/Los_Angeles:20260611T093000
DTEND;TZID=America/Los_Angeles:20260611T120000
STATUS:CONFIRMED
SUMMARY:SHORTS NO GOOD vs VAGABONDS
URL:/League/Schedule/3122
DESCRIPTION:Regular Season match: SHORTS NO GOOD vs VAGABOND
 S
LOCATION:Martinez Court 1
END:VEVENT
BEGIN:VEVENT
DTSTAMP:20260423T000000Z
UID:af4d257d-3037-45e8-b3d3-cc83f4d1a2f2@ClaytonBocce
DTSTART;TZID=America/Los_Angeles:20260618T093000
DTEND;TZID=America/Los_Angeles:20260618T120000
STATUS:CONFIRMED
SUMMARY:SHORTS NO GOOD vs 4TH QUARTER
URL:/League/Schedule/3122
DESCRIPTION:Regular Season match: SHORTS NO GOOD vs 4TH QUAR
 TER
LOCATION:Martinez Court 4
END:VEVENT
BEGIN:VEVENT
DTSTAMP:20260423T000000Z
UID:2f4cfa06-61e1-44e8-8f53-c800a6f79a13@ClaytonBocce
DTSTART;TZID=America/Los_Angeles:20260625T093000
DTEND;TZID=America/Los_Angeles:20260625T120000
STATUS:CONFIRMED
SUMMARY:SHORTS NO GOOD vs BLUE BALLS
URL:/League/Schedule/3122
DESCRIPTION:Regular Season match: SHORTS NO GOOD vs BLUE BAL
 LS
LOCATION:Martinez Court 14
END:VEVENT
BEGIN:VEVENT
DTSTAMP:20260423T000000Z
UID:be353cd8-ce9b-4c49-9b28-7ea0c1eee1d2@ClaytonBocce
DTSTART;TZID=America/Los_Angeles:20260709T093000
DTEND;TZID=America/Los_Angeles:20260709T120000
STATUS:CONFIRMED
SUMMARY:SHORTS NO GOOD vs BOCCE BY TATE
URL:/League/Schedule/3122
DESCRIPTION:Regular Season match: SHORTS NO GOOD vs BOCCE BY
  TATE
LOCATION:Martinez Court 8
END:VEVENT
BEGIN:VEVENT
DTSTAMP:20260423T000000Z
UID:d0795e4b-2ab5-414c-9875-ea39f29ec739@ClaytonBocce
DTSTART;TZID=America/Los_Angeles:20260723T093000
DTEND;TZID=America/Los_Angeles:20260723T120000
STATUS:CONFIRMED
SUMMARY:SHORTS NO GOOD vs AMICI
URL:/League/Schedule/3122
DESCRIPTION:Regular Season match: SHORTS NO GOOD vs AMICI
LOCATION:Martinez Court 12
END:VEVENT
BEGIN:VEVENT
DTSTAMP:20260423T000000Z
UID:83a1e5c2-0d19-42b4-9205-68612171407f@ClaytonBocce
DTSTART;TZID=America/Los_Angeles:20260730T093000
DTEND;TZID=America/Los_Angeles:20260730T120000
STATUS:CONFIRMED
SUMMARY:SHORTS NO GOOD vs MISFITS
URL:/League/Schedule/3122
DESCRIPTION:Regular Season match: SHORTS NO GOOD vs MISFITS
LOCATION:Martinez Court 4
END:VEVENT
BEGIN:VEVENT
DTSTAMP:20260423T000000Z
UID:d776bc2e-7ba6-4368-bf21-34ac67f89985@ClaytonBocce
DTSTART;TZID=America/Los_Angeles:20260806T093000
DTEND;TZID=America/Los_Angeles:20260806T120000
STATUS:CONFIRMED
SUMMARY:SHORTS NO GOOD vs VAGABONDS
URL:/League/Schedule/3122
DESCRIPTION:Regular Season match: SHORTS NO GOOD vs VAGABOND
 S
LOCATION:Martinez Court 7
END:VEVENT
BEGIN:VEVENT
DTSTAMP:20260423T000000Z
UID:fe1d37f2-43e0-476e-9637-6a057df62c2f@ClaytonBocce
DTSTART;TZID=America/Los_Angeles:20260813T093000
DTEND;TZID=America/Los_Angeles:20260813T120000
STATUS:CONFIRMED
SUMMARY:SHORTS NO GOOD vs 4TH QUARTER
URL:/League/Schedule/3122
DESCRIPTION:Regular Season match: SHORTS NO GOOD vs 4TH QUAR
 TER
LOCATION:Martinez Court 2
END:VEVENT
BEGIN:VEVENT
DTSTAMP:20260423T000000Z
UID:bcc2c2d4-afc6-41b1-ad39-58eb658a86ac@ClaytonBocce
DTSTART;TZID=America/Los_Angeles:20260820T093000
DTEND;TZID=America/Los_Angeles:20260820T120000
STATUS:CONFIRMED
SUMMARY:SHORTS NO GOOD vs BLUE BALLS
URL:/League/Schedule/3122
DESCRIPTION:Regular Season match: SHORTS NO GOOD vs BLUE BAL
 LS
LOCATION:Martinez Court 5
END:VEVENT
BEGIN:VEVENT
DTSTAMP:20260423T000000Z
UID:e979359a-0395-4b44-a7d2-b14b5fe20782@ClaytonBocce
DTSTART;TZID=America/Los_Angeles:20260827T093000
DTEND;TZID=America/Los_Angeles:20260827T120000
STATUS:CONFIRMED
SUMMARY:SHORTS NO GOOD vs BOCCE BY TATE
URL:/League/Schedule/3122
DESCRIPTION:Regular Season match: SHORTS NO GOOD vs BOCCE BY
  TATE
LOCATION:Martinez Court 12
END:VEVENT
BEGIN:VEVENT
DTSTAMP:20260423T000000Z
UID:0c39db8c-d8ea-4ebb-a91e-c1b89916f8c8@ClaytonBocce
DTSTART;TZID=America/Los_Angeles:20260910T093000
DTEND;TZID=America/Los_Angeles:20260910T120000
STATUS:CONFIRMED
SUMMARY:SHORTS NO GOOD vs AMICI
URL:/League/Schedule/3122
DESCRIPTION:Regular Season match: SHORTS NO GOOD vs AMICI
LOCATION:Martinez Court 6
END:VEVENT
BEGIN:VEVENT
DTSTAMP:20260423T000000Z
UID:be94d0ac-0786-46ae-8911-04c660ec6ed5@ClaytonBocce
DTSTART;TZID=America/Los_Angeles:20260917T093000
DTEND;TZID=America/Los_Angeles:20260917T120000
STATUS:CONFIRMED
SUMMARY:SHORTS NO GOOD vs MISFITS
URL:/League/Schedule/3122
DESCRIPTION:Regular Season match: SHORTS NO GOOD vs MISFITS
LOCATION:Martinez Court 11
END:VEVENT
END:VCALENDAR
