BEGIN:VCALENDAR
VERSION:2.0
PRODID:-//Clayton Bocce League
METHOD:PUBLISH
BEGIN:VTIMEZONE
TZID:America/Los_Angeles
X-LIC-LOCATION:America/Los_Angeles
BEGIN:DAYLIGHT
TZOFFSETFROM:-0800
TZOFFSETTO:-0700
TZNAME:PDT
DTSTART:20070311T020000
RRULE:FREQ=YEARLY;BYMONTH=3;BYDAY=2SU
END:DAYLIGHT
BEGIN:STANDARD
TZOFFSETFROM:-0700
TZOFFSETTO:-0800
TZNAME:PST
DTSTART:20071104T020000
RRULE:FREQ=YEARLY;BYMONTH=11;BYDAY=1SU
END:STANDARD
END:VTIMEZONE
BEGIN:VEVENT
DTSTAMP:20260423T000000Z
UID:aefafa5a-d3c1-4203-aa68-dff6de1c102c@ClaytonBocce
DTSTART;TZID=America/Los_Angeles:20260423T093000
DTEND;TZID=America/Los_Angeles:20260423T120000
STATUS:CONFIRMED
SUMMARY:VAGABONDS vs SHORTS NO GOOD
URL:/League/Schedule/3123
DESCRIPTION:Regular Season match: VAGABONDS vs SHORTS NO GOO
 D
LOCATION:Martinez Court 3
END:VEVENT
BEGIN:VEVENT
DTSTAMP:20260423T000000Z
UID:c979220d-3013-462a-96ed-a675ada7fcd4@ClaytonBocce
DTSTART;TZID=America/Los_Angeles:20260430T093000
DTEND;TZID=America/Los_Angeles:20260430T120000
STATUS:CONFIRMED
SUMMARY:VAGABONDS vs BLUE BALLS
URL:/League/Schedule/3123
DESCRIPTION:Regular Season match: VAGABONDS vs BLUE BALLS
LOCATION:Martinez Court 8
END:VEVENT
BEGIN:VEVENT
DTSTAMP:20260423T000000Z
UID:96383609-aa96-4095-8ce7-ea6d674b1cc3@ClaytonBocce
DTSTART;TZID=America/Los_Angeles:20260507T093000
DTEND;TZID=America/Los_Angeles:20260507T120000
STATUS:CONFIRMED
SUMMARY:VAGABONDS vs BOCCE BY TATE
URL:/League/Schedule/3123
DESCRIPTION:Regular Season match: VAGABONDS vs BOCCE BY TATE
LOCATION:Martinez Court 11
END:VEVENT
BEGIN:VEVENT
DTSTAMP:20260423T000000Z
UID:9e47a8b0-d0ee-4f9c-b10f-66159a7b0cec@ClaytonBocce
DTSTART;TZID=America/Los_Angeles:20260521T093000
DTEND;TZID=America/Los_Angeles:20260521T120000
STATUS:CONFIRMED
SUMMARY:VAGABONDS vs AMICI
URL:/League/Schedule/3123
DESCRIPTION:Regular Season match: VAGABONDS vs AMICI
LOCATION:Martinez Court 4
END:VEVENT
BEGIN:VEVENT
DTSTAMP:20260423T000000Z
UID:5eecb3a9-7340-417b-b282-9f24f17ed757@ClaytonBocce
DTSTART;TZID=America/Los_Angeles:20260528T093000
DTEND;TZID=America/Los_Angeles:20260528T120000
STATUS:CONFIRMED
SUMMARY:VAGABONDS vs MISFITS
URL:/League/Schedule/3123
DESCRIPTION:Regular Season match: VAGABONDS vs MISFITS
LOCATION:Martinez Court 6
END:VEVENT
BEGIN:VEVENT
DTSTAMP:20260423T000000Z
UID:894cf0a2-f796-4521-ae34-5bd60587ad09@ClaytonBocce
DTSTART;TZID=America/Los_Angeles:20260604T093000
DTEND;TZID=America/Los_Angeles:20260604T120000
STATUS:CONFIRMED
SUMMARY:VAGABONDS vs 4TH QUARTER
URL:/League/Schedule/3123
DESCRIPTION:Regular Season match: VAGABONDS vs 4TH QUARTER
LOCATION:Martinez Court 10
END:VEVENT
BEGIN:VEVENT
DTSTAMP:20260423T000000Z
UID:71ce8ec1-f2e8-44b5-8548-063241c3e5f4@ClaytonBocce
DTSTART;TZID=America/Los_Angeles:20260611T093000
DTEND;TZID=America/Los_Angeles:20260611T120000
STATUS:CONFIRMED
SUMMARY:VAGABONDS vs SHORTS NO GOOD
URL:/League/Schedule/3123
DESCRIPTION:Regular Season match: VAGABONDS vs SHORTS NO GOO
 D
LOCATION:Martinez Court 1
END:VEVENT
BEGIN:VEVENT
DTSTAMP:20260423T000000Z
UID:6c2c9730-1e57-4dc9-a348-6e5683b164ee@ClaytonBocce
DTSTART;TZID=America/Los_Angeles:20260618T093000
DTEND;TZID=America/Los_Angeles:20260618T120000
STATUS:CONFIRMED
SUMMARY:VAGABONDS vs BLUE BALLS
URL:/League/Schedule/3123
DESCRIPTION:Regular Season match: VAGABONDS vs BLUE BALLS
LOCATION:Martinez Court 12
END:VEVENT
BEGIN:VEVENT
DTSTAMP:20260423T000000Z
UID:d2a01aa6-67a7-4bc1-94e7-6a70137be348@ClaytonBocce
DTSTART;TZID=America/Los_Angeles:20260625T093000
DTEND;TZID=America/Los_Angeles:20260625T120000
STATUS:CONFIRMED
SUMMARY:VAGABONDS vs BOCCE BY TATE
URL:/League/Schedule/3123
DESCRIPTION:Regular Season match: VAGABONDS vs BOCCE BY TATE
LOCATION:Martinez Court 13
END:VEVENT
BEGIN:VEVENT
DTSTAMP:20260423T000000Z
UID:81f56953-7b1e-4b5a-a162-b236917efb32@ClaytonBocce
DTSTART;TZID=America/Los_Angeles:20260716T093000
DTEND;TZID=America/Los_Angeles:20260716T120000
STATUS:CONFIRMED
SUMMARY:VAGABONDS vs AMICI
URL:/League/Schedule/3123
DESCRIPTION:Regular Season match: VAGABONDS vs AMICI
LOCATION:Martinez Court 9
END:VEVENT
BEGIN:VEVENT
DTSTAMP:20260423T000000Z
UID:980722b3-6893-473b-a2f5-db9abf1e3daa@ClaytonBocce
DTSTART;TZID=America/Los_Angeles:20260723T093000
DTEND;TZID=America/Los_Angeles:20260723T120000
STATUS:CONFIRMED
SUMMARY:VAGABONDS vs MISFITS
URL:/League/Schedule/3123
DESCRIPTION:Regular Season match: VAGABONDS vs MISFITS
LOCATION:Martinez Court 3
END:VEVENT
BEGIN:VEVENT
DTSTAMP:20260423T000000Z
UID:775ad901-e3c3-4fef-bfe6-5eb9b206c10e@ClaytonBocce
DTSTART;TZID=America/Los_Angeles:20260730T093000
DTEND;TZID=America/Los_Angeles:20260730T120000
STATUS:CONFIRMED
SUMMARY:VAGABONDS vs 4TH QUARTER
URL:/League/Schedule/3123
DESCRIPTION:Regular Season match: VAGABONDS vs 4TH QUARTER
LOCATION:Martinez Court 13
END:VEVENT
BEGIN:VEVENT
DTSTAMP:20260423T000000Z
UID:d776bc2e-7ba6-4368-bf21-34ac67f89985@ClaytonBocce
DTSTART;TZID=America/Los_Angeles:20260806T093000
DTEND;TZID=America/Los_Angeles:20260806T120000
STATUS:CONFIRMED
SUMMARY:VAGABONDS vs SHORTS NO GOOD
URL:/League/Schedule/3123
DESCRIPTION:Regular Season match: VAGABONDS vs SHORTS NO GOO
 D
LOCATION:Martinez Court 7
END:VEVENT
BEGIN:VEVENT
DTSTAMP:20260423T000000Z
UID:72f41502-fd25-4bf1-a900-6d275c9d5bb2@ClaytonBocce
DTSTART;TZID=America/Los_Angeles:20260813T093000
DTEND;TZID=America/Los_Angeles:20260813T120000
STATUS:CONFIRMED
SUMMARY:VAGABONDS vs BLUE BALLS
URL:/League/Schedule/3123
DESCRIPTION:Regular Season match: VAGABONDS vs BLUE BALLS
LOCATION:Martinez Court 6
END:VEVENT
BEGIN:VEVENT
DTSTAMP:20260423T000000Z
UID:f786bf54-a5c1-43e1-b193-b678ee6320dc@ClaytonBocce
DTSTART;TZID=America/Los_Angeles:20260820T093000
DTEND;TZID=America/Los_Angeles:20260820T120000
STATUS:CONFIRMED
SUMMARY:VAGABONDS vs BOCCE BY TATE
URL:/League/Schedule/3123
DESCRIPTION:Regular Season match: VAGABONDS vs BOCCE BY TATE
LOCATION:Martinez Court 14
END:VEVENT
BEGIN:VEVENT
DTSTAMP:20260423T000000Z
UID:bbede707-4fdd-4514-a3a5-e469f10c06e0@ClaytonBocce
DTSTART;TZID=America/Los_Angeles:20260903T093000
DTEND;TZID=America/Los_Angeles:20260903T120000
STATUS:CONFIRMED
SUMMARY:VAGABONDS vs AMICI
URL:/League/Schedule/3123
DESCRIPTION:Regular Season match: VAGABONDS vs AMICI
LOCATION:Martinez Court 2
END:VEVENT
BEGIN:VEVENT
DTSTAMP:20260423T000000Z
UID:4a8c64f0-8634-4645-bd68-07d8b4903c00@ClaytonBocce
DTSTART;TZID=America/Los_Angeles:20260910T093000
DTEND;TZID=America/Los_Angeles:20260910T120000
STATUS:CONFIRMED
SUMMARY:VAGABONDS vs MISFITS
URL:/League/Schedule/3123
DESCRIPTION:Regular Season match: VAGABONDS vs MISFITS
LOCATION:Martinez Court 5
END:VEVENT
BEGIN:VEVENT
DTSTAMP:20260423T000000Z
UID:15519aa1-b602-4cf8-b2e8-2100140020a9@ClaytonBocce
DTSTART;TZID=America/Los_Angeles:20260917T093000
DTEND;TZID=America/Los_Angeles:20260917T120000
STATUS:CONFIRMED
SUMMARY:VAGABONDS vs 4TH QUARTER
URL:/League/Schedule/3123
DESCRIPTION:Regular Season match: VAGABONDS vs 4TH QUARTER
LOCATION:Martinez Court 15
END:VEVENT
END:VCALENDAR
