BEGIN:VCALENDAR
VERSION:2.0
PRODID:-//Clayton Bocce League
METHOD:PUBLISH
BEGIN:VTIMEZONE
TZID:America/Los_Angeles
X-LIC-LOCATION:America/Los_Angeles
BEGIN:DAYLIGHT
TZOFFSETFROM:-0800
TZOFFSETTO:-0700
TZNAME:PDT
DTSTART:20070311T020000
RRULE:FREQ=YEARLY;BYMONTH=3;BYDAY=2SU
END:DAYLIGHT
BEGIN:STANDARD
TZOFFSETFROM:-0700
TZOFFSETTO:-0800
TZNAME:PST
DTSTART:20071104T020000
RRULE:FREQ=YEARLY;BYMONTH=11;BYDAY=1SU
END:STANDARD
END:VTIMEZONE
BEGIN:VEVENT
DTSTAMP:20260423T000000Z
UID:d2d807a1-b8d7-4a39-8893-351efea04974@ClaytonBocce
DTSTART;TZID=America/Los_Angeles:20260423T093000
DTEND;TZID=America/Los_Angeles:20260423T120000
STATUS:CONFIRMED
SUMMARY:MISFITS vs BOCCE BY TATE
URL:/League/Schedule/3125
DESCRIPTION:Regular Season match: MISFITS vs BOCCE BY TATE
LOCATION:Martinez Court 1
END:VEVENT
BEGIN:VEVENT
DTSTAMP:20260423T000000Z
UID:ddf8513f-afe8-4c9c-9e20-8bfc176d7cb5@ClaytonBocce
DTSTART;TZID=America/Los_Angeles:20260507T093000
DTEND;TZID=America/Los_Angeles:20260507T120000
STATUS:CONFIRMED
SUMMARY:MISFITS vs 4TH QUARTER
URL:/League/Schedule/3125
DESCRIPTION:Regular Season match: MISFITS vs 4TH QUARTER
LOCATION:Martinez Court 12
END:VEVENT
BEGIN:VEVENT
DTSTAMP:20260423T000000Z
UID:0f105e48-e867-4d6e-9f9d-34885416f244@ClaytonBocce
DTSTART;TZID=America/Los_Angeles:20260514T093000
DTEND;TZID=America/Los_Angeles:20260514T120000
STATUS:CONFIRMED
SUMMARY:MISFITS vs AMICI
URL:/League/Schedule/3125
DESCRIPTION:Regular Season match: MISFITS vs AMICI
LOCATION:Martinez Court 14
END:VEVENT
BEGIN:VEVENT
DTSTAMP:20260423T000000Z
UID:f5d42025-c989-4b3a-a9bd-5279aa910a5f@ClaytonBocce
DTSTART;TZID=America/Los_Angeles:20260521T093000
DTEND;TZID=America/Los_Angeles:20260521T120000
STATUS:CONFIRMED
SUMMARY:MISFITS vs BLUE BALLS
URL:/League/Schedule/3125
DESCRIPTION:Regular Season match: MISFITS vs BLUE BALLS
LOCATION:Martinez Court 5
END:VEVENT
BEGIN:VEVENT
DTSTAMP:20260423T000000Z
UID:5eecb3a9-7340-417b-b282-9f24f17ed757@ClaytonBocce
DTSTART;TZID=America/Los_Angeles:20260528T093000
DTEND;TZID=America/Los_Angeles:20260528T120000
STATUS:CONFIRMED
SUMMARY:MISFITS vs VAGABONDS
URL:/League/Schedule/3125
DESCRIPTION:Regular Season match: MISFITS vs VAGABONDS
LOCATION:Martinez Court 6
END:VEVENT
BEGIN:VEVENT
DTSTAMP:20260423T000000Z
UID:af6e250b-2e4c-4462-b7d2-ff9f5870968a@ClaytonBocce
DTSTART;TZID=America/Los_Angeles:20260604T093000
DTEND;TZID=America/Los_Angeles:20260604T120000
STATUS:CONFIRMED
SUMMARY:MISFITS vs SHORTS NO GOOD
URL:/League/Schedule/3125
DESCRIPTION:Regular Season match: MISFITS vs SHORTS NO GOOD
LOCATION:Martinez Court 9
END:VEVENT
BEGIN:VEVENT
DTSTAMP:20260423T000000Z
UID:3677d765-9f63-47e0-8d4b-595047587a8c@ClaytonBocce
DTSTART;TZID=America/Los_Angeles:20260611T093000
DTEND;TZID=America/Los_Angeles:20260611T120000
STATUS:CONFIRMED
SUMMARY:MISFITS vs BOCCE BY TATE
URL:/League/Schedule/3125
DESCRIPTION:Regular Season match: MISFITS vs BOCCE BY TATE
LOCATION:Martinez Court 2
END:VEVENT
BEGIN:VEVENT
DTSTAMP:20260423T000000Z
UID:4ca7acd2-325d-4114-99b1-eb13675388aa@ClaytonBocce
DTSTART;TZID=America/Los_Angeles:20260625T093000
DTEND;TZID=America/Los_Angeles:20260625T120000
STATUS:CONFIRMED
SUMMARY:MISFITS vs 4TH QUARTER
URL:/League/Schedule/3125
DESCRIPTION:Regular Season match: MISFITS vs 4TH QUARTER
LOCATION:Martinez Court 15
END:VEVENT
BEGIN:VEVENT
DTSTAMP:20260423T000000Z
UID:4469a0b7-5f21-4c35-bd89-9f08d9577601@ClaytonBocce
DTSTART;TZID=America/Los_Angeles:20260709T093000
DTEND;TZID=America/Los_Angeles:20260709T120000
STATUS:CONFIRMED
SUMMARY:MISFITS vs AMICI
URL:/League/Schedule/3125
DESCRIPTION:Regular Season match: MISFITS vs AMICI
LOCATION:Martinez Court 7
END:VEVENT
BEGIN:VEVENT
DTSTAMP:20260423T000000Z
UID:dbfed909-b59b-4932-a3ed-7099710ca768@ClaytonBocce
DTSTART;TZID=America/Los_Angeles:20260716T093000
DTEND;TZID=America/Los_Angeles:20260716T120000
STATUS:CONFIRMED
SUMMARY:MISFITS vs BLUE BALLS
URL:/League/Schedule/3125
DESCRIPTION:Regular Season match: MISFITS vs BLUE BALLS
LOCATION:Martinez Court 10
END:VEVENT
BEGIN:VEVENT
DTSTAMP:20260423T000000Z
UID:980722b3-6893-473b-a2f5-db9abf1e3daa@ClaytonBocce
DTSTART;TZID=America/Los_Angeles:20260723T093000
DTEND;TZID=America/Los_Angeles:20260723T120000
STATUS:CONFIRMED
SUMMARY:MISFITS vs VAGABONDS
URL:/League/Schedule/3125
DESCRIPTION:Regular Season match: MISFITS vs VAGABONDS
LOCATION:Martinez Court 3
END:VEVENT
BEGIN:VEVENT
DTSTAMP:20260423T000000Z
UID:83a1e5c2-0d19-42b4-9205-68612171407f@ClaytonBocce
DTSTART;TZID=America/Los_Angeles:20260730T093000
DTEND;TZID=America/Los_Angeles:20260730T120000
STATUS:CONFIRMED
SUMMARY:MISFITS vs SHORTS NO GOOD
URL:/League/Schedule/3125
DESCRIPTION:Regular Season match: MISFITS vs SHORTS NO GOOD
LOCATION:Martinez Court 4
END:VEVENT
BEGIN:VEVENT
DTSTAMP:20260423T000000Z
UID:885061ae-6a7e-43a2-b81c-2c1f84480564@ClaytonBocce
DTSTART;TZID=America/Los_Angeles:20260806T093000
DTEND;TZID=America/Los_Angeles:20260806T120000
STATUS:CONFIRMED
SUMMARY:MISFITS vs BOCCE BY TATE
URL:/League/Schedule/3125
DESCRIPTION:Regular Season match: MISFITS vs BOCCE BY TATE
LOCATION:Martinez Court 9
END:VEVENT
BEGIN:VEVENT
DTSTAMP:20260423T000000Z
UID:677f2e30-14b9-4448-84a5-89f5d1d37f09@ClaytonBocce
DTSTART;TZID=America/Los_Angeles:20260820T093000
DTEND;TZID=America/Los_Angeles:20260820T120000
STATUS:CONFIRMED
SUMMARY:MISFITS vs 4TH QUARTER
URL:/League/Schedule/3125
DESCRIPTION:Regular Season match: MISFITS vs 4TH QUARTER
LOCATION:Martinez Court 6
END:VEVENT
BEGIN:VEVENT
DTSTAMP:20260423T000000Z
UID:7cab5b50-215f-478b-9c13-bb9406d0e513@ClaytonBocce
DTSTART;TZID=America/Los_Angeles:20260827T093000
DTEND;TZID=America/Los_Angeles:20260827T120000
STATUS:CONFIRMED
SUMMARY:MISFITS vs AMICI
URL:/League/Schedule/3125
DESCRIPTION:Regular Season match: MISFITS vs AMICI
LOCATION:Martinez Court 13
END:VEVENT
BEGIN:VEVENT
DTSTAMP:20260423T000000Z
UID:d216c707-010d-4cf9-b59c-2ac2eee073c9@ClaytonBocce
DTSTART;TZID=America/Los_Angeles:20260903T093000
DTEND;TZID=America/Los_Angeles:20260903T120000
STATUS:CONFIRMED
SUMMARY:MISFITS vs BLUE BALLS
URL:/League/Schedule/3125
DESCRIPTION:Regular Season match: MISFITS vs BLUE BALLS
LOCATION:Martinez Court 10
END:VEVENT
BEGIN:VEVENT
DTSTAMP:20260423T000000Z
UID:4a8c64f0-8634-4645-bd68-07d8b4903c00@ClaytonBocce
DTSTART;TZID=America/Los_Angeles:20260910T093000
DTEND;TZID=America/Los_Angeles:20260910T120000
STATUS:CONFIRMED
SUMMARY:MISFITS vs VAGABONDS
URL:/League/Schedule/3125
DESCRIPTION:Regular Season match: MISFITS vs VAGABONDS
LOCATION:Martinez Court 5
END:VEVENT
BEGIN:VEVENT
DTSTAMP:20260423T000000Z
UID:be94d0ac-0786-46ae-8911-04c660ec6ed5@ClaytonBocce
DTSTART;TZID=America/Los_Angeles:20260917T093000
DTEND;TZID=America/Los_Angeles:20260917T120000
STATUS:CONFIRMED
SUMMARY:MISFITS vs SHORTS NO GOOD
URL:/League/Schedule/3125
DESCRIPTION:Regular Season match: MISFITS vs SHORTS NO GOOD
LOCATION:Martinez Court 11
END:VEVENT
END:VCALENDAR
