BEGIN:VCALENDAR
VERSION:2.0
PRODID:-//Clayton Bocce League
METHOD:PUBLISH
BEGIN:VTIMEZONE
TZID:America/Los_Angeles
X-LIC-LOCATION:America/Los_Angeles
BEGIN:DAYLIGHT
TZOFFSETFROM:-0800
TZOFFSETTO:-0700
TZNAME:PDT
DTSTART:20070311T020000
RRULE:FREQ=YEARLY;BYMONTH=3;BYDAY=2SU
END:DAYLIGHT
BEGIN:STANDARD
TZOFFSETFROM:-0700
TZOFFSETTO:-0800
TZNAME:PST
DTSTART:20071104T020000
RRULE:FREQ=YEARLY;BYMONTH=11;BYDAY=1SU
END:STANDARD
END:VTIMEZONE
BEGIN:VEVENT
DTSTAMP:20260423T000000Z
UID:d2d807a1-b8d7-4a39-8893-351efea04974@ClaytonBocce
DTSTART;TZID=America/Los_Angeles:20260423T093000
DTEND;TZID=America/Los_Angeles:20260423T120000
STATUS:CONFIRMED
SUMMARY:BOCCE BY TATE vs MISFITS
URL:/League/Schedule/3120
DESCRIPTION:Regular Season match: BOCCE BY TATE vs MISFITS
LOCATION:Martinez Court 1
END:VEVENT
BEGIN:VEVENT
DTSTAMP:20260423T000000Z
UID:7ea48940-5ec3-43d9-a1a0-089461389029@ClaytonBocce
DTSTART;TZID=America/Los_Angeles:20260430T093000
DTEND;TZID=America/Los_Angeles:20260430T120000
STATUS:CONFIRMED
SUMMARY:BOCCE BY TATE vs AMICI
URL:/League/Schedule/3120
DESCRIPTION:Regular Season match: BOCCE BY TATE vs AMICI
LOCATION:Martinez Court 6
END:VEVENT
BEGIN:VEVENT
DTSTAMP:20260423T000000Z
UID:96383609-aa96-4095-8ce7-ea6d674b1cc3@ClaytonBocce
DTSTART;TZID=America/Los_Angeles:20260507T093000
DTEND;TZID=America/Los_Angeles:20260507T120000
STATUS:CONFIRMED
SUMMARY:BOCCE BY TATE vs VAGABONDS
URL:/League/Schedule/3120
DESCRIPTION:Regular Season match: BOCCE BY TATE vs VAGABONDS
LOCATION:Martinez Court 11
END:VEVENT
BEGIN:VEVENT
DTSTAMP:20260423T000000Z
UID:6915af45-f391-4658-a045-63323aab2d44@ClaytonBocce
DTSTART;TZID=America/Los_Angeles:20260514T093000
DTEND;TZID=America/Los_Angeles:20260514T120000
STATUS:CONFIRMED
SUMMARY:BOCCE BY TATE vs SHORTS NO GOOD
URL:/League/Schedule/3120
DESCRIPTION:Regular Season match: BOCCE BY TATE vs SHORTS NO
  GOOD
LOCATION:Martinez Court 15
END:VEVENT
BEGIN:VEVENT
DTSTAMP:20260423T000000Z
UID:640f4975-9050-4ea4-84d7-1d801374f29c@ClaytonBocce
DTSTART;TZID=America/Los_Angeles:20260521T093000
DTEND;TZID=America/Los_Angeles:20260521T120000
STATUS:CONFIRMED
SUMMARY:BOCCE BY TATE vs 4TH QUARTER
URL:/League/Schedule/3120
DESCRIPTION:Regular Season match: BOCCE BY TATE vs 4TH QUART
 ER
LOCATION:Martinez Court 3
END:VEVENT
BEGIN:VEVENT
DTSTAMP:20260423T000000Z
UID:ac7e64a1-4d05-4af9-b446-2e1605a2611f@ClaytonBocce
DTSTART;TZID=America/Los_Angeles:20260528T093000
DTEND;TZID=America/Los_Angeles:20260528T120000
STATUS:CONFIRMED
SUMMARY:BOCCE BY TATE vs BLUE BALLS
URL:/League/Schedule/3120
DESCRIPTION:Regular Season match: BOCCE BY TATE vs BLUE BALL
 S
LOCATION:Martinez Court 4
END:VEVENT
BEGIN:VEVENT
DTSTAMP:20260423T000000Z
UID:3677d765-9f63-47e0-8d4b-595047587a8c@ClaytonBocce
DTSTART;TZID=America/Los_Angeles:20260611T093000
DTEND;TZID=America/Los_Angeles:20260611T120000
STATUS:CONFIRMED
SUMMARY:BOCCE BY TATE vs MISFITS
URL:/League/Schedule/3120
DESCRIPTION:Regular Season match: BOCCE BY TATE vs MISFITS
LOCATION:Martinez Court 2
END:VEVENT
BEGIN:VEVENT
DTSTAMP:20260423T000000Z
UID:c15326cc-37f1-4600-84ca-74b97f22b2e2@ClaytonBocce
DTSTART;TZID=America/Los_Angeles:20260618T093000
DTEND;TZID=America/Los_Angeles:20260618T120000
STATUS:CONFIRMED
SUMMARY:BOCCE BY TATE vs AMICI
URL:/League/Schedule/3120
DESCRIPTION:Regular Season match: BOCCE BY TATE vs AMICI
LOCATION:Martinez Court 10
END:VEVENT
BEGIN:VEVENT
DTSTAMP:20260423T000000Z
UID:d2a01aa6-67a7-4bc1-94e7-6a70137be348@ClaytonBocce
DTSTART;TZID=America/Los_Angeles:20260625T093000
DTEND;TZID=America/Los_Angeles:20260625T120000
STATUS:CONFIRMED
SUMMARY:BOCCE BY TATE vs VAGABONDS
URL:/League/Schedule/3120
DESCRIPTION:Regular Season match: BOCCE BY TATE vs VAGABONDS
LOCATION:Martinez Court 13
END:VEVENT
BEGIN:VEVENT
DTSTAMP:20260423T000000Z
UID:be353cd8-ce9b-4c49-9b28-7ea0c1eee1d2@ClaytonBocce
DTSTART;TZID=America/Los_Angeles:20260709T093000
DTEND;TZID=America/Los_Angeles:20260709T120000
STATUS:CONFIRMED
SUMMARY:BOCCE BY TATE vs SHORTS NO GOOD
URL:/League/Schedule/3120
DESCRIPTION:Regular Season match: BOCCE BY TATE vs SHORTS NO
  GOOD
LOCATION:Martinez Court 8
END:VEVENT
BEGIN:VEVENT
DTSTAMP:20260423T000000Z
UID:4ffb60ec-9d6b-466d-8787-2928f08da76e@ClaytonBocce
DTSTART;TZID=America/Los_Angeles:20260716T093000
DTEND;TZID=America/Los_Angeles:20260716T120000
STATUS:CONFIRMED
SUMMARY:BOCCE BY TATE vs 4TH QUARTER
URL:/League/Schedule/3120
DESCRIPTION:Regular Season match: BOCCE BY TATE vs 4TH QUART
 ER
LOCATION:Martinez Court 5
END:VEVENT
BEGIN:VEVENT
DTSTAMP:20260423T000000Z
UID:2fc165cd-3ad5-414e-9e22-f3468e8c51d6@ClaytonBocce
DTSTART;TZID=America/Los_Angeles:20260723T093000
DTEND;TZID=America/Los_Angeles:20260723T120000
STATUS:CONFIRMED
SUMMARY:BOCCE BY TATE vs BLUE BALLS
URL:/League/Schedule/3120
DESCRIPTION:Regular Season match: BOCCE BY TATE vs BLUE BALL
 S
LOCATION:Martinez Court 7
END:VEVENT
BEGIN:VEVENT
DTSTAMP:20260423T000000Z
UID:885061ae-6a7e-43a2-b81c-2c1f84480564@ClaytonBocce
DTSTART;TZID=America/Los_Angeles:20260806T093000
DTEND;TZID=America/Los_Angeles:20260806T120000
STATUS:CONFIRMED
SUMMARY:BOCCE BY TATE vs MISFITS
URL:/League/Schedule/3120
DESCRIPTION:Regular Season match: BOCCE BY TATE vs MISFITS
LOCATION:Martinez Court 9
END:VEVENT
BEGIN:VEVENT
DTSTAMP:20260423T000000Z
UID:6d38f1c3-d230-4633-904f-47d09025367b@ClaytonBocce
DTSTART;TZID=America/Los_Angeles:20260813T093000
DTEND;TZID=America/Los_Angeles:20260813T120000
STATUS:CONFIRMED
SUMMARY:BOCCE BY TATE vs AMICI
URL:/League/Schedule/3120
DESCRIPTION:Regular Season match: BOCCE BY TATE vs AMICI
LOCATION:Martinez Court 3
END:VEVENT
BEGIN:VEVENT
DTSTAMP:20260423T000000Z
UID:f786bf54-a5c1-43e1-b193-b678ee6320dc@ClaytonBocce
DTSTART;TZID=America/Los_Angeles:20260820T093000
DTEND;TZID=America/Los_Angeles:20260820T120000
STATUS:CONFIRMED
SUMMARY:BOCCE BY TATE vs VAGABONDS
URL:/League/Schedule/3120
DESCRIPTION:Regular Season match: BOCCE BY TATE vs VAGABONDS
LOCATION:Martinez Court 14
END:VEVENT
BEGIN:VEVENT
DTSTAMP:20260423T000000Z
UID:e979359a-0395-4b44-a7d2-b14b5fe20782@ClaytonBocce
DTSTART;TZID=America/Los_Angeles:20260827T093000
DTEND;TZID=America/Los_Angeles:20260827T120000
STATUS:CONFIRMED
SUMMARY:BOCCE BY TATE vs SHORTS NO GOOD
URL:/League/Schedule/3120
DESCRIPTION:Regular Season match: BOCCE BY TATE vs SHORTS NO
  GOOD
LOCATION:Martinez Court 12
END:VEVENT
BEGIN:VEVENT
DTSTAMP:20260423T000000Z
UID:63829543-3b97-429e-8a6f-d9a1c6cefe1d@ClaytonBocce
DTSTART;TZID=America/Los_Angeles:20260903T093000
DTEND;TZID=America/Los_Angeles:20260903T120000
STATUS:CONFIRMED
SUMMARY:BOCCE BY TATE vs 4TH QUARTER
URL:/League/Schedule/3120
DESCRIPTION:Regular Season match: BOCCE BY TATE vs 4TH QUART
 ER
LOCATION:Martinez Court 11
END:VEVENT
BEGIN:VEVENT
DTSTAMP:20260423T000000Z
UID:40a954b6-859b-4be6-b686-a529ef4d1153@ClaytonBocce
DTSTART;TZID=America/Los_Angeles:20260910T093000
DTEND;TZID=America/Los_Angeles:20260910T120000
STATUS:CONFIRMED
SUMMARY:BOCCE BY TATE vs BLUE BALLS
URL:/League/Schedule/3120
DESCRIPTION:Regular Season match: BOCCE BY TATE vs BLUE BALL
 S
LOCATION:Martinez Court 2
END:VEVENT
END:VCALENDAR
