BEGIN:VCALENDAR
VERSION:2.0
PRODID:-//Clayton Bocce League
METHOD:PUBLISH
BEGIN:VTIMEZONE
TZID:America/Los_Angeles
X-LIC-LOCATION:America/Los_Angeles
BEGIN:DAYLIGHT
TZOFFSETFROM:-0800
TZOFFSETTO:-0700
TZNAME:PDT
DTSTART:20070311T020000
RRULE:FREQ=YEARLY;BYMONTH=3;BYDAY=2SU
END:DAYLIGHT
BEGIN:STANDARD
TZOFFSETFROM:-0700
TZOFFSETTO:-0800
TZNAME:PST
DTSTART:20071104T020000
RRULE:FREQ=YEARLY;BYMONTH=11;BYDAY=1SU
END:STANDARD
END:VTIMEZONE
BEGIN:VEVENT
DTSTAMP:20260419T000000Z
UID:63189959-fd15-4e4b-8f1f-fb0eb6a6b968@ClaytonBocce
DTSTART;TZID=America/Los_Angeles:20260501T183000
DTEND;TZID=America/Los_Angeles:20260501T210000
STATUS:CONFIRMED
SUMMARY:BOCCE FUNTIMERS vs SLIM CHANCE
URL:/League/Schedule/3112
DESCRIPTION:Regular Season match: BOCCE FUNTIMERS vs SLIM CH
 ANCE
LOCATION:Martinez Court 5
END:VEVENT
BEGIN:VEVENT
DTSTAMP:20260419T000000Z
UID:3cbdf9a6-cc32-4773-bf5a-8dbf7fc03edc@ClaytonBocce
DTSTART;TZID=America/Los_Angeles:20260508T183000
DTEND;TZID=America/Los_Angeles:20260508T210000
STATUS:CONFIRMED
SUMMARY:BOCCE FUNTIMERS vs BOCCELISMS
URL:/League/Schedule/3112
DESCRIPTION:Regular Season match: BOCCE FUNTIMERS vs BOCCELI
 SMS
LOCATION:Martinez Court 10
END:VEVENT
BEGIN:VEVENT
DTSTAMP:20260419T000000Z
UID:38cfc9cd-4ea0-48d9-ad28-7e3a1acd335a@ClaytonBocce
DTSTART;TZID=America/Los_Angeles:20260515T183000
DTEND;TZID=America/Los_Angeles:20260515T210000
STATUS:CONFIRMED
SUMMARY:BOCCE FUNTIMERS vs HAVING A BALL
URL:/League/Schedule/3112
DESCRIPTION:Regular Season match: BOCCE FUNTIMERS vs HAVING 
 A BALL
LOCATION:Martinez Court 13
END:VEVENT
BEGIN:VEVENT
DTSTAMP:20260419T000000Z
UID:e5705a6f-9536-4aa2-95c6-6df7c41fb72e@ClaytonBocce
DTSTART;TZID=America/Los_Angeles:20260522T183000
DTEND;TZID=America/Los_Angeles:20260522T210000
STATUS:CONFIRMED
SUMMARY:BOCCE FUNTIMERS vs SNOCKERED KNOCKERS
URL:/League/Schedule/3112
DESCRIPTION:Regular Season match: BOCCE FUNTIMERS vs SNOCKER
 ED KNOCKERS
LOCATION:Martinez Court 2
END:VEVENT
BEGIN:VEVENT
DTSTAMP:20260419T000000Z
UID:28b1d531-f560-4493-8bce-9c135b5b19c1@ClaytonBocce
DTSTART;TZID=America/Los_Angeles:20260529T183000
DTEND;TZID=America/Los_Angeles:20260529T210000
STATUS:CONFIRMED
SUMMARY:BOCCE FUNTIMERS vs DeBOCCERY
URL:/League/Schedule/3112
DESCRIPTION:Regular Season match: BOCCE FUNTIMERS vs DeBOCCE
 RY
LOCATION:Martinez Court 1
END:VEVENT
BEGIN:VEVENT
DTSTAMP:20260419T000000Z
UID:f21690a9-daab-463d-86bb-c5e007e26821@ClaytonBocce
DTSTART;TZID=America/Los_Angeles:20260605T183000
DTEND;TZID=America/Los_Angeles:20260605T210000
STATUS:CONFIRMED
SUMMARY:BOCCE FUNTIMERS vs ITS ALL RELATIVES
URL:/League/Schedule/3112
DESCRIPTION:Regular Season match: BOCCE FUNTIMERS vs ITS ALL
  RELATIVES
LOCATION:Martinez Court 8
END:VEVENT
BEGIN:VEVENT
DTSTAMP:20260419T000000Z
UID:18f5b916-fa85-4c94-a762-429bd480636b@ClaytonBocce
DTSTART;TZID=America/Los_Angeles:20260619T183000
DTEND;TZID=America/Los_Angeles:20260619T210000
STATUS:CONFIRMED
SUMMARY:BOCCE FUNTIMERS vs SLIM CHANCE
URL:/League/Schedule/3112
DESCRIPTION:Regular Season match: BOCCE FUNTIMERS vs SLIM CH
 ANCE
LOCATION:Martinez Court 9
END:VEVENT
BEGIN:VEVENT
DTSTAMP:20260419T000000Z
UID:60116bed-7228-4057-8ae0-8cd6e12b9b10@ClaytonBocce
DTSTART;TZID=America/Los_Angeles:20260626T183000
DTEND;TZID=America/Los_Angeles:20260626T210000
STATUS:CONFIRMED
SUMMARY:BOCCE FUNTIMERS vs BOCCELISMS
URL:/League/Schedule/3112
DESCRIPTION:Regular Season match: BOCCE FUNTIMERS vs BOCCELI
 SMS
LOCATION:Martinez Court 3
END:VEVENT
BEGIN:VEVENT
DTSTAMP:20260419T000000Z
UID:5a03204d-03cb-4f0e-85cb-f38c23e65285@ClaytonBocce
DTSTART;TZID=America/Los_Angeles:20260710T183000
DTEND;TZID=America/Los_Angeles:20260710T210000
STATUS:CONFIRMED
SUMMARY:BOCCE FUNTIMERS vs HAVING A BALL
URL:/League/Schedule/3112
DESCRIPTION:Regular Season match: BOCCE FUNTIMERS vs HAVING 
 A BALL
LOCATION:Martinez Court 6
END:VEVENT
BEGIN:VEVENT
DTSTAMP:20260419T000000Z
UID:3258750b-bc92-403a-9c47-083fb26ad4e5@ClaytonBocce
DTSTART;TZID=America/Los_Angeles:20260717T183000
DTEND;TZID=America/Los_Angeles:20260717T210000
STATUS:CONFIRMED
SUMMARY:BOCCE FUNTIMERS vs SNOCKERED KNOCKERS
URL:/League/Schedule/3112
DESCRIPTION:Regular Season match: BOCCE FUNTIMERS vs SNOCKER
 ED KNOCKERS
LOCATION:Martinez Court 7
END:VEVENT
BEGIN:VEVENT
DTSTAMP:20260419T000000Z
UID:7bd5055c-ba69-488c-bff0-15fb7132c8ca@ClaytonBocce
DTSTART;TZID=America/Los_Angeles:20260724T183000
DTEND;TZID=America/Los_Angeles:20260724T210000
STATUS:CONFIRMED
SUMMARY:BOCCE FUNTIMERS vs DeBOCCERY
URL:/League/Schedule/3112
DESCRIPTION:Regular Season match: BOCCE FUNTIMERS vs DeBOCCE
 RY
LOCATION:Martinez Court 4
END:VEVENT
BEGIN:VEVENT
DTSTAMP:20260419T000000Z
UID:83e02354-68aa-41cd-9dfa-da6c2e612066@ClaytonBocce
DTSTART;TZID=America/Los_Angeles:20260731T183000
DTEND;TZID=America/Los_Angeles:20260731T210000
STATUS:CONFIRMED
SUMMARY:BOCCE FUNTIMERS vs ITS ALL RELATIVES
URL:/League/Schedule/3112
DESCRIPTION:Regular Season match: BOCCE FUNTIMERS vs ITS ALL
  RELATIVES
LOCATION:Martinez Court 11
END:VEVENT
BEGIN:VEVENT
DTSTAMP:20260419T000000Z
UID:57ab6bd4-0c6c-46c4-b5bb-ad74dd95fe67@ClaytonBocce
DTSTART;TZID=America/Los_Angeles:20260814T183000
DTEND;TZID=America/Los_Angeles:20260814T210000
STATUS:CONFIRMED
SUMMARY:BOCCE FUNTIMERS vs SLIM CHANCE
URL:/League/Schedule/3112
DESCRIPTION:Regular Season match: BOCCE FUNTIMERS vs SLIM CH
 ANCE
LOCATION:Martinez Court 14
END:VEVENT
BEGIN:VEVENT
DTSTAMP:20260419T000000Z
UID:e39e49d2-e8d3-44d9-8705-0a2d34405915@ClaytonBocce
DTSTART;TZID=America/Los_Angeles:20260821T183000
DTEND;TZID=America/Los_Angeles:20260821T210000
STATUS:CONFIRMED
SUMMARY:BOCCE FUNTIMERS vs BOCCELISMS
URL:/League/Schedule/3112
DESCRIPTION:Regular Season match: BOCCE FUNTIMERS vs BOCCELI
 SMS
LOCATION:Martinez Court 8
END:VEVENT
BEGIN:VEVENT
DTSTAMP:20260419T000000Z
UID:cd40b19b-e070-46d9-8a3b-390656598ed2@ClaytonBocce
DTSTART;TZID=America/Los_Angeles:20260828T183000
DTEND;TZID=America/Los_Angeles:20260828T210000
STATUS:CONFIRMED
SUMMARY:BOCCE FUNTIMERS vs HAVING A BALL
URL:/League/Schedule/3112
DESCRIPTION:Regular Season match: BOCCE FUNTIMERS vs HAVING 
 A BALL
LOCATION:Martinez Court 4
END:VEVENT
BEGIN:VEVENT
DTSTAMP:20260419T000000Z
UID:73d1f868-1699-4319-be69-a99ae4e79078@ClaytonBocce
DTSTART;TZID=America/Los_Angeles:20260904T183000
DTEND;TZID=America/Los_Angeles:20260904T210000
STATUS:CONFIRMED
SUMMARY:BOCCE FUNTIMERS vs SNOCKERED KNOCKERS
URL:/League/Schedule/3112
DESCRIPTION:Regular Season match: BOCCE FUNTIMERS vs SNOCKER
 ED KNOCKERS
LOCATION:Martinez Court 15
END:VEVENT
BEGIN:VEVENT
DTSTAMP:20260419T000000Z
UID:37d617a0-f2d9-422e-a22f-aba7f6db3983@ClaytonBocce
DTSTART;TZID=America/Los_Angeles:20260911T183000
DTEND;TZID=America/Los_Angeles:20260911T210000
STATUS:CONFIRMED
SUMMARY:BOCCE FUNTIMERS vs DeBOCCERY
URL:/League/Schedule/3112
DESCRIPTION:Regular Season match: BOCCE FUNTIMERS vs DeBOCCE
 RY
LOCATION:Martinez Court 12
END:VEVENT
BEGIN:VEVENT
DTSTAMP:20260419T000000Z
UID:4308576b-81c3-41f9-b052-8ccbec2bc083@ClaytonBocce
DTSTART;TZID=America/Los_Angeles:20260918T183000
DTEND;TZID=America/Los_Angeles:20260918T210000
STATUS:CONFIRMED
SUMMARY:BOCCE FUNTIMERS vs ITS ALL RELATIVES
URL:/League/Schedule/3112
DESCRIPTION:Regular Season match: BOCCE FUNTIMERS vs ITS ALL
  RELATIVES
LOCATION:Martinez Court 2
END:VEVENT
END:VCALENDAR
