BEGIN:VCALENDAR
VERSION:2.0
PRODID:-//Clayton Bocce League
METHOD:PUBLISH
BEGIN:VTIMEZONE
TZID:America/Los_Angeles
X-LIC-LOCATION:America/Los_Angeles
BEGIN:DAYLIGHT
TZOFFSETFROM:-0800
TZOFFSETTO:-0700
TZNAME:PDT
DTSTART:20070311T020000
RRULE:FREQ=YEARLY;BYMONTH=3;BYDAY=2SU
END:DAYLIGHT
BEGIN:STANDARD
TZOFFSETFROM:-0700
TZOFFSETTO:-0800
TZNAME:PST
DTSTART:20071104T020000
RRULE:FREQ=YEARLY;BYMONTH=11;BYDAY=1SU
END:STANDARD
END:VTIMEZONE
BEGIN:VEVENT
DTSTAMP:20260419T000000Z
UID:45986e40-6ab8-4e93-9e8e-76a97c094b9b@ClaytonBocce
DTSTART;TZID=America/Los_Angeles:20260424T183000
DTEND;TZID=America/Los_Angeles:20260424T210000
STATUS:CONFIRMED
SUMMARY:HAVING A BALL vs ITS ALL RELATIVES
URL:/League/Schedule/3107
DESCRIPTION:Regular Season match: HAVING A BALL vs ITS ALL R
 ELATIVES
LOCATION:Martinez Court 14
END:VEVENT
BEGIN:VEVENT
DTSTAMP:20260419T000000Z
UID:c60ebfb6-be5b-41f9-bffd-fe16076b0dcc@ClaytonBocce
DTSTART;TZID=America/Los_Angeles:20260501T183000
DTEND;TZID=America/Los_Angeles:20260501T210000
STATUS:CONFIRMED
SUMMARY:HAVING A BALL vs BOCCELISMS
URL:/League/Schedule/3107
DESCRIPTION:Regular Season match: HAVING A BALL vs BOCCELISM
 S
LOCATION:Martinez Court 4
END:VEVENT
BEGIN:VEVENT
DTSTAMP:20260419T000000Z
UID:0af507e7-246b-4825-b2e5-fa4d5d505b7a@ClaytonBocce
DTSTART;TZID=America/Los_Angeles:20260508T183000
DTEND;TZID=America/Los_Angeles:20260508T210000
STATUS:CONFIRMED
SUMMARY:HAVING A BALL vs SNOCKERED KNOCKERS
URL:/League/Schedule/3107
DESCRIPTION:Regular Season match: HAVING A BALL vs SNOCKERED
  KNOCKERS
LOCATION:Martinez Court 9
END:VEVENT
BEGIN:VEVENT
DTSTAMP:20260419T000000Z
UID:38cfc9cd-4ea0-48d9-ad28-7e3a1acd335a@ClaytonBocce
DTSTART;TZID=America/Los_Angeles:20260515T183000
DTEND;TZID=America/Los_Angeles:20260515T210000
STATUS:CONFIRMED
SUMMARY:HAVING A BALL vs BOCCE FUNTIMERS
URL:/League/Schedule/3107
DESCRIPTION:Regular Season match: HAVING A BALL vs BOCCE FUN
 TIMERS
LOCATION:Martinez Court 13
END:VEVENT
BEGIN:VEVENT
DTSTAMP:20260419T000000Z
UID:e5618839-bd5e-4be7-87d2-fb6cf848383f@ClaytonBocce
DTSTART;TZID=America/Los_Angeles:20260522T183000
DTEND;TZID=America/Los_Angeles:20260522T210000
STATUS:CONFIRMED
SUMMARY:HAVING A BALL vs DeBOCCERY
URL:/League/Schedule/3107
DESCRIPTION:Regular Season match: HAVING A BALL vs DeBOCCERY
LOCATION:Martinez Court 15
END:VEVENT
BEGIN:VEVENT
DTSTAMP:20260419T000000Z
UID:e55b2236-7830-4c52-919f-ab9bf410bc3c@ClaytonBocce
DTSTART;TZID=America/Los_Angeles:20260605T183000
DTEND;TZID=America/Los_Angeles:20260605T210000
STATUS:CONFIRMED
SUMMARY:HAVING A BALL vs SLIM CHANCE
URL:/League/Schedule/3107
DESCRIPTION:Regular Season match: HAVING A BALL vs SLIM CHAN
 CE
LOCATION:Martinez Court 7
END:VEVENT
BEGIN:VEVENT
DTSTAMP:20260419T000000Z
UID:c83aa80d-e95d-4d61-b913-68c75697e814@ClaytonBocce
DTSTART;TZID=America/Los_Angeles:20260612T183000
DTEND;TZID=America/Los_Angeles:20260612T210000
STATUS:CONFIRMED
SUMMARY:HAVING A BALL vs ITS ALL RELATIVES
URL:/League/Schedule/3107
DESCRIPTION:Regular Season match: HAVING A BALL vs ITS ALL R
 ELATIVES
LOCATION:Martinez Court 15
END:VEVENT
BEGIN:VEVENT
DTSTAMP:20260419T000000Z
UID:719b945e-1958-4ef6-8274-1f7cc7768edd@ClaytonBocce
DTSTART;TZID=America/Los_Angeles:20260619T183000
DTEND;TZID=America/Los_Angeles:20260619T210000
STATUS:CONFIRMED
SUMMARY:HAVING A BALL vs BOCCELISMS
URL:/League/Schedule/3107
DESCRIPTION:Regular Season match: HAVING A BALL vs BOCCELISM
 S
LOCATION:Martinez Court 8
END:VEVENT
BEGIN:VEVENT
DTSTAMP:20260419T000000Z
UID:df77e778-e580-411b-bb3f-51b50df458f1@ClaytonBocce
DTSTART;TZID=America/Los_Angeles:20260626T183000
DTEND;TZID=America/Los_Angeles:20260626T210000
STATUS:CONFIRMED
SUMMARY:HAVING A BALL vs SNOCKERED KNOCKERS
URL:/League/Schedule/3107
DESCRIPTION:Regular Season match: HAVING A BALL vs SNOCKERED
  KNOCKERS
LOCATION:Martinez Court 1
END:VEVENT
BEGIN:VEVENT
DTSTAMP:20260419T000000Z
UID:5a03204d-03cb-4f0e-85cb-f38c23e65285@ClaytonBocce
DTSTART;TZID=America/Los_Angeles:20260710T183000
DTEND;TZID=America/Los_Angeles:20260710T210000
STATUS:CONFIRMED
SUMMARY:HAVING A BALL vs BOCCE FUNTIMERS
URL:/League/Schedule/3107
DESCRIPTION:Regular Season match: HAVING A BALL vs BOCCE FUN
 TIMERS
LOCATION:Martinez Court 6
END:VEVENT
BEGIN:VEVENT
DTSTAMP:20260419T000000Z
UID:06ec21b8-d328-4b60-8a98-a6f7d31ff0ec@ClaytonBocce
DTSTART;TZID=America/Los_Angeles:20260717T183000
DTEND;TZID=America/Los_Angeles:20260717T210000
STATUS:CONFIRMED
SUMMARY:HAVING A BALL vs DeBOCCERY
URL:/League/Schedule/3107
DESCRIPTION:Regular Season match: HAVING A BALL vs DeBOCCERY
LOCATION:Martinez Court 2
END:VEVENT
BEGIN:VEVENT
DTSTAMP:20260419T000000Z
UID:dcf568ee-3f9b-42b3-8769-ce0eb946b1ed@ClaytonBocce
DTSTART;TZID=America/Los_Angeles:20260731T183000
DTEND;TZID=America/Los_Angeles:20260731T210000
STATUS:CONFIRMED
SUMMARY:HAVING A BALL vs SLIM CHANCE
URL:/League/Schedule/3107
DESCRIPTION:Regular Season match: HAVING A BALL vs SLIM CHAN
 CE
LOCATION:Martinez Court 10
END:VEVENT
BEGIN:VEVENT
DTSTAMP:20260419T000000Z
UID:beb77130-8d8d-4c1d-a55b-28eef7fc6b72@ClaytonBocce
DTSTART;TZID=America/Los_Angeles:20260807T183000
DTEND;TZID=America/Los_Angeles:20260807T210000
STATUS:CONFIRMED
SUMMARY:HAVING A BALL vs ITS ALL RELATIVES
URL:/League/Schedule/3107
DESCRIPTION:Regular Season match: HAVING A BALL vs ITS ALL R
 ELATIVES
LOCATION:Martinez Court 5
END:VEVENT
BEGIN:VEVENT
DTSTAMP:20260419T000000Z
UID:996f4389-f60b-4683-a611-3fea8ee6776a@ClaytonBocce
DTSTART;TZID=America/Los_Angeles:20260814T183000
DTEND;TZID=America/Los_Angeles:20260814T210000
STATUS:CONFIRMED
SUMMARY:HAVING A BALL vs BOCCELISMS
URL:/League/Schedule/3107
DESCRIPTION:Regular Season match: HAVING A BALL vs BOCCELISM
 S
LOCATION:Martinez Court 11
END:VEVENT
BEGIN:VEVENT
DTSTAMP:20260419T000000Z
UID:a23c53d0-58be-4b32-b5e3-23789fc7eee8@ClaytonBocce
DTSTART;TZID=America/Los_Angeles:20260821T183000
DTEND;TZID=America/Los_Angeles:20260821T210000
STATUS:CONFIRMED
SUMMARY:HAVING A BALL vs SNOCKERED KNOCKERS
URL:/League/Schedule/3107
DESCRIPTION:Regular Season match: HAVING A BALL vs SNOCKERED
  KNOCKERS
LOCATION:Martinez Court 1
END:VEVENT
BEGIN:VEVENT
DTSTAMP:20260419T000000Z
UID:cd40b19b-e070-46d9-8a3b-390656598ed2@ClaytonBocce
DTSTART;TZID=America/Los_Angeles:20260828T183000
DTEND;TZID=America/Los_Angeles:20260828T210000
STATUS:CONFIRMED
SUMMARY:HAVING A BALL vs BOCCE FUNTIMERS
URL:/League/Schedule/3107
DESCRIPTION:Regular Season match: HAVING A BALL vs BOCCE FUN
 TIMERS
LOCATION:Martinez Court 4
END:VEVENT
BEGIN:VEVENT
DTSTAMP:20260419T000000Z
UID:5180eccb-6c8d-4c7e-af64-7eb1ca734be4@ClaytonBocce
DTSTART;TZID=America/Los_Angeles:20260904T183000
DTEND;TZID=America/Los_Angeles:20260904T210000
STATUS:CONFIRMED
SUMMARY:HAVING A BALL vs DeBOCCERY
URL:/League/Schedule/3107
DESCRIPTION:Regular Season match: HAVING A BALL vs DeBOCCERY
LOCATION:Martinez Court 9
END:VEVENT
BEGIN:VEVENT
DTSTAMP:20260419T000000Z
UID:f28bcc31-416a-4cda-b254-b7e8919f79e2@ClaytonBocce
DTSTART;TZID=America/Los_Angeles:20260918T183000
DTEND;TZID=America/Los_Angeles:20260918T210000
STATUS:CONFIRMED
SUMMARY:HAVING A BALL vs SLIM CHANCE
URL:/League/Schedule/3107
DESCRIPTION:Regular Season match: HAVING A BALL vs SLIM CHAN
 CE
LOCATION:Martinez Court 12
END:VEVENT
END:VCALENDAR
