BEGIN:VCALENDAR
VERSION:2.0
PRODID:-//Clayton Bocce League
METHOD:PUBLISH
BEGIN:VTIMEZONE
TZID:America/Los_Angeles
X-LIC-LOCATION:America/Los_Angeles
BEGIN:DAYLIGHT
TZOFFSETFROM:-0800
TZOFFSETTO:-0700
TZNAME:PDT
DTSTART:20070311T020000
RRULE:FREQ=YEARLY;BYMONTH=3;BYDAY=2SU
END:DAYLIGHT
BEGIN:STANDARD
TZOFFSETFROM:-0700
TZOFFSETTO:-0800
TZNAME:PST
DTSTART:20071104T020000
RRULE:FREQ=YEARLY;BYMONTH=11;BYDAY=1SU
END:STANDARD
END:VTIMEZONE
BEGIN:VEVENT
DTSTAMP:20260419T000000Z
UID:45986e40-6ab8-4e93-9e8e-76a97c094b9b@ClaytonBocce
DTSTART;TZID=America/Los_Angeles:20260424T183000
DTEND;TZID=America/Los_Angeles:20260424T210000
STATUS:CONFIRMED
SUMMARY:ITS ALL RELATIVES vs HAVING A BALL
URL:/League/Schedule/3110
DESCRIPTION:Regular Season match: ITS ALL RELATIVES vs HAVIN
 G A BALL
LOCATION:Martinez Court 14
END:VEVENT
BEGIN:VEVENT
DTSTAMP:20260419T000000Z
UID:383b4835-88c9-43da-ba19-20069417dc8a@ClaytonBocce
DTSTART;TZID=America/Los_Angeles:20260501T183000
DTEND;TZID=America/Los_Angeles:20260501T210000
STATUS:CONFIRMED
SUMMARY:ITS ALL RELATIVES vs DeBOCCERY
URL:/League/Schedule/3110
DESCRIPTION:Regular Season match: ITS ALL RELATIVES vs DeBOC
 CERY
LOCATION:Martinez Court 3
END:VEVENT
BEGIN:VEVENT
DTSTAMP:20260419T000000Z
UID:98db8545-84b9-47c1-921a-9df956f496b3@ClaytonBocce
DTSTART;TZID=America/Los_Angeles:20260515T183000
DTEND;TZID=America/Los_Angeles:20260515T210000
STATUS:CONFIRMED
SUMMARY:ITS ALL RELATIVES vs SNOCKERED KNOCKERS
URL:/League/Schedule/3110
DESCRIPTION:Regular Season match: ITS ALL RELATIVES vs SNOCK
 ERED KNOCKERS
LOCATION:Martinez Court 11
END:VEVENT
BEGIN:VEVENT
DTSTAMP:20260419T000000Z
UID:1fc7c4e4-ffc0-4ee0-8ac1-14f5cec28184@ClaytonBocce
DTSTART;TZID=America/Los_Angeles:20260522T183000
DTEND;TZID=America/Los_Angeles:20260522T210000
STATUS:CONFIRMED
SUMMARY:ITS ALL RELATIVES vs SLIM CHANCE
URL:/League/Schedule/3110
DESCRIPTION:Regular Season match: ITS ALL RELATIVES vs SLIM 
 CHANCE
LOCATION:Martinez Court 1
END:VEVENT
BEGIN:VEVENT
DTSTAMP:20260419T000000Z
UID:0b1212b8-3f7a-45c2-97e0-430f803dcef2@ClaytonBocce
DTSTART;TZID=America/Los_Angeles:20260529T183000
DTEND;TZID=America/Los_Angeles:20260529T210000
STATUS:CONFIRMED
SUMMARY:ITS ALL RELATIVES vs BOCCELISMS
URL:/League/Schedule/3110
DESCRIPTION:Regular Season match: ITS ALL RELATIVES vs BOCCE
 LISMS
LOCATION:Martinez Court 2
END:VEVENT
BEGIN:VEVENT
DTSTAMP:20260419T000000Z
UID:f21690a9-daab-463d-86bb-c5e007e26821@ClaytonBocce
DTSTART;TZID=America/Los_Angeles:20260605T183000
DTEND;TZID=America/Los_Angeles:20260605T210000
STATUS:CONFIRMED
SUMMARY:ITS ALL RELATIVES vs BOCCE FUNTIMERS
URL:/League/Schedule/3110
DESCRIPTION:Regular Season match: ITS ALL RELATIVES vs BOCCE
  FUNTIMERS
LOCATION:Martinez Court 8
END:VEVENT
BEGIN:VEVENT
DTSTAMP:20260419T000000Z
UID:c83aa80d-e95d-4d61-b913-68c75697e814@ClaytonBocce
DTSTART;TZID=America/Los_Angeles:20260612T183000
DTEND;TZID=America/Los_Angeles:20260612T210000
STATUS:CONFIRMED
SUMMARY:ITS ALL RELATIVES vs HAVING A BALL
URL:/League/Schedule/3110
DESCRIPTION:Regular Season match: ITS ALL RELATIVES vs HAVIN
 G A BALL
LOCATION:Martinez Court 15
END:VEVENT
BEGIN:VEVENT
DTSTAMP:20260419T000000Z
UID:82ae4c3a-c79f-4139-9201-cac207d57f39@ClaytonBocce
DTSTART;TZID=America/Los_Angeles:20260619T183000
DTEND;TZID=America/Los_Angeles:20260619T210000
STATUS:CONFIRMED
SUMMARY:ITS ALL RELATIVES vs DeBOCCERY
URL:/League/Schedule/3110
DESCRIPTION:Regular Season match: ITS ALL RELATIVES vs DeBOC
 CERY
LOCATION:Martinez Court 7
END:VEVENT
BEGIN:VEVENT
DTSTAMP:20260419T000000Z
UID:f0a6f63b-ffa2-4134-a9f8-58b768fee3cf@ClaytonBocce
DTSTART;TZID=America/Los_Angeles:20260710T183000
DTEND;TZID=America/Los_Angeles:20260710T210000
STATUS:CONFIRMED
SUMMARY:ITS ALL RELATIVES vs SNOCKERED KNOCKERS
URL:/League/Schedule/3110
DESCRIPTION:Regular Season match: ITS ALL RELATIVES vs SNOCK
 ERED KNOCKERS
LOCATION:Martinez Court 4
END:VEVENT
BEGIN:VEVENT
DTSTAMP:20260419T000000Z
UID:016d249b-7dce-4886-b80c-fbc5661939ed@ClaytonBocce
DTSTART;TZID=America/Los_Angeles:20260717T183000
DTEND;TZID=America/Los_Angeles:20260717T210000
STATUS:CONFIRMED
SUMMARY:ITS ALL RELATIVES vs SLIM CHANCE
URL:/League/Schedule/3110
DESCRIPTION:Regular Season match: ITS ALL RELATIVES vs SLIM 
 CHANCE
LOCATION:Martinez Court 6
END:VEVENT
BEGIN:VEVENT
DTSTAMP:20260419T000000Z
UID:07d05909-53b4-4e9e-9656-601a81763729@ClaytonBocce
DTSTART;TZID=America/Los_Angeles:20260724T183000
DTEND;TZID=America/Los_Angeles:20260724T210000
STATUS:CONFIRMED
SUMMARY:ITS ALL RELATIVES vs BOCCELISMS
URL:/League/Schedule/3110
DESCRIPTION:Regular Season match: ITS ALL RELATIVES vs BOCCE
 LISMS
LOCATION:Martinez Court 9
END:VEVENT
BEGIN:VEVENT
DTSTAMP:20260419T000000Z
UID:83e02354-68aa-41cd-9dfa-da6c2e612066@ClaytonBocce
DTSTART;TZID=America/Los_Angeles:20260731T183000
DTEND;TZID=America/Los_Angeles:20260731T210000
STATUS:CONFIRMED
SUMMARY:ITS ALL RELATIVES vs BOCCE FUNTIMERS
URL:/League/Schedule/3110
DESCRIPTION:Regular Season match: ITS ALL RELATIVES vs BOCCE
  FUNTIMERS
LOCATION:Martinez Court 11
END:VEVENT
BEGIN:VEVENT
DTSTAMP:20260419T000000Z
UID:beb77130-8d8d-4c1d-a55b-28eef7fc6b72@ClaytonBocce
DTSTART;TZID=America/Los_Angeles:20260807T183000
DTEND;TZID=America/Los_Angeles:20260807T210000
STATUS:CONFIRMED
SUMMARY:ITS ALL RELATIVES vs HAVING A BALL
URL:/League/Schedule/3110
DESCRIPTION:Regular Season match: ITS ALL RELATIVES vs HAVIN
 G A BALL
LOCATION:Martinez Court 5
END:VEVENT
BEGIN:VEVENT
DTSTAMP:20260419T000000Z
UID:42a9c484-6199-47fe-99a7-9202d9a5eba2@ClaytonBocce
DTSTART;TZID=America/Los_Angeles:20260814T183000
DTEND;TZID=America/Los_Angeles:20260814T210000
STATUS:CONFIRMED
SUMMARY:ITS ALL RELATIVES vs DeBOCCERY
URL:/League/Schedule/3110
DESCRIPTION:Regular Season match: ITS ALL RELATIVES vs DeBOC
 CERY
LOCATION:Martinez Court 8
END:VEVENT
BEGIN:VEVENT
DTSTAMP:20260419T000000Z
UID:00720857-e1b3-4f56-8ada-013be21dbcba@ClaytonBocce
DTSTART;TZID=America/Los_Angeles:20260828T183000
DTEND;TZID=America/Los_Angeles:20260828T210000
STATUS:CONFIRMED
SUMMARY:ITS ALL RELATIVES vs SNOCKERED KNOCKERS
URL:/League/Schedule/3110
DESCRIPTION:Regular Season match: ITS ALL RELATIVES vs SNOCK
 ERED KNOCKERS
LOCATION:Martinez Court 10
END:VEVENT
BEGIN:VEVENT
DTSTAMP:20260419T000000Z
UID:7d3c3c19-06ec-44b2-b893-17575447d352@ClaytonBocce
DTSTART;TZID=America/Los_Angeles:20260904T183000
DTEND;TZID=America/Los_Angeles:20260904T210000
STATUS:CONFIRMED
SUMMARY:ITS ALL RELATIVES vs SLIM CHANCE
URL:/League/Schedule/3110
DESCRIPTION:Regular Season match: ITS ALL RELATIVES vs SLIM 
 CHANCE
LOCATION:Martinez Court 13
END:VEVENT
BEGIN:VEVENT
DTSTAMP:20260419T000000Z
UID:e1dd92df-a05b-412a-9280-0d3c7c6138fe@ClaytonBocce
DTSTART;TZID=America/Los_Angeles:20260911T183000
DTEND;TZID=America/Los_Angeles:20260911T210000
STATUS:CONFIRMED
SUMMARY:ITS ALL RELATIVES vs BOCCELISMS
URL:/League/Schedule/3110
DESCRIPTION:Regular Season match: ITS ALL RELATIVES vs BOCCE
 LISMS
LOCATION:Martinez Court 14
END:VEVENT
BEGIN:VEVENT
DTSTAMP:20260419T000000Z
UID:4308576b-81c3-41f9-b052-8ccbec2bc083@ClaytonBocce
DTSTART;TZID=America/Los_Angeles:20260918T183000
DTEND;TZID=America/Los_Angeles:20260918T210000
STATUS:CONFIRMED
SUMMARY:ITS ALL RELATIVES vs BOCCE FUNTIMERS
URL:/League/Schedule/3110
DESCRIPTION:Regular Season match: ITS ALL RELATIVES vs BOCCE
  FUNTIMERS
LOCATION:Martinez Court 2
END:VEVENT
END:VCALENDAR
