BEGIN:VCALENDAR
VERSION:2.0
PRODID:-//Clayton Bocce League
METHOD:PUBLISH
BEGIN:VTIMEZONE
TZID:America/Los_Angeles
X-LIC-LOCATION:America/Los_Angeles
BEGIN:DAYLIGHT
TZOFFSETFROM:-0800
TZOFFSETTO:-0700
TZNAME:PDT
DTSTART:20070311T020000
RRULE:FREQ=YEARLY;BYMONTH=3;BYDAY=2SU
END:DAYLIGHT
BEGIN:STANDARD
TZOFFSETFROM:-0700
TZOFFSETTO:-0800
TZNAME:PST
DTSTART:20071104T020000
RRULE:FREQ=YEARLY;BYMONTH=11;BYDAY=1SU
END:STANDARD
END:VTIMEZONE
BEGIN:VEVENT
DTSTAMP:20260419T000000Z
UID:f1fa8d20-8529-4829-b7a8-8632db0ba583@ClaytonBocce
DTSTART;TZID=America/Los_Angeles:20260424T183000
DTEND;TZID=America/Los_Angeles:20260424T210000
STATUS:CONFIRMED
SUMMARY:SLIM CHANCE vs BOCCELISMS
URL:/League/Schedule/3109
DESCRIPTION:Regular Season match: SLIM CHANCE vs BOCCELISMS
LOCATION:Martinez Court 15
END:VEVENT
BEGIN:VEVENT
DTSTAMP:20260419T000000Z
UID:63189959-fd15-4e4b-8f1f-fb0eb6a6b968@ClaytonBocce
DTSTART;TZID=America/Los_Angeles:20260501T183000
DTEND;TZID=America/Los_Angeles:20260501T210000
STATUS:CONFIRMED
SUMMARY:SLIM CHANCE vs BOCCE FUNTIMERS
URL:/League/Schedule/3109
DESCRIPTION:Regular Season match: SLIM CHANCE vs BOCCE FUNTI
 MERS
LOCATION:Martinez Court 5
END:VEVENT
BEGIN:VEVENT
DTSTAMP:20260419T000000Z
UID:064cee34-3b2d-4699-acea-809d8222469c@ClaytonBocce
DTSTART;TZID=America/Los_Angeles:20260508T183000
DTEND;TZID=America/Los_Angeles:20260508T210000
STATUS:CONFIRMED
SUMMARY:SLIM CHANCE vs DeBOCCERY
URL:/League/Schedule/3109
DESCRIPTION:Regular Season match: SLIM CHANCE vs DeBOCCERY
LOCATION:Martinez Court 8
END:VEVENT
BEGIN:VEVENT
DTSTAMP:20260419T000000Z
UID:1fc7c4e4-ffc0-4ee0-8ac1-14f5cec28184@ClaytonBocce
DTSTART;TZID=America/Los_Angeles:20260522T183000
DTEND;TZID=America/Los_Angeles:20260522T210000
STATUS:CONFIRMED
SUMMARY:SLIM CHANCE vs ITS ALL RELATIVES
URL:/League/Schedule/3109
DESCRIPTION:Regular Season match: SLIM CHANCE vs ITS ALL REL
 ATIVES
LOCATION:Martinez Court 1
END:VEVENT
BEGIN:VEVENT
DTSTAMP:20260419T000000Z
UID:25e0a293-ab18-4bfb-be1b-1615e905eb24@ClaytonBocce
DTSTART;TZID=America/Los_Angeles:20260529T183000
DTEND;TZID=America/Los_Angeles:20260529T210000
STATUS:CONFIRMED
SUMMARY:SLIM CHANCE vs SNOCKERED KNOCKERS
URL:/League/Schedule/3109
DESCRIPTION:Regular Season match: SLIM CHANCE vs SNOCKERED K
 NOCKERS
LOCATION:Martinez Court 3
END:VEVENT
BEGIN:VEVENT
DTSTAMP:20260419T000000Z
UID:e55b2236-7830-4c52-919f-ab9bf410bc3c@ClaytonBocce
DTSTART;TZID=America/Los_Angeles:20260605T183000
DTEND;TZID=America/Los_Angeles:20260605T210000
STATUS:CONFIRMED
SUMMARY:SLIM CHANCE vs HAVING A BALL
URL:/League/Schedule/3109
DESCRIPTION:Regular Season match: SLIM CHANCE vs HAVING A BA
 LL
LOCATION:Martinez Court 7
END:VEVENT
BEGIN:VEVENT
DTSTAMP:20260419T000000Z
UID:6d467ed6-9c93-4095-a06f-ed74d9db060e@ClaytonBocce
DTSTART;TZID=America/Los_Angeles:20260612T183000
DTEND;TZID=America/Los_Angeles:20260612T210000
STATUS:CONFIRMED
SUMMARY:SLIM CHANCE vs BOCCELISMS
URL:/League/Schedule/3109
DESCRIPTION:Regular Season match: SLIM CHANCE vs BOCCELISMS
LOCATION:Martinez Court 13
END:VEVENT
BEGIN:VEVENT
DTSTAMP:20260419T000000Z
UID:18f5b916-fa85-4c94-a762-429bd480636b@ClaytonBocce
DTSTART;TZID=America/Los_Angeles:20260619T183000
DTEND;TZID=America/Los_Angeles:20260619T210000
STATUS:CONFIRMED
SUMMARY:SLIM CHANCE vs BOCCE FUNTIMERS
URL:/League/Schedule/3109
DESCRIPTION:Regular Season match: SLIM CHANCE vs BOCCE FUNTI
 MERS
LOCATION:Martinez Court 9
END:VEVENT
BEGIN:VEVENT
DTSTAMP:20260419T000000Z
UID:3c0b0e19-4294-428b-8a3c-5972e2644519@ClaytonBocce
DTSTART;TZID=America/Los_Angeles:20260626T183000
DTEND;TZID=America/Los_Angeles:20260626T210000
STATUS:CONFIRMED
SUMMARY:SLIM CHANCE vs DeBOCCERY
URL:/League/Schedule/3109
DESCRIPTION:Regular Season match: SLIM CHANCE vs DeBOCCERY
LOCATION:Martinez Court 12
END:VEVENT
BEGIN:VEVENT
DTSTAMP:20260419T000000Z
UID:016d249b-7dce-4886-b80c-fbc5661939ed@ClaytonBocce
DTSTART;TZID=America/Los_Angeles:20260717T183000
DTEND;TZID=America/Los_Angeles:20260717T210000
STATUS:CONFIRMED
SUMMARY:SLIM CHANCE vs ITS ALL RELATIVES
URL:/League/Schedule/3109
DESCRIPTION:Regular Season match: SLIM CHANCE vs ITS ALL REL
 ATIVES
LOCATION:Martinez Court 6
END:VEVENT
BEGIN:VEVENT
DTSTAMP:20260419T000000Z
UID:c212f663-bb22-4dd0-9ad5-6501ddfd42fe@ClaytonBocce
DTSTART;TZID=America/Los_Angeles:20260724T183000
DTEND;TZID=America/Los_Angeles:20260724T210000
STATUS:CONFIRMED
SUMMARY:SLIM CHANCE vs SNOCKERED KNOCKERS
URL:/League/Schedule/3109
DESCRIPTION:Regular Season match: SLIM CHANCE vs SNOCKERED K
 NOCKERS
LOCATION:Martinez Court 5
END:VEVENT
BEGIN:VEVENT
DTSTAMP:20260419T000000Z
UID:dcf568ee-3f9b-42b3-8769-ce0eb946b1ed@ClaytonBocce
DTSTART;TZID=America/Los_Angeles:20260731T183000
DTEND;TZID=America/Los_Angeles:20260731T210000
STATUS:CONFIRMED
SUMMARY:SLIM CHANCE vs HAVING A BALL
URL:/League/Schedule/3109
DESCRIPTION:Regular Season match: SLIM CHANCE vs HAVING A BA
 LL
LOCATION:Martinez Court 10
END:VEVENT
BEGIN:VEVENT
DTSTAMP:20260419T000000Z
UID:5c12db3f-bf99-4824-a453-f6d3a8dcd6f8@ClaytonBocce
DTSTART;TZID=America/Los_Angeles:20260807T183000
DTEND;TZID=America/Los_Angeles:20260807T210000
STATUS:CONFIRMED
SUMMARY:SLIM CHANCE vs BOCCELISMS
URL:/League/Schedule/3109
DESCRIPTION:Regular Season match: SLIM CHANCE vs BOCCELISMS
LOCATION:Martinez Court 4
END:VEVENT
BEGIN:VEVENT
DTSTAMP:20260419T000000Z
UID:57ab6bd4-0c6c-46c4-b5bb-ad74dd95fe67@ClaytonBocce
DTSTART;TZID=America/Los_Angeles:20260814T183000
DTEND;TZID=America/Los_Angeles:20260814T210000
STATUS:CONFIRMED
SUMMARY:SLIM CHANCE vs BOCCE FUNTIMERS
URL:/League/Schedule/3109
DESCRIPTION:Regular Season match: SLIM CHANCE vs BOCCE FUNTI
 MERS
LOCATION:Martinez Court 14
END:VEVENT
BEGIN:VEVENT
DTSTAMP:20260419T000000Z
UID:253b0eb3-8681-4608-adc5-d3a56c13598a@ClaytonBocce
DTSTART;TZID=America/Los_Angeles:20260821T183000
DTEND;TZID=America/Los_Angeles:20260821T210000
STATUS:CONFIRMED
SUMMARY:SLIM CHANCE vs DeBOCCERY
URL:/League/Schedule/3109
DESCRIPTION:Regular Season match: SLIM CHANCE vs DeBOCCERY
LOCATION:Martinez Court 11
END:VEVENT
BEGIN:VEVENT
DTSTAMP:20260419T000000Z
UID:7d3c3c19-06ec-44b2-b893-17575447d352@ClaytonBocce
DTSTART;TZID=America/Los_Angeles:20260904T183000
DTEND;TZID=America/Los_Angeles:20260904T210000
STATUS:CONFIRMED
SUMMARY:SLIM CHANCE vs ITS ALL RELATIVES
URL:/League/Schedule/3109
DESCRIPTION:Regular Season match: SLIM CHANCE vs ITS ALL REL
 ATIVES
LOCATION:Martinez Court 13
END:VEVENT
BEGIN:VEVENT
DTSTAMP:20260419T000000Z
UID:4bd2fa06-6c12-460a-a353-fa86a30a9185@ClaytonBocce
DTSTART;TZID=America/Los_Angeles:20260911T183000
DTEND;TZID=America/Los_Angeles:20260911T210000
STATUS:CONFIRMED
SUMMARY:SLIM CHANCE vs SNOCKERED KNOCKERS
URL:/League/Schedule/3109
DESCRIPTION:Regular Season match: SLIM CHANCE vs SNOCKERED K
 NOCKERS
LOCATION:Martinez Court 3
END:VEVENT
BEGIN:VEVENT
DTSTAMP:20260419T000000Z
UID:f28bcc31-416a-4cda-b254-b7e8919f79e2@ClaytonBocce
DTSTART;TZID=America/Los_Angeles:20260918T183000
DTEND;TZID=America/Los_Angeles:20260918T210000
STATUS:CONFIRMED
SUMMARY:SLIM CHANCE vs HAVING A BALL
URL:/League/Schedule/3109
DESCRIPTION:Regular Season match: SLIM CHANCE vs HAVING A BA
 LL
LOCATION:Martinez Court 12
END:VEVENT
END:VCALENDAR
