BEGIN:VCALENDAR
VERSION:2.0
PRODID:-//Clayton Bocce League
METHOD:PUBLISH
BEGIN:VTIMEZONE
TZID:America/Los_Angeles
X-LIC-LOCATION:America/Los_Angeles
BEGIN:DAYLIGHT
TZOFFSETFROM:-0800
TZOFFSETTO:-0700
TZNAME:PDT
DTSTART:20070311T020000
RRULE:FREQ=YEARLY;BYMONTH=3;BYDAY=2SU
END:DAYLIGHT
BEGIN:STANDARD
TZOFFSETFROM:-0700
TZOFFSETTO:-0800
TZNAME:PST
DTSTART:20071104T020000
RRULE:FREQ=YEARLY;BYMONTH=11;BYDAY=1SU
END:STANDARD
END:VTIMEZONE
BEGIN:VEVENT
DTSTAMP:20260419T000000Z
UID:f1fa8d20-8529-4829-b7a8-8632db0ba583@ClaytonBocce
DTSTART;TZID=America/Los_Angeles:20260424T183000
DTEND;TZID=America/Los_Angeles:20260424T210000
STATUS:CONFIRMED
SUMMARY:BOCCELISMS vs SLIM CHANCE
URL:/League/Schedule/3108
DESCRIPTION:Regular Season match: BOCCELISMS vs SLIM CHANCE
LOCATION:Martinez Court 15
END:VEVENT
BEGIN:VEVENT
DTSTAMP:20260419T000000Z
UID:c60ebfb6-be5b-41f9-bffd-fe16076b0dcc@ClaytonBocce
DTSTART;TZID=America/Los_Angeles:20260501T183000
DTEND;TZID=America/Los_Angeles:20260501T210000
STATUS:CONFIRMED
SUMMARY:BOCCELISMS vs HAVING A BALL
URL:/League/Schedule/3108
DESCRIPTION:Regular Season match: BOCCELISMS vs HAVING A BAL
 L
LOCATION:Martinez Court 4
END:VEVENT
BEGIN:VEVENT
DTSTAMP:20260419T000000Z
UID:3cbdf9a6-cc32-4773-bf5a-8dbf7fc03edc@ClaytonBocce
DTSTART;TZID=America/Los_Angeles:20260508T183000
DTEND;TZID=America/Los_Angeles:20260508T210000
STATUS:CONFIRMED
SUMMARY:BOCCELISMS vs BOCCE FUNTIMERS
URL:/League/Schedule/3108
DESCRIPTION:Regular Season match: BOCCELISMS vs BOCCE FUNTIM
 ERS
LOCATION:Martinez Court 10
END:VEVENT
BEGIN:VEVENT
DTSTAMP:20260419T000000Z
UID:d3ab2397-bb74-4c88-b703-3de6ce67d859@ClaytonBocce
DTSTART;TZID=America/Los_Angeles:20260515T183000
DTEND;TZID=America/Los_Angeles:20260515T210000
STATUS:CONFIRMED
SUMMARY:BOCCELISMS vs DeBOCCERY
URL:/League/Schedule/3108
DESCRIPTION:Regular Season match: BOCCELISMS vs DeBOCCERY
LOCATION:Martinez Court 7
END:VEVENT
BEGIN:VEVENT
DTSTAMP:20260419T000000Z
UID:0b1212b8-3f7a-45c2-97e0-430f803dcef2@ClaytonBocce
DTSTART;TZID=America/Los_Angeles:20260529T183000
DTEND;TZID=America/Los_Angeles:20260529T210000
STATUS:CONFIRMED
SUMMARY:BOCCELISMS vs ITS ALL RELATIVES
URL:/League/Schedule/3108
DESCRIPTION:Regular Season match: BOCCELISMS vs ITS ALL RELA
 TIVES
LOCATION:Martinez Court 2
END:VEVENT
BEGIN:VEVENT
DTSTAMP:20260419T000000Z
UID:96c04226-bb64-418f-8ec8-6ac3abe3d49a@ClaytonBocce
DTSTART;TZID=America/Los_Angeles:20260605T183000
DTEND;TZID=America/Los_Angeles:20260605T210000
STATUS:CONFIRMED
SUMMARY:BOCCELISMS vs SNOCKERED KNOCKERS
URL:/League/Schedule/3108
DESCRIPTION:Regular Season match: BOCCELISMS vs SNOCKERED KN
 OCKERS
LOCATION:Martinez Court 6
END:VEVENT
BEGIN:VEVENT
DTSTAMP:20260419T000000Z
UID:6d467ed6-9c93-4095-a06f-ed74d9db060e@ClaytonBocce
DTSTART;TZID=America/Los_Angeles:20260612T183000
DTEND;TZID=America/Los_Angeles:20260612T210000
STATUS:CONFIRMED
SUMMARY:BOCCELISMS vs SLIM CHANCE
URL:/League/Schedule/3108
DESCRIPTION:Regular Season match: BOCCELISMS vs SLIM CHANCE
LOCATION:Martinez Court 13
END:VEVENT
BEGIN:VEVENT
DTSTAMP:20260419T000000Z
UID:719b945e-1958-4ef6-8274-1f7cc7768edd@ClaytonBocce
DTSTART;TZID=America/Los_Angeles:20260619T183000
DTEND;TZID=America/Los_Angeles:20260619T210000
STATUS:CONFIRMED
SUMMARY:BOCCELISMS vs HAVING A BALL
URL:/League/Schedule/3108
DESCRIPTION:Regular Season match: BOCCELISMS vs HAVING A BAL
 L
LOCATION:Martinez Court 8
END:VEVENT
BEGIN:VEVENT
DTSTAMP:20260419T000000Z
UID:60116bed-7228-4057-8ae0-8cd6e12b9b10@ClaytonBocce
DTSTART;TZID=America/Los_Angeles:20260626T183000
DTEND;TZID=America/Los_Angeles:20260626T210000
STATUS:CONFIRMED
SUMMARY:BOCCELISMS vs BOCCE FUNTIMERS
URL:/League/Schedule/3108
DESCRIPTION:Regular Season match: BOCCELISMS vs BOCCE FUNTIM
 ERS
LOCATION:Martinez Court 3
END:VEVENT
BEGIN:VEVENT
DTSTAMP:20260419T000000Z
UID:1e80a73c-ad45-4eb8-adef-ca451f9f4555@ClaytonBocce
DTSTART;TZID=America/Los_Angeles:20260710T183000
DTEND;TZID=America/Los_Angeles:20260710T210000
STATUS:CONFIRMED
SUMMARY:BOCCELISMS vs DeBOCCERY
URL:/League/Schedule/3108
DESCRIPTION:Regular Season match: BOCCELISMS vs DeBOCCERY
LOCATION:Martinez Court 5
END:VEVENT
BEGIN:VEVENT
DTSTAMP:20260419T000000Z
UID:07d05909-53b4-4e9e-9656-601a81763729@ClaytonBocce
DTSTART;TZID=America/Los_Angeles:20260724T183000
DTEND;TZID=America/Los_Angeles:20260724T210000
STATUS:CONFIRMED
SUMMARY:BOCCELISMS vs ITS ALL RELATIVES
URL:/League/Schedule/3108
DESCRIPTION:Regular Season match: BOCCELISMS vs ITS ALL RELA
 TIVES
LOCATION:Martinez Court 9
END:VEVENT
BEGIN:VEVENT
DTSTAMP:20260419T000000Z
UID:173cf72e-f5de-4ffc-b638-f14cc05c1291@ClaytonBocce
DTSTART;TZID=America/Los_Angeles:20260731T183000
DTEND;TZID=America/Los_Angeles:20260731T210000
STATUS:CONFIRMED
SUMMARY:BOCCELISMS vs SNOCKERED KNOCKERS
URL:/League/Schedule/3108
DESCRIPTION:Regular Season match: BOCCELISMS vs SNOCKERED KN
 OCKERS
LOCATION:Martinez Court 12
END:VEVENT
BEGIN:VEVENT
DTSTAMP:20260419T000000Z
UID:5c12db3f-bf99-4824-a453-f6d3a8dcd6f8@ClaytonBocce
DTSTART;TZID=America/Los_Angeles:20260807T183000
DTEND;TZID=America/Los_Angeles:20260807T210000
STATUS:CONFIRMED
SUMMARY:BOCCELISMS vs SLIM CHANCE
URL:/League/Schedule/3108
DESCRIPTION:Regular Season match: BOCCELISMS vs SLIM CHANCE
LOCATION:Martinez Court 4
END:VEVENT
BEGIN:VEVENT
DTSTAMP:20260419T000000Z
UID:996f4389-f60b-4683-a611-3fea8ee6776a@ClaytonBocce
DTSTART;TZID=America/Los_Angeles:20260814T183000
DTEND;TZID=America/Los_Angeles:20260814T210000
STATUS:CONFIRMED
SUMMARY:BOCCELISMS vs HAVING A BALL
URL:/League/Schedule/3108
DESCRIPTION:Regular Season match: BOCCELISMS vs HAVING A BAL
 L
LOCATION:Martinez Court 11
END:VEVENT
BEGIN:VEVENT
DTSTAMP:20260419T000000Z
UID:e39e49d2-e8d3-44d9-8705-0a2d34405915@ClaytonBocce
DTSTART;TZID=America/Los_Angeles:20260821T183000
DTEND;TZID=America/Los_Angeles:20260821T210000
STATUS:CONFIRMED
SUMMARY:BOCCELISMS vs BOCCE FUNTIMERS
URL:/League/Schedule/3108
DESCRIPTION:Regular Season match: BOCCELISMS vs BOCCE FUNTIM
 ERS
LOCATION:Martinez Court 8
END:VEVENT
BEGIN:VEVENT
DTSTAMP:20260419T000000Z
UID:4b696f5e-85ab-4a45-a772-b0a70690cf74@ClaytonBocce
DTSTART;TZID=America/Los_Angeles:20260828T183000
DTEND;TZID=America/Los_Angeles:20260828T210000
STATUS:CONFIRMED
SUMMARY:BOCCELISMS vs DeBOCCERY
URL:/League/Schedule/3108
DESCRIPTION:Regular Season match: BOCCELISMS vs DeBOCCERY
LOCATION:Martinez Court 1
END:VEVENT
BEGIN:VEVENT
DTSTAMP:20260419T000000Z
UID:e1dd92df-a05b-412a-9280-0d3c7c6138fe@ClaytonBocce
DTSTART;TZID=America/Los_Angeles:20260911T183000
DTEND;TZID=America/Los_Angeles:20260911T210000
STATUS:CONFIRMED
SUMMARY:BOCCELISMS vs ITS ALL RELATIVES
URL:/League/Schedule/3108
DESCRIPTION:Regular Season match: BOCCELISMS vs ITS ALL RELA
 TIVES
LOCATION:Martinez Court 14
END:VEVENT
BEGIN:VEVENT
DTSTAMP:20260419T000000Z
UID:6d9e7265-155e-4565-b9a5-2c3358a0af68@ClaytonBocce
DTSTART;TZID=America/Los_Angeles:20260918T183000
DTEND;TZID=America/Los_Angeles:20260918T210000
STATUS:CONFIRMED
SUMMARY:BOCCELISMS vs SNOCKERED KNOCKERS
URL:/League/Schedule/3108
DESCRIPTION:Regular Season match: BOCCELISMS vs SNOCKERED KN
 OCKERS
LOCATION:Martinez Court 13
END:VEVENT
END:VCALENDAR
