BEGIN:VCALENDAR
VERSION:2.0
PRODID:-//Clayton Bocce League
METHOD:PUBLISH
BEGIN:VTIMEZONE
TZID:America/Los_Angeles
X-LIC-LOCATION:America/Los_Angeles
BEGIN:DAYLIGHT
TZOFFSETFROM:-0800
TZOFFSETTO:-0700
TZNAME:PDT
DTSTART:20070311T020000
RRULE:FREQ=YEARLY;BYMONTH=3;BYDAY=2SU
END:DAYLIGHT
BEGIN:STANDARD
TZOFFSETFROM:-0700
TZOFFSETTO:-0800
TZNAME:PST
DTSTART:20071104T020000
RRULE:FREQ=YEARLY;BYMONTH=11;BYDAY=1SU
END:STANDARD
END:VTIMEZONE
BEGIN:VEVENT
DTSTAMP:20260419T000000Z
UID:22745e30-2865-41ed-98d4-f0f8b4d6ea96@ClaytonBocce
DTSTART;TZID=America/Los_Angeles:20260424T183000
DTEND;TZID=America/Los_Angeles:20260424T210000
STATUS:CONFIRMED
SUMMARY:TIRA LA PALLA vs ROLLING SCONES
URL:/League/Schedule/3101
DESCRIPTION:Regular Season match: TIRA LA PALLA vs ROLLING S
 CONES
LOCATION:Martinez Court 12
END:VEVENT
BEGIN:VEVENT
DTSTAMP:20260419T000000Z
UID:62b8f14b-909b-43b2-8dc4-d577e8ef4622@ClaytonBocce
DTSTART;TZID=America/Los_Angeles:20260501T183000
DTEND;TZID=America/Los_Angeles:20260501T210000
STATUS:CONFIRMED
SUMMARY:TIRA LA PALLA vs BUONO BOCCE
URL:/League/Schedule/3101
DESCRIPTION:Regular Season match: TIRA LA PALLA vs BUONO BOC
 CE
LOCATION:Martinez Court 1
END:VEVENT
BEGIN:VEVENT
DTSTAMP:20260419T000000Z
UID:83f79927-ae1f-40e7-b426-2d13049e4c5a@ClaytonBocce
DTSTART;TZID=America/Los_Angeles:20260508T183000
DTEND;TZID=America/Los_Angeles:20260508T210000
STATUS:CONFIRMED
SUMMARY:TIRA LA PALLA vs JUSKIZIT
URL:/League/Schedule/3101
DESCRIPTION:Regular Season match: TIRA LA PALLA vs JUSKIZIT
LOCATION:Martinez Court 7
END:VEVENT
BEGIN:VEVENT
DTSTAMP:20260419T000000Z
UID:19036f9f-20ba-49d0-95c9-f9bc78a804be@ClaytonBocce
DTSTART;TZID=America/Los_Angeles:20260515T183000
DTEND;TZID=America/Los_Angeles:20260515T210000
STATUS:CONFIRMED
SUMMARY:TIRA LA PALLA vs BOCCE WEEKENDERS
URL:/League/Schedule/3101
DESCRIPTION:Regular Season match: TIRA LA PALLA vs BOCCE WEE
 KENDERS
LOCATION:Martinez Court 9
END:VEVENT
BEGIN:VEVENT
DTSTAMP:20260419T000000Z
UID:eed6fd7f-83d8-4dff-9a3b-75281ed48ff7@ClaytonBocce
DTSTART;TZID=America/Los_Angeles:20260529T183000
DTEND;TZID=America/Los_Angeles:20260529T210000
STATUS:CONFIRMED
SUMMARY:TIRA LA PALLA vs YAY! BOCCE
URL:/League/Schedule/3101
DESCRIPTION:Regular Season match: TIRA LA PALLA vs YAY! BOCC
 E
LOCATION:Martinez Court 14
END:VEVENT
BEGIN:VEVENT
DTSTAMP:20260419T000000Z
UID:51ebd5b8-bc30-4de9-b1b9-76e24bf290fb@ClaytonBocce
DTSTART;TZID=America/Los_Angeles:20260605T183000
DTEND;TZID=America/Los_Angeles:20260605T210000
STATUS:CONFIRMED
SUMMARY:TIRA LA PALLA vs PER AMORE DELLA BOCCE
URL:/League/Schedule/3101
DESCRIPTION:Regular Season match: TIRA LA PALLA vs PER AMORE
  DELLA BOCCE
LOCATION:Martinez Court 13
END:VEVENT
BEGIN:VEVENT
DTSTAMP:20260419T000000Z
UID:f094e567-65d8-4174-80f8-27d80f3e0410@ClaytonBocce
DTSTART;TZID=America/Los_Angeles:20260612T183000
DTEND;TZID=America/Los_Angeles:20260612T210000
STATUS:CONFIRMED
SUMMARY:TIRA LA PALLA vs ROLLING SCONES
URL:/League/Schedule/3101
DESCRIPTION:Regular Season match: TIRA LA PALLA vs ROLLING S
 CONES
LOCATION:Martinez Court 10
END:VEVENT
BEGIN:VEVENT
DTSTAMP:20260419T000000Z
UID:ff330075-6323-4822-b703-d38ba4c5c29d@ClaytonBocce
DTSTART;TZID=America/Los_Angeles:20260619T183000
DTEND;TZID=America/Los_Angeles:20260619T210000
STATUS:CONFIRMED
SUMMARY:TIRA LA PALLA vs BUONO BOCCE
URL:/League/Schedule/3101
DESCRIPTION:Regular Season match: TIRA LA PALLA vs BUONO BOC
 CE
LOCATION:Martinez Court 3
END:VEVENT
BEGIN:VEVENT
DTSTAMP:20260419T000000Z
UID:c48041f4-dc7b-4e9d-af6b-13c96801065a@ClaytonBocce
DTSTART;TZID=America/Los_Angeles:20260626T183000
DTEND;TZID=America/Los_Angeles:20260626T210000
STATUS:CONFIRMED
SUMMARY:TIRA LA PALLA vs JUSKIZIT
URL:/League/Schedule/3101
DESCRIPTION:Regular Season match: TIRA LA PALLA vs JUSKIZIT
LOCATION:Martinez Court 8
END:VEVENT
BEGIN:VEVENT
DTSTAMP:20260419T000000Z
UID:1cf27b07-9477-46b7-a6cf-badab7404b19@ClaytonBocce
DTSTART;TZID=America/Los_Angeles:20260710T183000
DTEND;TZID=America/Los_Angeles:20260710T210000
STATUS:CONFIRMED
SUMMARY:TIRA LA PALLA vs BOCCE WEEKENDERS
URL:/League/Schedule/3101
DESCRIPTION:Regular Season match: TIRA LA PALLA vs BOCCE WEE
 KENDERS
LOCATION:Martinez Court 2
END:VEVENT
BEGIN:VEVENT
DTSTAMP:20260419T000000Z
UID:b9a2ea53-bdc2-409d-929c-f10be3e1d5b0@ClaytonBocce
DTSTART;TZID=America/Los_Angeles:20260724T183000
DTEND;TZID=America/Los_Angeles:20260724T210000
STATUS:CONFIRMED
SUMMARY:TIRA LA PALLA vs YAY! BOCCE
URL:/League/Schedule/3101
DESCRIPTION:Regular Season match: TIRA LA PALLA vs YAY! BOCC
 E
LOCATION:Martinez Court 6
END:VEVENT
BEGIN:VEVENT
DTSTAMP:20260419T000000Z
UID:f250fa5b-da55-4dba-8b77-1ec57dfef260@ClaytonBocce
DTSTART;TZID=America/Los_Angeles:20260731T183000
DTEND;TZID=America/Los_Angeles:20260731T210000
STATUS:CONFIRMED
SUMMARY:TIRA LA PALLA vs PER AMORE DELLA BOCCE
URL:/League/Schedule/3101
DESCRIPTION:Regular Season match: TIRA LA PALLA vs PER AMORE
  DELLA BOCCE
LOCATION:Martinez Court 2
END:VEVENT
BEGIN:VEVENT
DTSTAMP:20260419T000000Z
UID:3671cb5c-bcf0-4f8d-a56f-664b994fd171@ClaytonBocce
DTSTART;TZID=America/Los_Angeles:20260807T183000
DTEND;TZID=America/Los_Angeles:20260807T210000
STATUS:CONFIRMED
SUMMARY:TIRA LA PALLA vs ROLLING SCONES
URL:/League/Schedule/3101
DESCRIPTION:Regular Season match: TIRA LA PALLA vs ROLLING S
 CONES
LOCATION:Martinez Court 1
END:VEVENT
BEGIN:VEVENT
DTSTAMP:20260419T000000Z
UID:57b92f09-e061-4714-8936-65dee4a881a8@ClaytonBocce
DTSTART;TZID=America/Los_Angeles:20260814T183000
DTEND;TZID=America/Los_Angeles:20260814T210000
STATUS:CONFIRMED
SUMMARY:TIRA LA PALLA vs BUONO BOCCE
URL:/League/Schedule/3101
DESCRIPTION:Regular Season match: TIRA LA PALLA vs BUONO BOC
 CE
LOCATION:Martinez Court 5
END:VEVENT
BEGIN:VEVENT
DTSTAMP:20260419T000000Z
UID:95cb28fc-96f0-432d-a18a-c44b9a712b13@ClaytonBocce
DTSTART;TZID=America/Los_Angeles:20260821T183000
DTEND;TZID=America/Los_Angeles:20260821T210000
STATUS:CONFIRMED
SUMMARY:TIRA LA PALLA vs JUSKIZIT
URL:/League/Schedule/3101
DESCRIPTION:Regular Season match: TIRA LA PALLA vs JUSKIZIT
LOCATION:Martinez Court 7
END:VEVENT
BEGIN:VEVENT
DTSTAMP:20260419T000000Z
UID:f66ab596-f221-4755-a518-acd91215d843@ClaytonBocce
DTSTART;TZID=America/Los_Angeles:20260828T183000
DTEND;TZID=America/Los_Angeles:20260828T210000
STATUS:CONFIRMED
SUMMARY:TIRA LA PALLA vs BOCCE WEEKENDERS
URL:/League/Schedule/3101
DESCRIPTION:Regular Season match: TIRA LA PALLA vs BOCCE WEE
 KENDERS
LOCATION:Martinez Court 8
END:VEVENT
BEGIN:VEVENT
DTSTAMP:20260419T000000Z
UID:79ebb845-6814-4016-ba66-b75ac76112a1@ClaytonBocce
DTSTART;TZID=America/Los_Angeles:20260911T183000
DTEND;TZID=America/Los_Angeles:20260911T210000
STATUS:CONFIRMED
SUMMARY:TIRA LA PALLA vs YAY! BOCCE
URL:/League/Schedule/3101
DESCRIPTION:Regular Season match: TIRA LA PALLA vs YAY! BOCC
 E
LOCATION:Martinez Court 15
END:VEVENT
BEGIN:VEVENT
DTSTAMP:20260419T000000Z
UID:31e465dc-4fe2-4dcb-9d31-03eb05479756@ClaytonBocce
DTSTART;TZID=America/Los_Angeles:20260918T183000
DTEND;TZID=America/Los_Angeles:20260918T210000
STATUS:CONFIRMED
SUMMARY:TIRA LA PALLA vs PER AMORE DELLA BOCCE
URL:/League/Schedule/3101
DESCRIPTION:Regular Season match: TIRA LA PALLA vs PER AMORE
  DELLA BOCCE
LOCATION:Martinez Court 10
END:VEVENT
END:VCALENDAR
