BEGIN:VCALENDAR
VERSION:2.0
PRODID:-//Clayton Bocce League
METHOD:PUBLISH
BEGIN:VTIMEZONE
TZID:America/Los_Angeles
X-LIC-LOCATION:America/Los_Angeles
BEGIN:DAYLIGHT
TZOFFSETFROM:-0800
TZOFFSETTO:-0700
TZNAME:PDT
DTSTART:20070311T020000
RRULE:FREQ=YEARLY;BYMONTH=3;BYDAY=2SU
END:DAYLIGHT
BEGIN:STANDARD
TZOFFSETFROM:-0700
TZOFFSETTO:-0800
TZNAME:PST
DTSTART:20071104T020000
RRULE:FREQ=YEARLY;BYMONTH=11;BYDAY=1SU
END:STANDARD
END:VTIMEZONE
BEGIN:VEVENT
DTSTAMP:20260419T000000Z
UID:22745e30-2865-41ed-98d4-f0f8b4d6ea96@ClaytonBocce
DTSTART;TZID=America/Los_Angeles:20260424T183000
DTEND;TZID=America/Los_Angeles:20260424T210000
STATUS:CONFIRMED
SUMMARY:ROLLING SCONES vs TIRA LA PALLA
URL:/League/Schedule/3102
DESCRIPTION:Regular Season match: ROLLING SCONES vs TIRA LA 
 PALLA
LOCATION:Martinez Court 12
END:VEVENT
BEGIN:VEVENT
DTSTAMP:20260419T000000Z
UID:d30c0b69-3484-4f3d-a057-b621303d4b9f@ClaytonBocce
DTSTART;TZID=America/Los_Angeles:20260501T183000
DTEND;TZID=America/Los_Angeles:20260501T210000
STATUS:CONFIRMED
SUMMARY:ROLLING SCONES vs JUSKIZIT
URL:/League/Schedule/3102
DESCRIPTION:Regular Season match: ROLLING SCONES vs JUSKIZIT
LOCATION:Martinez Court 2
END:VEVENT
BEGIN:VEVENT
DTSTAMP:20260419T000000Z
UID:a05b9c28-38c2-4468-8ea3-4a7cd3533263@ClaytonBocce
DTSTART;TZID=America/Los_Angeles:20260508T183000
DTEND;TZID=America/Los_Angeles:20260508T210000
STATUS:CONFIRMED
SUMMARY:ROLLING SCONES vs BOCCE WEEKENDERS
URL:/League/Schedule/3102
DESCRIPTION:Regular Season match: ROLLING SCONES vs BOCCE WE
 EKENDERS
LOCATION:Martinez Court 5
END:VEVENT
BEGIN:VEVENT
DTSTAMP:20260419T000000Z
UID:7b1154a0-9be3-4e2e-9e21-c59a967c9d16@ClaytonBocce
DTSTART;TZID=America/Los_Angeles:20260522T183000
DTEND;TZID=America/Los_Angeles:20260522T210000
STATUS:CONFIRMED
SUMMARY:ROLLING SCONES vs YAY! BOCCE
URL:/League/Schedule/3102
DESCRIPTION:Regular Season match: ROLLING SCONES vs YAY! BOC
 CE
LOCATION:Martinez Court 13
END:VEVENT
BEGIN:VEVENT
DTSTAMP:20260419T000000Z
UID:6d8f9a6b-3fae-4ba4-a2de-1504c92fa364@ClaytonBocce
DTSTART;TZID=America/Los_Angeles:20260529T183000
DTEND;TZID=America/Los_Angeles:20260529T210000
STATUS:CONFIRMED
SUMMARY:ROLLING SCONES vs PER AMORE DELLA BOCCE
URL:/League/Schedule/3102
DESCRIPTION:Regular Season match: ROLLING SCONES vs PER AMOR
 E DELLA BOCCE
LOCATION:Martinez Court 15
END:VEVENT
BEGIN:VEVENT
DTSTAMP:20260419T000000Z
UID:ccbb7464-1cb3-4760-aaf9-9dfd668eda59@ClaytonBocce
DTSTART;TZID=America/Los_Angeles:20260605T183000
DTEND;TZID=America/Los_Angeles:20260605T210000
STATUS:CONFIRMED
SUMMARY:ROLLING SCONES vs BUONO BOCCE
URL:/League/Schedule/3102
DESCRIPTION:Regular Season match: ROLLING SCONES vs BUONO BO
 CCE
LOCATION:Martinez Court 4
END:VEVENT
BEGIN:VEVENT
DTSTAMP:20260419T000000Z
UID:f094e567-65d8-4174-80f8-27d80f3e0410@ClaytonBocce
DTSTART;TZID=America/Los_Angeles:20260612T183000
DTEND;TZID=America/Los_Angeles:20260612T210000
STATUS:CONFIRMED
SUMMARY:ROLLING SCONES vs TIRA LA PALLA
URL:/League/Schedule/3102
DESCRIPTION:Regular Season match: ROLLING SCONES vs TIRA LA 
 PALLA
LOCATION:Martinez Court 10
END:VEVENT
BEGIN:VEVENT
DTSTAMP:20260419T000000Z
UID:dd2b4b46-7349-479c-af17-b1c87c8d00dc@ClaytonBocce
DTSTART;TZID=America/Los_Angeles:20260619T183000
DTEND;TZID=America/Los_Angeles:20260619T210000
STATUS:CONFIRMED
SUMMARY:ROLLING SCONES vs JUSKIZIT
URL:/League/Schedule/3102
DESCRIPTION:Regular Season match: ROLLING SCONES vs JUSKIZIT
LOCATION:Martinez Court 11
END:VEVENT
BEGIN:VEVENT
DTSTAMP:20260419T000000Z
UID:177d821c-7262-4fc6-adc8-b6116bb4f508@ClaytonBocce
DTSTART;TZID=America/Los_Angeles:20260626T183000
DTEND;TZID=America/Los_Angeles:20260626T210000
STATUS:CONFIRMED
SUMMARY:ROLLING SCONES vs BOCCE WEEKENDERS
URL:/League/Schedule/3102
DESCRIPTION:Regular Season match: ROLLING SCONES vs BOCCE WE
 EKENDERS
LOCATION:Martinez Court 7
END:VEVENT
BEGIN:VEVENT
DTSTAMP:20260419T000000Z
UID:d7c3dc9a-6205-46c9-a3f1-c28942dc0c7b@ClaytonBocce
DTSTART;TZID=America/Los_Angeles:20260717T183000
DTEND;TZID=America/Los_Angeles:20260717T210000
STATUS:CONFIRMED
SUMMARY:ROLLING SCONES vs YAY! BOCCE
URL:/League/Schedule/3102
DESCRIPTION:Regular Season match: ROLLING SCONES vs YAY! BOC
 CE
LOCATION:Martinez Court 3
END:VEVENT
BEGIN:VEVENT
DTSTAMP:20260419T000000Z
UID:9da3a7b7-ed0f-4adc-96e7-21866cd66a01@ClaytonBocce
DTSTART;TZID=America/Los_Angeles:20260724T183000
DTEND;TZID=America/Los_Angeles:20260724T210000
STATUS:CONFIRMED
SUMMARY:ROLLING SCONES vs PER AMORE DELLA BOCCE
URL:/League/Schedule/3102
DESCRIPTION:Regular Season match: ROLLING SCONES vs PER AMOR
 E DELLA BOCCE
LOCATION:Martinez Court 8
END:VEVENT
BEGIN:VEVENT
DTSTAMP:20260419T000000Z
UID:0a8a8435-02c7-49f4-b5d9-6b25ca571cd1@ClaytonBocce
DTSTART;TZID=America/Los_Angeles:20260731T183000
DTEND;TZID=America/Los_Angeles:20260731T210000
STATUS:CONFIRMED
SUMMARY:ROLLING SCONES vs BUONO BOCCE
URL:/League/Schedule/3102
DESCRIPTION:Regular Season match: ROLLING SCONES vs BUONO BO
 CCE
LOCATION:Martinez Court 6
END:VEVENT
BEGIN:VEVENT
DTSTAMP:20260419T000000Z
UID:3671cb5c-bcf0-4f8d-a56f-664b994fd171@ClaytonBocce
DTSTART;TZID=America/Los_Angeles:20260807T183000
DTEND;TZID=America/Los_Angeles:20260807T210000
STATUS:CONFIRMED
SUMMARY:ROLLING SCONES vs TIRA LA PALLA
URL:/League/Schedule/3102
DESCRIPTION:Regular Season match: ROLLING SCONES vs TIRA LA 
 PALLA
LOCATION:Martinez Court 1
END:VEVENT
BEGIN:VEVENT
DTSTAMP:20260419T000000Z
UID:b887f5ef-4468-45c4-bbba-13ee64048afc@ClaytonBocce
DTSTART;TZID=America/Los_Angeles:20260814T183000
DTEND;TZID=America/Los_Angeles:20260814T210000
STATUS:CONFIRMED
SUMMARY:ROLLING SCONES vs JUSKIZIT
URL:/League/Schedule/3102
DESCRIPTION:Regular Season match: ROLLING SCONES vs JUSKIZIT
LOCATION:Martinez Court 10
END:VEVENT
BEGIN:VEVENT
DTSTAMP:20260419T000000Z
UID:d92ba9b3-a188-4270-a82b-02211eb2dba7@ClaytonBocce
DTSTART;TZID=America/Los_Angeles:20260821T183000
DTEND;TZID=America/Los_Angeles:20260821T210000
STATUS:CONFIRMED
SUMMARY:ROLLING SCONES vs BOCCE WEEKENDERS
URL:/League/Schedule/3102
DESCRIPTION:Regular Season match: ROLLING SCONES vs BOCCE WE
 EKENDERS
LOCATION:Martinez Court 9
END:VEVENT
BEGIN:VEVENT
DTSTAMP:20260419T000000Z
UID:7d9b94c9-a8f9-4d62-bbc2-b28084de0789@ClaytonBocce
DTSTART;TZID=America/Los_Angeles:20260904T183000
DTEND;TZID=America/Los_Angeles:20260904T210000
STATUS:CONFIRMED
SUMMARY:ROLLING SCONES vs YAY! BOCCE
URL:/League/Schedule/3102
DESCRIPTION:Regular Season match: ROLLING SCONES vs YAY! BOC
 CE
LOCATION:Martinez Court 8
END:VEVENT
BEGIN:VEVENT
DTSTAMP:20260419T000000Z
UID:9d2ea675-2164-4976-b4c0-2333a92ddf09@ClaytonBocce
DTSTART;TZID=America/Los_Angeles:20260911T183000
DTEND;TZID=America/Los_Angeles:20260911T210000
STATUS:CONFIRMED
SUMMARY:ROLLING SCONES vs PER AMORE DELLA BOCCE
URL:/League/Schedule/3102
DESCRIPTION:Regular Season match: ROLLING SCONES vs PER AMOR
 E DELLA BOCCE
LOCATION:Martinez Court 4
END:VEVENT
BEGIN:VEVENT
DTSTAMP:20260419T000000Z
UID:534fc114-87f1-4757-a678-eb95d6c2151d@ClaytonBocce
DTSTART;TZID=America/Los_Angeles:20260918T183000
DTEND;TZID=America/Los_Angeles:20260918T210000
STATUS:CONFIRMED
SUMMARY:ROLLING SCONES vs BUONO BOCCE
URL:/League/Schedule/3102
DESCRIPTION:Regular Season match: ROLLING SCONES vs BUONO BO
 CCE
LOCATION:Martinez Court 14
END:VEVENT
END:VCALENDAR
