BEGIN:VCALENDAR
VERSION:2.0
PRODID:-//Clayton Bocce League
METHOD:PUBLISH
BEGIN:VTIMEZONE
TZID:America/Los_Angeles
X-LIC-LOCATION:America/Los_Angeles
BEGIN:DAYLIGHT
TZOFFSETFROM:-0800
TZOFFSETTO:-0700
TZNAME:PDT
DTSTART:20070311T020000
RRULE:FREQ=YEARLY;BYMONTH=3;BYDAY=2SU
END:DAYLIGHT
BEGIN:STANDARD
TZOFFSETFROM:-0700
TZOFFSETTO:-0800
TZNAME:PST
DTSTART:20071104T020000
RRULE:FREQ=YEARLY;BYMONTH=11;BYDAY=1SU
END:STANDARD
END:VTIMEZONE
BEGIN:VEVENT
DTSTAMP:20260419T000000Z
UID:d30c0b69-3484-4f3d-a057-b621303d4b9f@ClaytonBocce
DTSTART;TZID=America/Los_Angeles:20260501T183000
DTEND;TZID=America/Los_Angeles:20260501T210000
STATUS:CONFIRMED
SUMMARY:JUSKIZIT vs ROLLING SCONES
URL:/League/Schedule/3105
DESCRIPTION:Regular Season match: JUSKIZIT vs ROLLING SCONES
LOCATION:Martinez Court 2
END:VEVENT
BEGIN:VEVENT
DTSTAMP:20260419T000000Z
UID:83f79927-ae1f-40e7-b426-2d13049e4c5a@ClaytonBocce
DTSTART;TZID=America/Los_Angeles:20260508T183000
DTEND;TZID=America/Los_Angeles:20260508T210000
STATUS:CONFIRMED
SUMMARY:JUSKIZIT vs TIRA LA PALLA
URL:/League/Schedule/3105
DESCRIPTION:Regular Season match: JUSKIZIT vs TIRA LA PALLA
LOCATION:Martinez Court 7
END:VEVENT
BEGIN:VEVENT
DTSTAMP:20260419T000000Z
UID:6a89450f-5991-462a-bbac-d276f8bd1205@ClaytonBocce
DTSTART;TZID=America/Los_Angeles:20260515T183000
DTEND;TZID=America/Los_Angeles:20260515T210000
STATUS:CONFIRMED
SUMMARY:JUSKIZIT vs BUONO BOCCE
URL:/League/Schedule/3105
DESCRIPTION:Regular Season match: JUSKIZIT vs BUONO BOCCE
LOCATION:Martinez Court 10
END:VEVENT
BEGIN:VEVENT
DTSTAMP:20260419T000000Z
UID:eb6d9a40-17f8-462d-8dad-b76e351ede48@ClaytonBocce
DTSTART;TZID=America/Los_Angeles:20260522T183000
DTEND;TZID=America/Los_Angeles:20260522T210000
STATUS:CONFIRMED
SUMMARY:JUSKIZIT vs PER AMORE DELLA BOCCE
URL:/League/Schedule/3105
DESCRIPTION:Regular Season match: JUSKIZIT vs PER AMORE DELL
 A BOCCE
LOCATION:Martinez Court 14
END:VEVENT
BEGIN:VEVENT
DTSTAMP:20260419T000000Z
UID:10a0ae0a-002a-4fae-943b-c5740802f43e@ClaytonBocce
DTSTART;TZID=America/Los_Angeles:20260529T183000
DTEND;TZID=America/Los_Angeles:20260529T210000
STATUS:CONFIRMED
SUMMARY:JUSKIZIT vs BOCCE WEEKENDERS
URL:/League/Schedule/3105
DESCRIPTION:Regular Season match: JUSKIZIT vs BOCCE WEEKENDE
 RS
LOCATION:Martinez Court 13
END:VEVENT
BEGIN:VEVENT
DTSTAMP:20260419T000000Z
UID:3eaca2bf-966f-4128-ac8c-5b0a34b4433d@ClaytonBocce
DTSTART;TZID=America/Los_Angeles:20260605T183000
DTEND;TZID=America/Los_Angeles:20260605T210000
STATUS:CONFIRMED
SUMMARY:JUSKIZIT vs YAY! BOCCE
URL:/League/Schedule/3105
DESCRIPTION:Regular Season match: JUSKIZIT vs YAY! BOCCE
LOCATION:Martinez Court 5
END:VEVENT
BEGIN:VEVENT
DTSTAMP:20260419T000000Z
UID:dd2b4b46-7349-479c-af17-b1c87c8d00dc@ClaytonBocce
DTSTART;TZID=America/Los_Angeles:20260619T183000
DTEND;TZID=America/Los_Angeles:20260619T210000
STATUS:CONFIRMED
SUMMARY:JUSKIZIT vs ROLLING SCONES
URL:/League/Schedule/3105
DESCRIPTION:Regular Season match: JUSKIZIT vs ROLLING SCONES
LOCATION:Martinez Court 11
END:VEVENT
BEGIN:VEVENT
DTSTAMP:20260419T000000Z
UID:c48041f4-dc7b-4e9d-af6b-13c96801065a@ClaytonBocce
DTSTART;TZID=America/Los_Angeles:20260626T183000
DTEND;TZID=America/Los_Angeles:20260626T210000
STATUS:CONFIRMED
SUMMARY:JUSKIZIT vs TIRA LA PALLA
URL:/League/Schedule/3105
DESCRIPTION:Regular Season match: JUSKIZIT vs TIRA LA PALLA
LOCATION:Martinez Court 8
END:VEVENT
BEGIN:VEVENT
DTSTAMP:20260419T000000Z
UID:818da8f4-4c12-4e11-9687-02c098015d2e@ClaytonBocce
DTSTART;TZID=America/Los_Angeles:20260710T183000
DTEND;TZID=America/Los_Angeles:20260710T210000
STATUS:CONFIRMED
SUMMARY:JUSKIZIT vs BUONO BOCCE
URL:/League/Schedule/3105
DESCRIPTION:Regular Season match: JUSKIZIT vs BUONO BOCCE
LOCATION:Martinez Court 15
END:VEVENT
BEGIN:VEVENT
DTSTAMP:20260419T000000Z
UID:b0de6536-c4f5-4595-9b57-e42a1ee97fa9@ClaytonBocce
DTSTART;TZID=America/Los_Angeles:20260717T183000
DTEND;TZID=America/Los_Angeles:20260717T210000
STATUS:CONFIRMED
SUMMARY:JUSKIZIT vs PER AMORE DELLA BOCCE
URL:/League/Schedule/3105
DESCRIPTION:Regular Season match: JUSKIZIT vs PER AMORE DELL
 A BOCCE
LOCATION:Martinez Court 4
END:VEVENT
BEGIN:VEVENT
DTSTAMP:20260419T000000Z
UID:6c4666ac-7540-4d16-a974-af85b514de1c@ClaytonBocce
DTSTART;TZID=America/Los_Angeles:20260724T183000
DTEND;TZID=America/Los_Angeles:20260724T210000
STATUS:CONFIRMED
SUMMARY:JUSKIZIT vs BOCCE WEEKENDERS
URL:/League/Schedule/3105
DESCRIPTION:Regular Season match: JUSKIZIT vs BOCCE WEEKENDE
 RS
LOCATION:Martinez Court 1
END:VEVENT
BEGIN:VEVENT
DTSTAMP:20260419T000000Z
UID:21ce8e81-3949-4fa8-ad15-24731717aa61@ClaytonBocce
DTSTART;TZID=America/Los_Angeles:20260731T183000
DTEND;TZID=America/Los_Angeles:20260731T210000
STATUS:CONFIRMED
SUMMARY:JUSKIZIT vs YAY! BOCCE
URL:/League/Schedule/3105
DESCRIPTION:Regular Season match: JUSKIZIT vs YAY! BOCCE
LOCATION:Martinez Court 9
END:VEVENT
BEGIN:VEVENT
DTSTAMP:20260419T000000Z
UID:b887f5ef-4468-45c4-bbba-13ee64048afc@ClaytonBocce
DTSTART;TZID=America/Los_Angeles:20260814T183000
DTEND;TZID=America/Los_Angeles:20260814T210000
STATUS:CONFIRMED
SUMMARY:JUSKIZIT vs ROLLING SCONES
URL:/League/Schedule/3105
DESCRIPTION:Regular Season match: JUSKIZIT vs ROLLING SCONES
LOCATION:Martinez Court 10
END:VEVENT
BEGIN:VEVENT
DTSTAMP:20260419T000000Z
UID:95cb28fc-96f0-432d-a18a-c44b9a712b13@ClaytonBocce
DTSTART;TZID=America/Los_Angeles:20260821T183000
DTEND;TZID=America/Los_Angeles:20260821T210000
STATUS:CONFIRMED
SUMMARY:JUSKIZIT vs TIRA LA PALLA
URL:/League/Schedule/3105
DESCRIPTION:Regular Season match: JUSKIZIT vs TIRA LA PALLA
LOCATION:Martinez Court 7
END:VEVENT
BEGIN:VEVENT
DTSTAMP:20260419T000000Z
UID:a6687c02-76ce-408c-b8e4-38de90bd156b@ClaytonBocce
DTSTART;TZID=America/Los_Angeles:20260828T183000
DTEND;TZID=America/Los_Angeles:20260828T210000
STATUS:CONFIRMED
SUMMARY:JUSKIZIT vs BUONO BOCCE
URL:/League/Schedule/3105
DESCRIPTION:Regular Season match: JUSKIZIT vs BUONO BOCCE
LOCATION:Martinez Court 3
END:VEVENT
BEGIN:VEVENT
DTSTAMP:20260419T000000Z
UID:ed1773fe-f8fe-40d5-adcf-f2e9c14b8d0a@ClaytonBocce
DTSTART;TZID=America/Los_Angeles:20260904T183000
DTEND;TZID=America/Los_Angeles:20260904T210000
STATUS:CONFIRMED
SUMMARY:JUSKIZIT vs PER AMORE DELLA BOCCE
URL:/League/Schedule/3105
DESCRIPTION:Regular Season match: JUSKIZIT vs PER AMORE DELL
 A BOCCE
LOCATION:Martinez Court 12
END:VEVENT
BEGIN:VEVENT
DTSTAMP:20260419T000000Z
UID:449d7629-405c-44b3-90c7-befaca6e499c@ClaytonBocce
DTSTART;TZID=America/Los_Angeles:20260911T183000
DTEND;TZID=America/Los_Angeles:20260911T210000
STATUS:CONFIRMED
SUMMARY:JUSKIZIT vs BOCCE WEEKENDERS
URL:/League/Schedule/3105
DESCRIPTION:Regular Season match: JUSKIZIT vs BOCCE WEEKENDE
 RS
LOCATION:Martinez Court 11
END:VEVENT
BEGIN:VEVENT
DTSTAMP:20260419T000000Z
UID:f6d6c359-82ac-4f06-a100-33001cf7d4e3@ClaytonBocce
DTSTART;TZID=America/Los_Angeles:20260918T183000
DTEND;TZID=America/Los_Angeles:20260918T210000
STATUS:CONFIRMED
SUMMARY:JUSKIZIT vs YAY! BOCCE
URL:/League/Schedule/3105
DESCRIPTION:Regular Season match: JUSKIZIT vs YAY! BOCCE
LOCATION:Martinez Court 6
END:VEVENT
END:VCALENDAR
