BEGIN:VCALENDAR
VERSION:2.0
PRODID:-//Clayton Bocce League
METHOD:PUBLISH
BEGIN:VTIMEZONE
TZID:America/Los_Angeles
X-LIC-LOCATION:America/Los_Angeles
BEGIN:DAYLIGHT
TZOFFSETFROM:-0800
TZOFFSETTO:-0700
TZNAME:PDT
DTSTART:20070311T020000
RRULE:FREQ=YEARLY;BYMONTH=3;BYDAY=2SU
END:DAYLIGHT
BEGIN:STANDARD
TZOFFSETFROM:-0700
TZOFFSETTO:-0800
TZNAME:PST
DTSTART:20071104T020000
RRULE:FREQ=YEARLY;BYMONTH=11;BYDAY=1SU
END:STANDARD
END:VTIMEZONE
BEGIN:VEVENT
DTSTAMP:20260419T000000Z
UID:45c87085-be6a-4d58-9045-75e86b63d34e@ClaytonBocce
DTSTART;TZID=America/Los_Angeles:20260424T183000
DTEND;TZID=America/Los_Angeles:20260424T210000
STATUS:CONFIRMED
SUMMARY:PER AMORE DELLA BOCCE vs BOCCE WEEKENDERS
URL:/League/Schedule/3104
DESCRIPTION:Regular Season match: PER AMORE DELLA BOCCE vs B
 OCCE WEEKENDERS
LOCATION:Martinez Court 10
END:VEVENT
BEGIN:VEVENT
DTSTAMP:20260419T000000Z
UID:eb129844-b202-481a-a769-e5acd700ae31@ClaytonBocce
DTSTART;TZID=America/Los_Angeles:20260508T183000
DTEND;TZID=America/Los_Angeles:20260508T210000
STATUS:CONFIRMED
SUMMARY:PER AMORE DELLA BOCCE vs BUONO BOCCE
URL:/League/Schedule/3104
DESCRIPTION:Regular Season match: PER AMORE DELLA BOCCE vs B
 UONO BOCCE
LOCATION:Martinez Court 6
END:VEVENT
BEGIN:VEVENT
DTSTAMP:20260419T000000Z
UID:f8bdf756-791c-4690-a429-a0c00aa3e9af@ClaytonBocce
DTSTART;TZID=America/Los_Angeles:20260515T183000
DTEND;TZID=America/Los_Angeles:20260515T210000
STATUS:CONFIRMED
SUMMARY:PER AMORE DELLA BOCCE vs YAY! BOCCE
URL:/League/Schedule/3104
DESCRIPTION:Regular Season match: PER AMORE DELLA BOCCE vs Y
 AY! BOCCE
LOCATION:Martinez Court 8
END:VEVENT
BEGIN:VEVENT
DTSTAMP:20260419T000000Z
UID:eb6d9a40-17f8-462d-8dad-b76e351ede48@ClaytonBocce
DTSTART;TZID=America/Los_Angeles:20260522T183000
DTEND;TZID=America/Los_Angeles:20260522T210000
STATUS:CONFIRMED
SUMMARY:PER AMORE DELLA BOCCE vs JUSKIZIT
URL:/League/Schedule/3104
DESCRIPTION:Regular Season match: PER AMORE DELLA BOCCE vs J
 USKIZIT
LOCATION:Martinez Court 14
END:VEVENT
BEGIN:VEVENT
DTSTAMP:20260419T000000Z
UID:6d8f9a6b-3fae-4ba4-a2de-1504c92fa364@ClaytonBocce
DTSTART;TZID=America/Los_Angeles:20260529T183000
DTEND;TZID=America/Los_Angeles:20260529T210000
STATUS:CONFIRMED
SUMMARY:PER AMORE DELLA BOCCE vs ROLLING SCONES
URL:/League/Schedule/3104
DESCRIPTION:Regular Season match: PER AMORE DELLA BOCCE vs R
 OLLING SCONES
LOCATION:Martinez Court 15
END:VEVENT
BEGIN:VEVENT
DTSTAMP:20260419T000000Z
UID:51ebd5b8-bc30-4de9-b1b9-76e24bf290fb@ClaytonBocce
DTSTART;TZID=America/Los_Angeles:20260605T183000
DTEND;TZID=America/Los_Angeles:20260605T210000
STATUS:CONFIRMED
SUMMARY:PER AMORE DELLA BOCCE vs TIRA LA PALLA
URL:/League/Schedule/3104
DESCRIPTION:Regular Season match: PER AMORE DELLA BOCCE vs T
 IRA LA PALLA
LOCATION:Martinez Court 13
END:VEVENT
BEGIN:VEVENT
DTSTAMP:20260419T000000Z
UID:7f0e624e-21c8-47f3-bc8a-49b52f823ca4@ClaytonBocce
DTSTART;TZID=America/Los_Angeles:20260612T183000
DTEND;TZID=America/Los_Angeles:20260612T210000
STATUS:CONFIRMED
SUMMARY:PER AMORE DELLA BOCCE vs BOCCE WEEKENDERS
URL:/League/Schedule/3104
DESCRIPTION:Regular Season match: PER AMORE DELLA BOCCE vs B
 OCCE WEEKENDERS
LOCATION:Martinez Court 11
END:VEVENT
BEGIN:VEVENT
DTSTAMP:20260419T000000Z
UID:71985861-0cf4-48d1-9895-79f3c8711dc2@ClaytonBocce
DTSTART;TZID=America/Los_Angeles:20260626T183000
DTEND;TZID=America/Los_Angeles:20260626T210000
STATUS:CONFIRMED
SUMMARY:PER AMORE DELLA BOCCE vs BUONO BOCCE
URL:/League/Schedule/3104
DESCRIPTION:Regular Season match: PER AMORE DELLA BOCCE vs B
 UONO BOCCE
LOCATION:Martinez Court 9
END:VEVENT
BEGIN:VEVENT
DTSTAMP:20260419T000000Z
UID:c6102e27-a250-45e2-848f-b7ba5f23b57e@ClaytonBocce
DTSTART;TZID=America/Los_Angeles:20260710T183000
DTEND;TZID=America/Los_Angeles:20260710T210000
STATUS:CONFIRMED
SUMMARY:PER AMORE DELLA BOCCE vs YAY! BOCCE
URL:/League/Schedule/3104
DESCRIPTION:Regular Season match: PER AMORE DELLA BOCCE vs Y
 AY! BOCCE
LOCATION:Martinez Court 1
END:VEVENT
BEGIN:VEVENT
DTSTAMP:20260419T000000Z
UID:b0de6536-c4f5-4595-9b57-e42a1ee97fa9@ClaytonBocce
DTSTART;TZID=America/Los_Angeles:20260717T183000
DTEND;TZID=America/Los_Angeles:20260717T210000
STATUS:CONFIRMED
SUMMARY:PER AMORE DELLA BOCCE vs JUSKIZIT
URL:/League/Schedule/3104
DESCRIPTION:Regular Season match: PER AMORE DELLA BOCCE vs J
 USKIZIT
LOCATION:Martinez Court 4
END:VEVENT
BEGIN:VEVENT
DTSTAMP:20260419T000000Z
UID:9da3a7b7-ed0f-4adc-96e7-21866cd66a01@ClaytonBocce
DTSTART;TZID=America/Los_Angeles:20260724T183000
DTEND;TZID=America/Los_Angeles:20260724T210000
STATUS:CONFIRMED
SUMMARY:PER AMORE DELLA BOCCE vs ROLLING SCONES
URL:/League/Schedule/3104
DESCRIPTION:Regular Season match: PER AMORE DELLA BOCCE vs R
 OLLING SCONES
LOCATION:Martinez Court 8
END:VEVENT
BEGIN:VEVENT
DTSTAMP:20260419T000000Z
UID:f250fa5b-da55-4dba-8b77-1ec57dfef260@ClaytonBocce
DTSTART;TZID=America/Los_Angeles:20260731T183000
DTEND;TZID=America/Los_Angeles:20260731T210000
STATUS:CONFIRMED
SUMMARY:PER AMORE DELLA BOCCE vs TIRA LA PALLA
URL:/League/Schedule/3104
DESCRIPTION:Regular Season match: PER AMORE DELLA BOCCE vs T
 IRA LA PALLA
LOCATION:Martinez Court 2
END:VEVENT
BEGIN:VEVENT
DTSTAMP:20260419T000000Z
UID:3c9d1b94-dd90-4707-b72e-8514e01082e7@ClaytonBocce
DTSTART;TZID=America/Los_Angeles:20260807T183000
DTEND;TZID=America/Los_Angeles:20260807T210000
STATUS:CONFIRMED
SUMMARY:PER AMORE DELLA BOCCE vs BOCCE WEEKENDERS
URL:/League/Schedule/3104
DESCRIPTION:Regular Season match: PER AMORE DELLA BOCCE vs B
 OCCE WEEKENDERS
LOCATION:Martinez Court 3
END:VEVENT
BEGIN:VEVENT
DTSTAMP:20260419T000000Z
UID:d1af3574-6bec-40af-951f-dcadaca4ecfe@ClaytonBocce
DTSTART;TZID=America/Los_Angeles:20260821T183000
DTEND;TZID=America/Los_Angeles:20260821T210000
STATUS:CONFIRMED
SUMMARY:PER AMORE DELLA BOCCE vs BUONO BOCCE
URL:/League/Schedule/3104
DESCRIPTION:Regular Season match: PER AMORE DELLA BOCCE vs B
 UONO BOCCE
LOCATION:Martinez Court 13
END:VEVENT
BEGIN:VEVENT
DTSTAMP:20260419T000000Z
UID:0d91ccf8-1a91-4b4b-a244-8da7e96efe99@ClaytonBocce
DTSTART;TZID=America/Los_Angeles:20260828T183000
DTEND;TZID=America/Los_Angeles:20260828T210000
STATUS:CONFIRMED
SUMMARY:PER AMORE DELLA BOCCE vs YAY! BOCCE
URL:/League/Schedule/3104
DESCRIPTION:Regular Season match: PER AMORE DELLA BOCCE vs Y
 AY! BOCCE
LOCATION:Martinez Court 7
END:VEVENT
BEGIN:VEVENT
DTSTAMP:20260419T000000Z
UID:ed1773fe-f8fe-40d5-adcf-f2e9c14b8d0a@ClaytonBocce
DTSTART;TZID=America/Los_Angeles:20260904T183000
DTEND;TZID=America/Los_Angeles:20260904T210000
STATUS:CONFIRMED
SUMMARY:PER AMORE DELLA BOCCE vs JUSKIZIT
URL:/League/Schedule/3104
DESCRIPTION:Regular Season match: PER AMORE DELLA BOCCE vs J
 USKIZIT
LOCATION:Martinez Court 12
END:VEVENT
BEGIN:VEVENT
DTSTAMP:20260419T000000Z
UID:9d2ea675-2164-4976-b4c0-2333a92ddf09@ClaytonBocce
DTSTART;TZID=America/Los_Angeles:20260911T183000
DTEND;TZID=America/Los_Angeles:20260911T210000
STATUS:CONFIRMED
SUMMARY:PER AMORE DELLA BOCCE vs ROLLING SCONES
URL:/League/Schedule/3104
DESCRIPTION:Regular Season match: PER AMORE DELLA BOCCE vs R
 OLLING SCONES
LOCATION:Martinez Court 4
END:VEVENT
BEGIN:VEVENT
DTSTAMP:20260419T000000Z
UID:31e465dc-4fe2-4dcb-9d31-03eb05479756@ClaytonBocce
DTSTART;TZID=America/Los_Angeles:20260918T183000
DTEND;TZID=America/Los_Angeles:20260918T210000
STATUS:CONFIRMED
SUMMARY:PER AMORE DELLA BOCCE vs TIRA LA PALLA
URL:/League/Schedule/3104
DESCRIPTION:Regular Season match: PER AMORE DELLA BOCCE vs T
 IRA LA PALLA
LOCATION:Martinez Court 10
END:VEVENT
END:VCALENDAR
