BEGIN:VCALENDAR
VERSION:2.0
PRODID:-//Clayton Bocce League
METHOD:PUBLISH
BEGIN:VTIMEZONE
TZID:America/Los_Angeles
X-LIC-LOCATION:America/Los_Angeles
BEGIN:DAYLIGHT
TZOFFSETFROM:-0800
TZOFFSETTO:-0700
TZNAME:PDT
DTSTART:20070311T020000
RRULE:FREQ=YEARLY;BYMONTH=3;BYDAY=2SU
END:DAYLIGHT
BEGIN:STANDARD
TZOFFSETFROM:-0700
TZOFFSETTO:-0800
TZNAME:PST
DTSTART:20071104T020000
RRULE:FREQ=YEARLY;BYMONTH=11;BYDAY=1SU
END:STANDARD
END:VTIMEZONE
BEGIN:VEVENT
DTSTAMP:20260419T000000Z
UID:45c87085-be6a-4d58-9045-75e86b63d34e@ClaytonBocce
DTSTART;TZID=America/Los_Angeles:20260424T183000
DTEND;TZID=America/Los_Angeles:20260424T210000
STATUS:CONFIRMED
SUMMARY:BOCCE WEEKENDERS vs PER AMORE DELLA BOCCE
URL:/League/Schedule/3099
DESCRIPTION:Regular Season match: BOCCE WEEKENDERS vs PER AM
 ORE DELLA BOCCE
LOCATION:Martinez Court 10
END:VEVENT
BEGIN:VEVENT
DTSTAMP:20260419T000000Z
UID:2dc2327a-5561-45eb-977e-5315607608cc@ClaytonBocce
DTSTART;TZID=America/Los_Angeles:20260501T183000
DTEND;TZID=America/Los_Angeles:20260501T210000
STATUS:CONFIRMED
SUMMARY:BOCCE WEEKENDERS vs YAY! BOCCE
URL:/League/Schedule/3099
DESCRIPTION:Regular Season match: BOCCE WEEKENDERS vs YAY! B
 OCCE
LOCATION:Martinez Court 15
END:VEVENT
BEGIN:VEVENT
DTSTAMP:20260419T000000Z
UID:a05b9c28-38c2-4468-8ea3-4a7cd3533263@ClaytonBocce
DTSTART;TZID=America/Los_Angeles:20260508T183000
DTEND;TZID=America/Los_Angeles:20260508T210000
STATUS:CONFIRMED
SUMMARY:BOCCE WEEKENDERS vs ROLLING SCONES
URL:/League/Schedule/3099
DESCRIPTION:Regular Season match: BOCCE WEEKENDERS vs ROLLIN
 G SCONES
LOCATION:Martinez Court 5
END:VEVENT
BEGIN:VEVENT
DTSTAMP:20260419T000000Z
UID:19036f9f-20ba-49d0-95c9-f9bc78a804be@ClaytonBocce
DTSTART;TZID=America/Los_Angeles:20260515T183000
DTEND;TZID=America/Los_Angeles:20260515T210000
STATUS:CONFIRMED
SUMMARY:BOCCE WEEKENDERS vs TIRA LA PALLA
URL:/League/Schedule/3099
DESCRIPTION:Regular Season match: BOCCE WEEKENDERS vs TIRA L
 A PALLA
LOCATION:Martinez Court 9
END:VEVENT
BEGIN:VEVENT
DTSTAMP:20260419T000000Z
UID:d88b9331-f913-4ce8-b467-ea0eff9e1d9c@ClaytonBocce
DTSTART;TZID=America/Los_Angeles:20260522T183000
DTEND;TZID=America/Los_Angeles:20260522T210000
STATUS:CONFIRMED
SUMMARY:BOCCE WEEKENDERS vs BUONO BOCCE
URL:/League/Schedule/3099
DESCRIPTION:Regular Season match: BOCCE WEEKENDERS vs BUONO 
 BOCCE
LOCATION:Martinez Court 12
END:VEVENT
BEGIN:VEVENT
DTSTAMP:20260419T000000Z
UID:10a0ae0a-002a-4fae-943b-c5740802f43e@ClaytonBocce
DTSTART;TZID=America/Los_Angeles:20260529T183000
DTEND;TZID=America/Los_Angeles:20260529T210000
STATUS:CONFIRMED
SUMMARY:BOCCE WEEKENDERS vs JUSKIZIT
URL:/League/Schedule/3099
DESCRIPTION:Regular Season match: BOCCE WEEKENDERS vs JUSKIZ
 IT
LOCATION:Martinez Court 13
END:VEVENT
BEGIN:VEVENT
DTSTAMP:20260419T000000Z
UID:7f0e624e-21c8-47f3-bc8a-49b52f823ca4@ClaytonBocce
DTSTART;TZID=America/Los_Angeles:20260612T183000
DTEND;TZID=America/Los_Angeles:20260612T210000
STATUS:CONFIRMED
SUMMARY:BOCCE WEEKENDERS vs PER AMORE DELLA BOCCE
URL:/League/Schedule/3099
DESCRIPTION:Regular Season match: BOCCE WEEKENDERS vs PER AM
 ORE DELLA BOCCE
LOCATION:Martinez Court 11
END:VEVENT
BEGIN:VEVENT
DTSTAMP:20260419T000000Z
UID:e4a4e7c4-9cd7-4c16-be3b-d117a3a77145@ClaytonBocce
DTSTART;TZID=America/Los_Angeles:20260619T183000
DTEND;TZID=America/Los_Angeles:20260619T210000
STATUS:CONFIRMED
SUMMARY:BOCCE WEEKENDERS vs YAY! BOCCE
URL:/League/Schedule/3099
DESCRIPTION:Regular Season match: BOCCE WEEKENDERS vs YAY! B
 OCCE
LOCATION:Martinez Court 1
END:VEVENT
BEGIN:VEVENT
DTSTAMP:20260419T000000Z
UID:177d821c-7262-4fc6-adc8-b6116bb4f508@ClaytonBocce
DTSTART;TZID=America/Los_Angeles:20260626T183000
DTEND;TZID=America/Los_Angeles:20260626T210000
STATUS:CONFIRMED
SUMMARY:BOCCE WEEKENDERS vs ROLLING SCONES
URL:/League/Schedule/3099
DESCRIPTION:Regular Season match: BOCCE WEEKENDERS vs ROLLIN
 G SCONES
LOCATION:Martinez Court 7
END:VEVENT
BEGIN:VEVENT
DTSTAMP:20260419T000000Z
UID:1cf27b07-9477-46b7-a6cf-badab7404b19@ClaytonBocce
DTSTART;TZID=America/Los_Angeles:20260710T183000
DTEND;TZID=America/Los_Angeles:20260710T210000
STATUS:CONFIRMED
SUMMARY:BOCCE WEEKENDERS vs TIRA LA PALLA
URL:/League/Schedule/3099
DESCRIPTION:Regular Season match: BOCCE WEEKENDERS vs TIRA L
 A PALLA
LOCATION:Martinez Court 2
END:VEVENT
BEGIN:VEVENT
DTSTAMP:20260419T000000Z
UID:98f3e2f5-c8e8-4e72-9067-0a7c1cad3dbb@ClaytonBocce
DTSTART;TZID=America/Los_Angeles:20260717T183000
DTEND;TZID=America/Los_Angeles:20260717T210000
STATUS:CONFIRMED
SUMMARY:BOCCE WEEKENDERS vs BUONO BOCCE
URL:/League/Schedule/3099
DESCRIPTION:Regular Season match: BOCCE WEEKENDERS vs BUONO 
 BOCCE
LOCATION:Martinez Court 14
END:VEVENT
BEGIN:VEVENT
DTSTAMP:20260419T000000Z
UID:6c4666ac-7540-4d16-a974-af85b514de1c@ClaytonBocce
DTSTART;TZID=America/Los_Angeles:20260724T183000
DTEND;TZID=America/Los_Angeles:20260724T210000
STATUS:CONFIRMED
SUMMARY:BOCCE WEEKENDERS vs JUSKIZIT
URL:/League/Schedule/3099
DESCRIPTION:Regular Season match: BOCCE WEEKENDERS vs JUSKIZ
 IT
LOCATION:Martinez Court 1
END:VEVENT
BEGIN:VEVENT
DTSTAMP:20260419T000000Z
UID:3c9d1b94-dd90-4707-b72e-8514e01082e7@ClaytonBocce
DTSTART;TZID=America/Los_Angeles:20260807T183000
DTEND;TZID=America/Los_Angeles:20260807T210000
STATUS:CONFIRMED
SUMMARY:BOCCE WEEKENDERS vs PER AMORE DELLA BOCCE
URL:/League/Schedule/3099
DESCRIPTION:Regular Season match: BOCCE WEEKENDERS vs PER AM
 ORE DELLA BOCCE
LOCATION:Martinez Court 3
END:VEVENT
BEGIN:VEVENT
DTSTAMP:20260419T000000Z
UID:8a6e0396-d25f-4e5f-827d-69740db11b3f@ClaytonBocce
DTSTART;TZID=America/Los_Angeles:20260814T183000
DTEND;TZID=America/Los_Angeles:20260814T210000
STATUS:CONFIRMED
SUMMARY:BOCCE WEEKENDERS vs YAY! BOCCE
URL:/League/Schedule/3099
DESCRIPTION:Regular Season match: BOCCE WEEKENDERS vs YAY! B
 OCCE
LOCATION:Martinez Court 4
END:VEVENT
BEGIN:VEVENT
DTSTAMP:20260419T000000Z
UID:d92ba9b3-a188-4270-a82b-02211eb2dba7@ClaytonBocce
DTSTART;TZID=America/Los_Angeles:20260821T183000
DTEND;TZID=America/Los_Angeles:20260821T210000
STATUS:CONFIRMED
SUMMARY:BOCCE WEEKENDERS vs ROLLING SCONES
URL:/League/Schedule/3099
DESCRIPTION:Regular Season match: BOCCE WEEKENDERS vs ROLLIN
 G SCONES
LOCATION:Martinez Court 9
END:VEVENT
BEGIN:VEVENT
DTSTAMP:20260419T000000Z
UID:f66ab596-f221-4755-a518-acd91215d843@ClaytonBocce
DTSTART;TZID=America/Los_Angeles:20260828T183000
DTEND;TZID=America/Los_Angeles:20260828T210000
STATUS:CONFIRMED
SUMMARY:BOCCE WEEKENDERS vs TIRA LA PALLA
URL:/League/Schedule/3099
DESCRIPTION:Regular Season match: BOCCE WEEKENDERS vs TIRA L
 A PALLA
LOCATION:Martinez Court 8
END:VEVENT
BEGIN:VEVENT
DTSTAMP:20260419T000000Z
UID:ca074a63-1eae-48af-aa80-9183a2d27518@ClaytonBocce
DTSTART;TZID=America/Los_Angeles:20260904T183000
DTEND;TZID=America/Los_Angeles:20260904T210000
STATUS:CONFIRMED
SUMMARY:BOCCE WEEKENDERS vs BUONO BOCCE
URL:/League/Schedule/3099
DESCRIPTION:Regular Season match: BOCCE WEEKENDERS vs BUONO 
 BOCCE
LOCATION:Martinez Court 7
END:VEVENT
BEGIN:VEVENT
DTSTAMP:20260419T000000Z
UID:449d7629-405c-44b3-90c7-befaca6e499c@ClaytonBocce
DTSTART;TZID=America/Los_Angeles:20260911T183000
DTEND;TZID=America/Los_Angeles:20260911T210000
STATUS:CONFIRMED
SUMMARY:BOCCE WEEKENDERS vs JUSKIZIT
URL:/League/Schedule/3099
DESCRIPTION:Regular Season match: BOCCE WEEKENDERS vs JUSKIZ
 IT
LOCATION:Martinez Court 11
END:VEVENT
END:VCALENDAR
