BEGIN:VCALENDAR
VERSION:2.0
PRODID:-//Clayton Bocce League
METHOD:PUBLISH
BEGIN:VTIMEZONE
TZID:America/Los_Angeles
X-LIC-LOCATION:America/Los_Angeles
BEGIN:DAYLIGHT
TZOFFSETFROM:-0800
TZOFFSETTO:-0700
TZNAME:PDT
DTSTART:20070311T020000
RRULE:FREQ=YEARLY;BYMONTH=3;BYDAY=2SU
END:DAYLIGHT
BEGIN:STANDARD
TZOFFSETFROM:-0700
TZOFFSETTO:-0800
TZNAME:PST
DTSTART:20071104T020000
RRULE:FREQ=YEARLY;BYMONTH=11;BYDAY=1SU
END:STANDARD
END:VTIMEZONE
BEGIN:VEVENT
DTSTAMP:20260419T000000Z
UID:250f0efc-a57a-4a4c-81f5-5c5f6343f474@ClaytonBocce
DTSTART;TZID=America/Los_Angeles:20260424T183000
DTEND;TZID=America/Los_Angeles:20260424T210000
STATUS:CONFIRMED
SUMMARY:BUONO BOCCE vs YAY! BOCCE
URL:/League/Schedule/3100
DESCRIPTION:Regular Season match: BUONO BOCCE vs YAY! BOCCE
LOCATION:Martinez Court 11
END:VEVENT
BEGIN:VEVENT
DTSTAMP:20260419T000000Z
UID:62b8f14b-909b-43b2-8dc4-d577e8ef4622@ClaytonBocce
DTSTART;TZID=America/Los_Angeles:20260501T183000
DTEND;TZID=America/Los_Angeles:20260501T210000
STATUS:CONFIRMED
SUMMARY:BUONO BOCCE vs TIRA LA PALLA
URL:/League/Schedule/3100
DESCRIPTION:Regular Season match: BUONO BOCCE vs TIRA LA PAL
 LA
LOCATION:Martinez Court 1
END:VEVENT
BEGIN:VEVENT
DTSTAMP:20260419T000000Z
UID:eb129844-b202-481a-a769-e5acd700ae31@ClaytonBocce
DTSTART;TZID=America/Los_Angeles:20260508T183000
DTEND;TZID=America/Los_Angeles:20260508T210000
STATUS:CONFIRMED
SUMMARY:BUONO BOCCE vs PER AMORE DELLA BOCCE
URL:/League/Schedule/3100
DESCRIPTION:Regular Season match: BUONO BOCCE vs PER AMORE D
 ELLA BOCCE
LOCATION:Martinez Court 6
END:VEVENT
BEGIN:VEVENT
DTSTAMP:20260419T000000Z
UID:6a89450f-5991-462a-bbac-d276f8bd1205@ClaytonBocce
DTSTART;TZID=America/Los_Angeles:20260515T183000
DTEND;TZID=America/Los_Angeles:20260515T210000
STATUS:CONFIRMED
SUMMARY:BUONO BOCCE vs JUSKIZIT
URL:/League/Schedule/3100
DESCRIPTION:Regular Season match: BUONO BOCCE vs JUSKIZIT
LOCATION:Martinez Court 10
END:VEVENT
BEGIN:VEVENT
DTSTAMP:20260419T000000Z
UID:d88b9331-f913-4ce8-b467-ea0eff9e1d9c@ClaytonBocce
DTSTART;TZID=America/Los_Angeles:20260522T183000
DTEND;TZID=America/Los_Angeles:20260522T210000
STATUS:CONFIRMED
SUMMARY:BUONO BOCCE vs BOCCE WEEKENDERS
URL:/League/Schedule/3100
DESCRIPTION:Regular Season match: BUONO BOCCE vs BOCCE WEEKE
 NDERS
LOCATION:Martinez Court 12
END:VEVENT
BEGIN:VEVENT
DTSTAMP:20260419T000000Z
UID:ccbb7464-1cb3-4760-aaf9-9dfd668eda59@ClaytonBocce
DTSTART;TZID=America/Los_Angeles:20260605T183000
DTEND;TZID=America/Los_Angeles:20260605T210000
STATUS:CONFIRMED
SUMMARY:BUONO BOCCE vs ROLLING SCONES
URL:/League/Schedule/3100
DESCRIPTION:Regular Season match: BUONO BOCCE vs ROLLING SCO
 NES
LOCATION:Martinez Court 4
END:VEVENT
BEGIN:VEVENT
DTSTAMP:20260419T000000Z
UID:7fe15749-7cc9-4546-90dd-76ae7ab3078c@ClaytonBocce
DTSTART;TZID=America/Los_Angeles:20260612T183000
DTEND;TZID=America/Los_Angeles:20260612T210000
STATUS:CONFIRMED
SUMMARY:BUONO BOCCE vs YAY! BOCCE
URL:/League/Schedule/3100
DESCRIPTION:Regular Season match: BUONO BOCCE vs YAY! BOCCE
LOCATION:Martinez Court 12
END:VEVENT
BEGIN:VEVENT
DTSTAMP:20260419T000000Z
UID:ff330075-6323-4822-b703-d38ba4c5c29d@ClaytonBocce
DTSTART;TZID=America/Los_Angeles:20260619T183000
DTEND;TZID=America/Los_Angeles:20260619T210000
STATUS:CONFIRMED
SUMMARY:BUONO BOCCE vs TIRA LA PALLA
URL:/League/Schedule/3100
DESCRIPTION:Regular Season match: BUONO BOCCE vs TIRA LA PAL
 LA
LOCATION:Martinez Court 3
END:VEVENT
BEGIN:VEVENT
DTSTAMP:20260419T000000Z
UID:71985861-0cf4-48d1-9895-79f3c8711dc2@ClaytonBocce
DTSTART;TZID=America/Los_Angeles:20260626T183000
DTEND;TZID=America/Los_Angeles:20260626T210000
STATUS:CONFIRMED
SUMMARY:BUONO BOCCE vs PER AMORE DELLA BOCCE
URL:/League/Schedule/3100
DESCRIPTION:Regular Season match: BUONO BOCCE vs PER AMORE D
 ELLA BOCCE
LOCATION:Martinez Court 9
END:VEVENT
BEGIN:VEVENT
DTSTAMP:20260419T000000Z
UID:818da8f4-4c12-4e11-9687-02c098015d2e@ClaytonBocce
DTSTART;TZID=America/Los_Angeles:20260710T183000
DTEND;TZID=America/Los_Angeles:20260710T210000
STATUS:CONFIRMED
SUMMARY:BUONO BOCCE vs JUSKIZIT
URL:/League/Schedule/3100
DESCRIPTION:Regular Season match: BUONO BOCCE vs JUSKIZIT
LOCATION:Martinez Court 15
END:VEVENT
BEGIN:VEVENT
DTSTAMP:20260419T000000Z
UID:98f3e2f5-c8e8-4e72-9067-0a7c1cad3dbb@ClaytonBocce
DTSTART;TZID=America/Los_Angeles:20260717T183000
DTEND;TZID=America/Los_Angeles:20260717T210000
STATUS:CONFIRMED
SUMMARY:BUONO BOCCE vs BOCCE WEEKENDERS
URL:/League/Schedule/3100
DESCRIPTION:Regular Season match: BUONO BOCCE vs BOCCE WEEKE
 NDERS
LOCATION:Martinez Court 14
END:VEVENT
BEGIN:VEVENT
DTSTAMP:20260419T000000Z
UID:0a8a8435-02c7-49f4-b5d9-6b25ca571cd1@ClaytonBocce
DTSTART;TZID=America/Los_Angeles:20260731T183000
DTEND;TZID=America/Los_Angeles:20260731T210000
STATUS:CONFIRMED
SUMMARY:BUONO BOCCE vs ROLLING SCONES
URL:/League/Schedule/3100
DESCRIPTION:Regular Season match: BUONO BOCCE vs ROLLING SCO
 NES
LOCATION:Martinez Court 6
END:VEVENT
BEGIN:VEVENT
DTSTAMP:20260419T000000Z
UID:d73970ee-99ac-4d8d-b625-2167112d3187@ClaytonBocce
DTSTART;TZID=America/Los_Angeles:20260807T183000
DTEND;TZID=America/Los_Angeles:20260807T210000
STATUS:CONFIRMED
SUMMARY:BUONO BOCCE vs YAY! BOCCE
URL:/League/Schedule/3100
DESCRIPTION:Regular Season match: BUONO BOCCE vs YAY! BOCCE
LOCATION:Martinez Court 2
END:VEVENT
BEGIN:VEVENT
DTSTAMP:20260419T000000Z
UID:57b92f09-e061-4714-8936-65dee4a881a8@ClaytonBocce
DTSTART;TZID=America/Los_Angeles:20260814T183000
DTEND;TZID=America/Los_Angeles:20260814T210000
STATUS:CONFIRMED
SUMMARY:BUONO BOCCE vs TIRA LA PALLA
URL:/League/Schedule/3100
DESCRIPTION:Regular Season match: BUONO BOCCE vs TIRA LA PAL
 LA
LOCATION:Martinez Court 5
END:VEVENT
BEGIN:VEVENT
DTSTAMP:20260419T000000Z
UID:d1af3574-6bec-40af-951f-dcadaca4ecfe@ClaytonBocce
DTSTART;TZID=America/Los_Angeles:20260821T183000
DTEND;TZID=America/Los_Angeles:20260821T210000
STATUS:CONFIRMED
SUMMARY:BUONO BOCCE vs PER AMORE DELLA BOCCE
URL:/League/Schedule/3100
DESCRIPTION:Regular Season match: BUONO BOCCE vs PER AMORE D
 ELLA BOCCE
LOCATION:Martinez Court 13
END:VEVENT
BEGIN:VEVENT
DTSTAMP:20260419T000000Z
UID:a6687c02-76ce-408c-b8e4-38de90bd156b@ClaytonBocce
DTSTART;TZID=America/Los_Angeles:20260828T183000
DTEND;TZID=America/Los_Angeles:20260828T210000
STATUS:CONFIRMED
SUMMARY:BUONO BOCCE vs JUSKIZIT
URL:/League/Schedule/3100
DESCRIPTION:Regular Season match: BUONO BOCCE vs JUSKIZIT
LOCATION:Martinez Court 3
END:VEVENT
BEGIN:VEVENT
DTSTAMP:20260419T000000Z
UID:ca074a63-1eae-48af-aa80-9183a2d27518@ClaytonBocce
DTSTART;TZID=America/Los_Angeles:20260904T183000
DTEND;TZID=America/Los_Angeles:20260904T210000
STATUS:CONFIRMED
SUMMARY:BUONO BOCCE vs BOCCE WEEKENDERS
URL:/League/Schedule/3100
DESCRIPTION:Regular Season match: BUONO BOCCE vs BOCCE WEEKE
 NDERS
LOCATION:Martinez Court 7
END:VEVENT
BEGIN:VEVENT
DTSTAMP:20260419T000000Z
UID:534fc114-87f1-4757-a678-eb95d6c2151d@ClaytonBocce
DTSTART;TZID=America/Los_Angeles:20260918T183000
DTEND;TZID=America/Los_Angeles:20260918T210000
STATUS:CONFIRMED
SUMMARY:BUONO BOCCE vs ROLLING SCONES
URL:/League/Schedule/3100
DESCRIPTION:Regular Season match: BUONO BOCCE vs ROLLING SCO
 NES
LOCATION:Martinez Court 14
END:VEVENT
END:VCALENDAR
