BEGIN:VCALENDAR
VERSION:2.0
PRODID:-//Clayton Bocce League
METHOD:PUBLISH
BEGIN:VTIMEZONE
TZID:America/Los_Angeles
X-LIC-LOCATION:America/Los_Angeles
BEGIN:DAYLIGHT
TZOFFSETFROM:-0800
TZOFFSETTO:-0700
TZNAME:PDT
DTSTART:20070311T020000
RRULE:FREQ=YEARLY;BYMONTH=3;BYDAY=2SU
END:DAYLIGHT
BEGIN:STANDARD
TZOFFSETFROM:-0700
TZOFFSETTO:-0800
TZNAME:PST
DTSTART:20071104T020000
RRULE:FREQ=YEARLY;BYMONTH=11;BYDAY=1SU
END:STANDARD
END:VTIMEZONE
BEGIN:VEVENT
DTSTAMP:20260419T000000Z
UID:250f0efc-a57a-4a4c-81f5-5c5f6343f474@ClaytonBocce
DTSTART;TZID=America/Los_Angeles:20260424T183000
DTEND;TZID=America/Los_Angeles:20260424T210000
STATUS:CONFIRMED
SUMMARY:YAY! BOCCE vs BUONO BOCCE
URL:/League/Schedule/3103
DESCRIPTION:Regular Season match: YAY! BOCCE vs BUONO BOCCE
LOCATION:Martinez Court 11
END:VEVENT
BEGIN:VEVENT
DTSTAMP:20260419T000000Z
UID:2dc2327a-5561-45eb-977e-5315607608cc@ClaytonBocce
DTSTART;TZID=America/Los_Angeles:20260501T183000
DTEND;TZID=America/Los_Angeles:20260501T210000
STATUS:CONFIRMED
SUMMARY:YAY! BOCCE vs BOCCE WEEKENDERS
URL:/League/Schedule/3103
DESCRIPTION:Regular Season match: YAY! BOCCE vs BOCCE WEEKEN
 DERS
LOCATION:Martinez Court 15
END:VEVENT
BEGIN:VEVENT
DTSTAMP:20260419T000000Z
UID:f8bdf756-791c-4690-a429-a0c00aa3e9af@ClaytonBocce
DTSTART;TZID=America/Los_Angeles:20260515T183000
DTEND;TZID=America/Los_Angeles:20260515T210000
STATUS:CONFIRMED
SUMMARY:YAY! BOCCE vs PER AMORE DELLA BOCCE
URL:/League/Schedule/3103
DESCRIPTION:Regular Season match: YAY! BOCCE vs PER AMORE DE
 LLA BOCCE
LOCATION:Martinez Court 8
END:VEVENT
BEGIN:VEVENT
DTSTAMP:20260419T000000Z
UID:7b1154a0-9be3-4e2e-9e21-c59a967c9d16@ClaytonBocce
DTSTART;TZID=America/Los_Angeles:20260522T183000
DTEND;TZID=America/Los_Angeles:20260522T210000
STATUS:CONFIRMED
SUMMARY:YAY! BOCCE vs ROLLING SCONES
URL:/League/Schedule/3103
DESCRIPTION:Regular Season match: YAY! BOCCE vs ROLLING SCON
 ES
LOCATION:Martinez Court 13
END:VEVENT
BEGIN:VEVENT
DTSTAMP:20260419T000000Z
UID:eed6fd7f-83d8-4dff-9a3b-75281ed48ff7@ClaytonBocce
DTSTART;TZID=America/Los_Angeles:20260529T183000
DTEND;TZID=America/Los_Angeles:20260529T210000
STATUS:CONFIRMED
SUMMARY:YAY! BOCCE vs TIRA LA PALLA
URL:/League/Schedule/3103
DESCRIPTION:Regular Season match: YAY! BOCCE vs TIRA LA PALL
 A
LOCATION:Martinez Court 14
END:VEVENT
BEGIN:VEVENT
DTSTAMP:20260419T000000Z
UID:3eaca2bf-966f-4128-ac8c-5b0a34b4433d@ClaytonBocce
DTSTART;TZID=America/Los_Angeles:20260605T183000
DTEND;TZID=America/Los_Angeles:20260605T210000
STATUS:CONFIRMED
SUMMARY:YAY! BOCCE vs JUSKIZIT
URL:/League/Schedule/3103
DESCRIPTION:Regular Season match: YAY! BOCCE vs JUSKIZIT
LOCATION:Martinez Court 5
END:VEVENT
BEGIN:VEVENT
DTSTAMP:20260419T000000Z
UID:7fe15749-7cc9-4546-90dd-76ae7ab3078c@ClaytonBocce
DTSTART;TZID=America/Los_Angeles:20260612T183000
DTEND;TZID=America/Los_Angeles:20260612T210000
STATUS:CONFIRMED
SUMMARY:YAY! BOCCE vs BUONO BOCCE
URL:/League/Schedule/3103
DESCRIPTION:Regular Season match: YAY! BOCCE vs BUONO BOCCE
LOCATION:Martinez Court 12
END:VEVENT
BEGIN:VEVENT
DTSTAMP:20260419T000000Z
UID:e4a4e7c4-9cd7-4c16-be3b-d117a3a77145@ClaytonBocce
DTSTART;TZID=America/Los_Angeles:20260619T183000
DTEND;TZID=America/Los_Angeles:20260619T210000
STATUS:CONFIRMED
SUMMARY:YAY! BOCCE vs BOCCE WEEKENDERS
URL:/League/Schedule/3103
DESCRIPTION:Regular Season match: YAY! BOCCE vs BOCCE WEEKEN
 DERS
LOCATION:Martinez Court 1
END:VEVENT
BEGIN:VEVENT
DTSTAMP:20260419T000000Z
UID:c6102e27-a250-45e2-848f-b7ba5f23b57e@ClaytonBocce
DTSTART;TZID=America/Los_Angeles:20260710T183000
DTEND;TZID=America/Los_Angeles:20260710T210000
STATUS:CONFIRMED
SUMMARY:YAY! BOCCE vs PER AMORE DELLA BOCCE
URL:/League/Schedule/3103
DESCRIPTION:Regular Season match: YAY! BOCCE vs PER AMORE DE
 LLA BOCCE
LOCATION:Martinez Court 1
END:VEVENT
BEGIN:VEVENT
DTSTAMP:20260419T000000Z
UID:d7c3dc9a-6205-46c9-a3f1-c28942dc0c7b@ClaytonBocce
DTSTART;TZID=America/Los_Angeles:20260717T183000
DTEND;TZID=America/Los_Angeles:20260717T210000
STATUS:CONFIRMED
SUMMARY:YAY! BOCCE vs ROLLING SCONES
URL:/League/Schedule/3103
DESCRIPTION:Regular Season match: YAY! BOCCE vs ROLLING SCON
 ES
LOCATION:Martinez Court 3
END:VEVENT
BEGIN:VEVENT
DTSTAMP:20260419T000000Z
UID:b9a2ea53-bdc2-409d-929c-f10be3e1d5b0@ClaytonBocce
DTSTART;TZID=America/Los_Angeles:20260724T183000
DTEND;TZID=America/Los_Angeles:20260724T210000
STATUS:CONFIRMED
SUMMARY:YAY! BOCCE vs TIRA LA PALLA
URL:/League/Schedule/3103
DESCRIPTION:Regular Season match: YAY! BOCCE vs TIRA LA PALL
 A
LOCATION:Martinez Court 6
END:VEVENT
BEGIN:VEVENT
DTSTAMP:20260419T000000Z
UID:21ce8e81-3949-4fa8-ad15-24731717aa61@ClaytonBocce
DTSTART;TZID=America/Los_Angeles:20260731T183000
DTEND;TZID=America/Los_Angeles:20260731T210000
STATUS:CONFIRMED
SUMMARY:YAY! BOCCE vs JUSKIZIT
URL:/League/Schedule/3103
DESCRIPTION:Regular Season match: YAY! BOCCE vs JUSKIZIT
LOCATION:Martinez Court 9
END:VEVENT
BEGIN:VEVENT
DTSTAMP:20260419T000000Z
UID:d73970ee-99ac-4d8d-b625-2167112d3187@ClaytonBocce
DTSTART;TZID=America/Los_Angeles:20260807T183000
DTEND;TZID=America/Los_Angeles:20260807T210000
STATUS:CONFIRMED
SUMMARY:YAY! BOCCE vs BUONO BOCCE
URL:/League/Schedule/3103
DESCRIPTION:Regular Season match: YAY! BOCCE vs BUONO BOCCE
LOCATION:Martinez Court 2
END:VEVENT
BEGIN:VEVENT
DTSTAMP:20260419T000000Z
UID:8a6e0396-d25f-4e5f-827d-69740db11b3f@ClaytonBocce
DTSTART;TZID=America/Los_Angeles:20260814T183000
DTEND;TZID=America/Los_Angeles:20260814T210000
STATUS:CONFIRMED
SUMMARY:YAY! BOCCE vs BOCCE WEEKENDERS
URL:/League/Schedule/3103
DESCRIPTION:Regular Season match: YAY! BOCCE vs BOCCE WEEKEN
 DERS
LOCATION:Martinez Court 4
END:VEVENT
BEGIN:VEVENT
DTSTAMP:20260419T000000Z
UID:0d91ccf8-1a91-4b4b-a244-8da7e96efe99@ClaytonBocce
DTSTART;TZID=America/Los_Angeles:20260828T183000
DTEND;TZID=America/Los_Angeles:20260828T210000
STATUS:CONFIRMED
SUMMARY:YAY! BOCCE vs PER AMORE DELLA BOCCE
URL:/League/Schedule/3103
DESCRIPTION:Regular Season match: YAY! BOCCE vs PER AMORE DE
 LLA BOCCE
LOCATION:Martinez Court 7
END:VEVENT
BEGIN:VEVENT
DTSTAMP:20260419T000000Z
UID:7d9b94c9-a8f9-4d62-bbc2-b28084de0789@ClaytonBocce
DTSTART;TZID=America/Los_Angeles:20260904T183000
DTEND;TZID=America/Los_Angeles:20260904T210000
STATUS:CONFIRMED
SUMMARY:YAY! BOCCE vs ROLLING SCONES
URL:/League/Schedule/3103
DESCRIPTION:Regular Season match: YAY! BOCCE vs ROLLING SCON
 ES
LOCATION:Martinez Court 8
END:VEVENT
BEGIN:VEVENT
DTSTAMP:20260419T000000Z
UID:79ebb845-6814-4016-ba66-b75ac76112a1@ClaytonBocce
DTSTART;TZID=America/Los_Angeles:20260911T183000
DTEND;TZID=America/Los_Angeles:20260911T210000
STATUS:CONFIRMED
SUMMARY:YAY! BOCCE vs TIRA LA PALLA
URL:/League/Schedule/3103
DESCRIPTION:Regular Season match: YAY! BOCCE vs TIRA LA PALL
 A
LOCATION:Martinez Court 15
END:VEVENT
BEGIN:VEVENT
DTSTAMP:20260419T000000Z
UID:f6d6c359-82ac-4f06-a100-33001cf7d4e3@ClaytonBocce
DTSTART;TZID=America/Los_Angeles:20260918T183000
DTEND;TZID=America/Los_Angeles:20260918T210000
STATUS:CONFIRMED
SUMMARY:YAY! BOCCE vs JUSKIZIT
URL:/League/Schedule/3103
DESCRIPTION:Regular Season match: YAY! BOCCE vs JUSKIZIT
LOCATION:Martinez Court 6
END:VEVENT
END:VCALENDAR
