BEGIN:VCALENDAR
VERSION:2.0
PRODID:-//Clayton Bocce League
METHOD:PUBLISH
BEGIN:VTIMEZONE
TZID:America/Los_Angeles
X-LIC-LOCATION:America/Los_Angeles
BEGIN:DAYLIGHT
TZOFFSETFROM:-0800
TZOFFSETTO:-0700
TZNAME:PDT
DTSTART:20070311T020000
RRULE:FREQ=YEARLY;BYMONTH=3;BYDAY=2SU
END:DAYLIGHT
BEGIN:STANDARD
TZOFFSETFROM:-0700
TZOFFSETTO:-0800
TZNAME:PST
DTSTART:20071104T020000
RRULE:FREQ=YEARLY;BYMONTH=11;BYDAY=1SU
END:STANDARD
END:VTIMEZONE
BEGIN:VEVENT
DTSTAMP:20260419T000000Z
UID:6461abe5-74fb-4088-af12-15deae37a09c@ClaytonBocce
DTSTART;TZID=America/Los_Angeles:20260501T183000
DTEND;TZID=America/Los_Angeles:20260501T210000
STATUS:CONFIRMED
SUMMARY:EVERY BOCCE WANG CHUNG TONIGHT vs BALLS "4" HIRE
URL:/League/Schedule/3098
DESCRIPTION:Regular Season match: EVERY BOCCE WANG CHUNG TON
 IGHT vs BALLS "4" HIRE
LOCATION:Martinez Court 14
END:VEVENT
BEGIN:VEVENT
DTSTAMP:20260419T000000Z
UID:ba58e11e-bfb2-4f0b-a089-ab731eeb367a@ClaytonBocce
DTSTART;TZID=America/Los_Angeles:20260508T183000
DTEND;TZID=America/Los_Angeles:20260508T210000
STATUS:CONFIRMED
SUMMARY:EVERY BOCCE WANG CHUNG TONIGHT vs WANT SOME GET SOME
URL:/League/Schedule/3098
DESCRIPTION:Regular Season match: EVERY BOCCE WANG CHUNG TON
 IGHT vs WANT SOME GET SOME
LOCATION:Martinez Court 3
END:VEVENT
BEGIN:VEVENT
DTSTAMP:20260419T000000Z
UID:78aaf34c-5fac-47bd-825b-0a9487702cdd@ClaytonBocce
DTSTART;TZID=America/Los_Angeles:20260515T183000
DTEND;TZID=America/Los_Angeles:20260515T210000
STATUS:CONFIRMED
SUMMARY:EVERY BOCCE WANG CHUNG TONIGHT vs LA DOLCE VITA
URL:/League/Schedule/3098
DESCRIPTION:Regular Season match: EVERY BOCCE WANG CHUNG TON
 IGHT vs LA DOLCE VITA
LOCATION:Martinez Court 12
END:VEVENT
BEGIN:VEVENT
DTSTAMP:20260419T000000Z
UID:f1bc73a1-8ce3-49ae-99cf-99dc6a2022bf@ClaytonBocce
DTSTART;TZID=America/Los_Angeles:20260522T183000
DTEND;TZID=America/Los_Angeles:20260522T210000
STATUS:CONFIRMED
SUMMARY:EVERY BOCCE WANG CHUNG TONIGHT vs UNTOUCHABALLS
URL:/League/Schedule/3098
DESCRIPTION:Regular Season match: EVERY BOCCE WANG CHUNG TON
 IGHT vs UNTOUCHABALLS
LOCATION:Martinez Court 11
END:VEVENT
BEGIN:VEVENT
DTSTAMP:20260419T000000Z
UID:780589ae-e298-4e22-a463-93a3d45149c4@ClaytonBocce
DTSTART;TZID=America/Los_Angeles:20260529T183000
DTEND;TZID=America/Los_Angeles:20260529T210000
STATUS:CONFIRMED
SUMMARY:EVERY BOCCE WANG CHUNG TONIGHT vs BOCCE BUMS
URL:/League/Schedule/3098
DESCRIPTION:Regular Season match: EVERY BOCCE WANG CHUNG TON
 IGHT vs BOCCE BUMS
LOCATION:Martinez Court 10
END:VEVENT
BEGIN:VEVENT
DTSTAMP:20260419T000000Z
UID:5c6f63c1-07e6-4d6c-93c0-99ad163529a7@ClaytonBocce
DTSTART;TZID=America/Los_Angeles:20260605T183000
DTEND;TZID=America/Los_Angeles:20260605T210000
STATUS:CONFIRMED
SUMMARY:EVERY BOCCE WANG CHUNG TONIGHT vs SCUSI
URL:/League/Schedule/3098
DESCRIPTION:Regular Season match: EVERY BOCCE WANG CHUNG TON
 IGHT vs SCUSI
LOCATION:Martinez Court 2
END:VEVENT
BEGIN:VEVENT
DTSTAMP:20260419T000000Z
UID:8f11f9bb-c003-44be-8500-3b36fe961fbb@ClaytonBocce
DTSTART;TZID=America/Los_Angeles:20260619T183000
DTEND;TZID=America/Los_Angeles:20260619T210000
STATUS:CONFIRMED
SUMMARY:EVERY BOCCE WANG CHUNG TONIGHT vs BALLS "4" HIRE
URL:/League/Schedule/3098
DESCRIPTION:Regular Season match: EVERY BOCCE WANG CHUNG TON
 IGHT vs BALLS "4" HIRE
LOCATION:Martinez Court 15
END:VEVENT
BEGIN:VEVENT
DTSTAMP:20260419T000000Z
UID:686de49f-a292-4d20-a9ef-f173e1503d1d@ClaytonBocce
DTSTART;TZID=America/Los_Angeles:20260626T183000
DTEND;TZID=America/Los_Angeles:20260626T210000
STATUS:CONFIRMED
SUMMARY:EVERY BOCCE WANG CHUNG TONIGHT vs WANT SOME GET SOME
URL:/League/Schedule/3098
DESCRIPTION:Regular Season match: EVERY BOCCE WANG CHUNG TON
 IGHT vs WANT SOME GET SOME
LOCATION:Martinez Court 5
END:VEVENT
BEGIN:VEVENT
DTSTAMP:20260419T000000Z
UID:4af49bfc-3bca-4208-97ba-01775edc5182@ClaytonBocce
DTSTART;TZID=America/Los_Angeles:20260710T183000
DTEND;TZID=America/Los_Angeles:20260710T210000
STATUS:CONFIRMED
SUMMARY:EVERY BOCCE WANG CHUNG TONIGHT vs LA DOLCE VITA
URL:/League/Schedule/3098
DESCRIPTION:Regular Season match: EVERY BOCCE WANG CHUNG TON
 IGHT vs LA DOLCE VITA
LOCATION:Martinez Court 3
END:VEVENT
BEGIN:VEVENT
DTSTAMP:20260419T000000Z
UID:afcf6016-a52a-4ff0-be6b-54ee7cf2da03@ClaytonBocce
DTSTART;TZID=America/Los_Angeles:20260717T183000
DTEND;TZID=America/Los_Angeles:20260717T210000
STATUS:CONFIRMED
SUMMARY:EVERY BOCCE WANG CHUNG TONIGHT vs UNTOUCHABALLS
URL:/League/Schedule/3098
DESCRIPTION:Regular Season match: EVERY BOCCE WANG CHUNG TON
 IGHT vs UNTOUCHABALLS
LOCATION:Martinez Court 15
END:VEVENT
BEGIN:VEVENT
DTSTAMP:20260419T000000Z
UID:24665eda-f290-4537-b273-99e06ca23334@ClaytonBocce
DTSTART;TZID=America/Los_Angeles:20260724T183000
DTEND;TZID=America/Los_Angeles:20260724T210000
STATUS:CONFIRMED
SUMMARY:EVERY BOCCE WANG CHUNG TONIGHT vs BOCCE BUMS
URL:/League/Schedule/3098
DESCRIPTION:Regular Season match: EVERY BOCCE WANG CHUNG TON
 IGHT vs BOCCE BUMS
LOCATION:Martinez Court 13
END:VEVENT
BEGIN:VEVENT
DTSTAMP:20260419T000000Z
UID:10db7e13-f65b-4763-be8f-aea2fbaf5b50@ClaytonBocce
DTSTART;TZID=America/Los_Angeles:20260731T183000
DTEND;TZID=America/Los_Angeles:20260731T210000
STATUS:CONFIRMED
SUMMARY:EVERY BOCCE WANG CHUNG TONIGHT vs SCUSI
URL:/League/Schedule/3098
DESCRIPTION:Regular Season match: EVERY BOCCE WANG CHUNG TON
 IGHT vs SCUSI
LOCATION:Martinez Court 8
END:VEVENT
BEGIN:VEVENT
DTSTAMP:20260419T000000Z
UID:537fb9f7-3668-411a-ab64-602f59984710@ClaytonBocce
DTSTART;TZID=America/Los_Angeles:20260814T183000
DTEND;TZID=America/Los_Angeles:20260814T210000
STATUS:CONFIRMED
SUMMARY:EVERY BOCCE WANG CHUNG TONIGHT vs BALLS "4" HIRE
URL:/League/Schedule/3098
DESCRIPTION:Regular Season match: EVERY BOCCE WANG CHUNG TON
 IGHT vs BALLS "4" HIRE
LOCATION:Martinez Court 9
END:VEVENT
BEGIN:VEVENT
DTSTAMP:20260419T000000Z
UID:02a7050a-2135-49ed-b299-dd2695775ada@ClaytonBocce
DTSTART;TZID=America/Los_Angeles:20260821T183000
DTEND;TZID=America/Los_Angeles:20260821T210000
STATUS:CONFIRMED
SUMMARY:EVERY BOCCE WANG CHUNG TONIGHT vs WANT SOME GET SOME
URL:/League/Schedule/3098
DESCRIPTION:Regular Season match: EVERY BOCCE WANG CHUNG TON
 IGHT vs WANT SOME GET SOME
LOCATION:Martinez Court 12
END:VEVENT
BEGIN:VEVENT
DTSTAMP:20260419T000000Z
UID:06c2a4c5-1e42-41fa-9157-68c1613c0cc5@ClaytonBocce
DTSTART;TZID=America/Los_Angeles:20260828T183000
DTEND;TZID=America/Los_Angeles:20260828T210000
STATUS:CONFIRMED
SUMMARY:EVERY BOCCE WANG CHUNG TONIGHT vs LA DOLCE VITA
URL:/League/Schedule/3098
DESCRIPTION:Regular Season match: EVERY BOCCE WANG CHUNG TON
 IGHT vs LA DOLCE VITA
LOCATION:Martinez Court 11
END:VEVENT
BEGIN:VEVENT
DTSTAMP:20260419T000000Z
UID:6eda8cfa-5f76-434b-badc-c22ba97a6ec5@ClaytonBocce
DTSTART;TZID=America/Los_Angeles:20260904T183000
DTEND;TZID=America/Los_Angeles:20260904T210000
STATUS:CONFIRMED
SUMMARY:EVERY BOCCE WANG CHUNG TONIGHT vs UNTOUCHABALLS
URL:/League/Schedule/3098
DESCRIPTION:Regular Season match: EVERY BOCCE WANG CHUNG TON
 IGHT vs UNTOUCHABALLS
LOCATION:Martinez Court 5
END:VEVENT
BEGIN:VEVENT
DTSTAMP:20260419T000000Z
UID:fd042603-ad7d-457d-a54b-1e3924ca4bca@ClaytonBocce
DTSTART;TZID=America/Los_Angeles:20260911T183000
DTEND;TZID=America/Los_Angeles:20260911T210000
STATUS:CONFIRMED
SUMMARY:EVERY BOCCE WANG CHUNG TONIGHT vs BOCCE BUMS
URL:/League/Schedule/3098
DESCRIPTION:Regular Season match: EVERY BOCCE WANG CHUNG TON
 IGHT vs BOCCE BUMS
LOCATION:Martinez Court 1
END:VEVENT
BEGIN:VEVENT
DTSTAMP:20260419T000000Z
UID:6d91e6b6-46b5-4ad8-9fb0-ba6b0393f6ca@ClaytonBocce
DTSTART;TZID=America/Los_Angeles:20260918T183000
DTEND;TZID=America/Los_Angeles:20260918T210000
STATUS:CONFIRMED
SUMMARY:EVERY BOCCE WANG CHUNG TONIGHT vs SCUSI
URL:/League/Schedule/3098
DESCRIPTION:Regular Season match: EVERY BOCCE WANG CHUNG TON
 IGHT vs SCUSI
LOCATION:Martinez Court 7
END:VEVENT
END:VCALENDAR
