BEGIN:VCALENDAR
VERSION:2.0
PRODID:-//Clayton Bocce League
METHOD:PUBLISH
BEGIN:VTIMEZONE
TZID:America/Los_Angeles
X-LIC-LOCATION:America/Los_Angeles
BEGIN:DAYLIGHT
TZOFFSETFROM:-0800
TZOFFSETTO:-0700
TZNAME:PDT
DTSTART:20070311T020000
RRULE:FREQ=YEARLY;BYMONTH=3;BYDAY=2SU
END:DAYLIGHT
BEGIN:STANDARD
TZOFFSETFROM:-0700
TZOFFSETTO:-0800
TZNAME:PST
DTSTART:20071104T020000
RRULE:FREQ=YEARLY;BYMONTH=11;BYDAY=1SU
END:STANDARD
END:VTIMEZONE
BEGIN:VEVENT
DTSTAMP:20260419T000000Z
UID:671c2cac-28df-4627-b0f6-50de381fa418@ClaytonBocce
DTSTART;TZID=America/Los_Angeles:20260424T183000
DTEND;TZID=America/Los_Angeles:20260424T210000
STATUS:CONFIRMED
SUMMARY:LA DOLCE VITA vs SCUSI
URL:/League/Schedule/3093
DESCRIPTION:Regular Season match: LA DOLCE VITA vs SCUSI
LOCATION:Martinez Court 8
END:VEVENT
BEGIN:VEVENT
DTSTAMP:20260419T000000Z
UID:2800e3bf-f316-4e00-a80d-6b45d35165e4@ClaytonBocce
DTSTART;TZID=America/Los_Angeles:20260501T183000
DTEND;TZID=America/Los_Angeles:20260501T210000
STATUS:CONFIRMED
SUMMARY:LA DOLCE VITA vs WANT SOME GET SOME
URL:/League/Schedule/3093
DESCRIPTION:Regular Season match: LA DOLCE VITA vs WANT SOME
  GET SOME
LOCATION:Martinez Court 13
END:VEVENT
BEGIN:VEVENT
DTSTAMP:20260419T000000Z
UID:e2513002-6c10-4dda-9550-7c95e258ae31@ClaytonBocce
DTSTART;TZID=America/Los_Angeles:20260508T183000
DTEND;TZID=America/Los_Angeles:20260508T210000
STATUS:CONFIRMED
SUMMARY:LA DOLCE VITA vs UNTOUCHABALLS
URL:/League/Schedule/3093
DESCRIPTION:Regular Season match: LA DOLCE VITA vs UNTOUCHAB
 ALLS
LOCATION:Martinez Court 4
END:VEVENT
BEGIN:VEVENT
DTSTAMP:20260419T000000Z
UID:78aaf34c-5fac-47bd-825b-0a9487702cdd@ClaytonBocce
DTSTART;TZID=America/Los_Angeles:20260515T183000
DTEND;TZID=America/Los_Angeles:20260515T210000
STATUS:CONFIRMED
SUMMARY:LA DOLCE VITA vs EVERY BOCCE WANG CHUNG TONIGHT
URL:/League/Schedule/3093
DESCRIPTION:Regular Season match: LA DOLCE VITA vs EVERY BOC
 CE WANG CHUNG TONIGHT
LOCATION:Martinez Court 12
END:VEVENT
BEGIN:VEVENT
DTSTAMP:20260419T000000Z
UID:6589844f-932e-4afd-81d7-7b9336c8c89d@ClaytonBocce
DTSTART;TZID=America/Los_Angeles:20260522T183000
DTEND;TZID=America/Los_Angeles:20260522T210000
STATUS:CONFIRMED
SUMMARY:LA DOLCE VITA vs BOCCE BUMS
URL:/League/Schedule/3093
DESCRIPTION:Regular Season match: LA DOLCE VITA vs BOCCE BUM
 S
LOCATION:Martinez Court 9
END:VEVENT
BEGIN:VEVENT
DTSTAMP:20260419T000000Z
UID:627dd0e0-f845-4a45-a99a-7f53f907fc56@ClaytonBocce
DTSTART;TZID=America/Los_Angeles:20260605T183000
DTEND;TZID=America/Los_Angeles:20260605T210000
STATUS:CONFIRMED
SUMMARY:LA DOLCE VITA vs BALLS "4" HIRE
URL:/League/Schedule/3093
DESCRIPTION:Regular Season match: LA DOLCE VITA vs BALLS "4"
  HIRE
LOCATION:Martinez Court 1
END:VEVENT
BEGIN:VEVENT
DTSTAMP:20260419T000000Z
UID:0df1b1ff-841b-486d-9460-becf3e8265d9@ClaytonBocce
DTSTART;TZID=America/Los_Angeles:20260612T183000
DTEND;TZID=America/Los_Angeles:20260612T210000
STATUS:CONFIRMED
SUMMARY:LA DOLCE VITA vs SCUSI
URL:/League/Schedule/3093
DESCRIPTION:Regular Season match: LA DOLCE VITA vs SCUSI
LOCATION:Martinez Court 7
END:VEVENT
BEGIN:VEVENT
DTSTAMP:20260419T000000Z
UID:7c7e3e59-74c0-4567-9ade-75226734b52f@ClaytonBocce
DTSTART;TZID=America/Los_Angeles:20260619T183000
DTEND;TZID=America/Los_Angeles:20260619T210000
STATUS:CONFIRMED
SUMMARY:LA DOLCE VITA vs WANT SOME GET SOME
URL:/League/Schedule/3093
DESCRIPTION:Regular Season match: LA DOLCE VITA vs WANT SOME
  GET SOME
LOCATION:Martinez Court 2
END:VEVENT
BEGIN:VEVENT
DTSTAMP:20260419T000000Z
UID:47ddc1d8-a049-4079-bc9e-fe7b2a122f75@ClaytonBocce
DTSTART;TZID=America/Los_Angeles:20260626T183000
DTEND;TZID=America/Los_Angeles:20260626T210000
STATUS:CONFIRMED
SUMMARY:LA DOLCE VITA vs UNTOUCHABALLS
URL:/League/Schedule/3093
DESCRIPTION:Regular Season match: LA DOLCE VITA vs UNTOUCHAB
 ALLS
LOCATION:Martinez Court 6
END:VEVENT
BEGIN:VEVENT
DTSTAMP:20260419T000000Z
UID:4af49bfc-3bca-4208-97ba-01775edc5182@ClaytonBocce
DTSTART;TZID=America/Los_Angeles:20260710T183000
DTEND;TZID=America/Los_Angeles:20260710T210000
STATUS:CONFIRMED
SUMMARY:LA DOLCE VITA vs EVERY BOCCE WANG CHUNG TONIGHT
URL:/League/Schedule/3093
DESCRIPTION:Regular Season match: LA DOLCE VITA vs EVERY BOC
 CE WANG CHUNG TONIGHT
LOCATION:Martinez Court 3
END:VEVENT
BEGIN:VEVENT
DTSTAMP:20260419T000000Z
UID:fe7f5b7d-c89f-47ea-b1f9-4f1fe91ad00e@ClaytonBocce
DTSTART;TZID=America/Los_Angeles:20260717T183000
DTEND;TZID=America/Los_Angeles:20260717T210000
STATUS:CONFIRMED
SUMMARY:LA DOLCE VITA vs BOCCE BUMS
URL:/League/Schedule/3093
DESCRIPTION:Regular Season match: LA DOLCE VITA vs BOCCE BUM
 S
LOCATION:Martinez Court 11
END:VEVENT
BEGIN:VEVENT
DTSTAMP:20260419T000000Z
UID:3115d36f-a9bc-4f55-ba6d-68720d6d3a71@ClaytonBocce
DTSTART;TZID=America/Los_Angeles:20260731T183000
DTEND;TZID=America/Los_Angeles:20260731T210000
STATUS:CONFIRMED
SUMMARY:LA DOLCE VITA vs BALLS "4" HIRE
URL:/League/Schedule/3093
DESCRIPTION:Regular Season match: LA DOLCE VITA vs BALLS "4"
  HIRE
LOCATION:Martinez Court 14
END:VEVENT
BEGIN:VEVENT
DTSTAMP:20260419T000000Z
UID:092856b6-5772-434e-a6f0-0667a256434c@ClaytonBocce
DTSTART;TZID=America/Los_Angeles:20260807T183000
DTEND;TZID=America/Los_Angeles:20260807T210000
STATUS:CONFIRMED
SUMMARY:LA DOLCE VITA vs SCUSI
URL:/League/Schedule/3093
DESCRIPTION:Regular Season match: LA DOLCE VITA vs SCUSI
LOCATION:Martinez Court 15
END:VEVENT
BEGIN:VEVENT
DTSTAMP:20260419T000000Z
UID:0c9c61cf-291a-4474-919e-2a1f295d50bb@ClaytonBocce
DTSTART;TZID=America/Los_Angeles:20260814T183000
DTEND;TZID=America/Los_Angeles:20260814T210000
STATUS:CONFIRMED
SUMMARY:LA DOLCE VITA vs WANT SOME GET SOME
URL:/League/Schedule/3093
DESCRIPTION:Regular Season match: LA DOLCE VITA vs WANT SOME
  GET SOME
LOCATION:Martinez Court 7
END:VEVENT
BEGIN:VEVENT
DTSTAMP:20260419T000000Z
UID:bfd81135-8825-4cfb-ade0-a91d56469917@ClaytonBocce
DTSTART;TZID=America/Los_Angeles:20260821T183000
DTEND;TZID=America/Los_Angeles:20260821T210000
STATUS:CONFIRMED
SUMMARY:LA DOLCE VITA vs UNTOUCHABALLS
URL:/League/Schedule/3093
DESCRIPTION:Regular Season match: LA DOLCE VITA vs UNTOUCHAB
 ALLS
LOCATION:Martinez Court 10
END:VEVENT
BEGIN:VEVENT
DTSTAMP:20260419T000000Z
UID:06c2a4c5-1e42-41fa-9157-68c1613c0cc5@ClaytonBocce
DTSTART;TZID=America/Los_Angeles:20260828T183000
DTEND;TZID=America/Los_Angeles:20260828T210000
STATUS:CONFIRMED
SUMMARY:LA DOLCE VITA vs EVERY BOCCE WANG CHUNG TONIGHT
URL:/League/Schedule/3093
DESCRIPTION:Regular Season match: LA DOLCE VITA vs EVERY BOC
 CE WANG CHUNG TONIGHT
LOCATION:Martinez Court 11
END:VEVENT
BEGIN:VEVENT
DTSTAMP:20260419T000000Z
UID:9d8556c8-2262-44fd-b0a0-6ef9f5970098@ClaytonBocce
DTSTART;TZID=America/Los_Angeles:20260904T183000
DTEND;TZID=America/Los_Angeles:20260904T210000
STATUS:CONFIRMED
SUMMARY:LA DOLCE VITA vs BOCCE BUMS
URL:/League/Schedule/3093
DESCRIPTION:Regular Season match: LA DOLCE VITA vs BOCCE BUM
 S
LOCATION:Martinez Court 6
END:VEVENT
BEGIN:VEVENT
DTSTAMP:20260419T000000Z
UID:330c545c-ef3b-4801-b36e-0688ba616721@ClaytonBocce
DTSTART;TZID=America/Los_Angeles:20260918T183000
DTEND;TZID=America/Los_Angeles:20260918T210000
STATUS:CONFIRMED
SUMMARY:LA DOLCE VITA vs BALLS "4" HIRE
URL:/League/Schedule/3093
DESCRIPTION:Regular Season match: LA DOLCE VITA vs BALLS "4"
  HIRE
LOCATION:Martinez Court 5
END:VEVENT
END:VCALENDAR
