BEGIN:VCALENDAR
VERSION:2.0
PRODID:-//Clayton Bocce League
METHOD:PUBLISH
BEGIN:VTIMEZONE
TZID:America/Los_Angeles
X-LIC-LOCATION:America/Los_Angeles
BEGIN:DAYLIGHT
TZOFFSETFROM:-0800
TZOFFSETTO:-0700
TZNAME:PDT
DTSTART:20070311T020000
RRULE:FREQ=YEARLY;BYMONTH=3;BYDAY=2SU
END:DAYLIGHT
BEGIN:STANDARD
TZOFFSETFROM:-0700
TZOFFSETTO:-0800
TZNAME:PST
DTSTART:20071104T020000
RRULE:FREQ=YEARLY;BYMONTH=11;BYDAY=1SU
END:STANDARD
END:VTIMEZONE
BEGIN:VEVENT
DTSTAMP:20260419T000000Z
UID:671c2cac-28df-4627-b0f6-50de381fa418@ClaytonBocce
DTSTART;TZID=America/Los_Angeles:20260424T183000
DTEND;TZID=America/Los_Angeles:20260424T210000
STATUS:CONFIRMED
SUMMARY:SCUSI vs LA DOLCE VITA
URL:/League/Schedule/3096
DESCRIPTION:Regular Season match: SCUSI vs LA DOLCE VITA
LOCATION:Martinez Court 8
END:VEVENT
BEGIN:VEVENT
DTSTAMP:20260419T000000Z
UID:d64b2a4f-429d-4786-9560-31d803602c84@ClaytonBocce
DTSTART;TZID=America/Los_Angeles:20260501T183000
DTEND;TZID=America/Los_Angeles:20260501T210000
STATUS:CONFIRMED
SUMMARY:SCUSI vs BOCCE BUMS
URL:/League/Schedule/3096
DESCRIPTION:Regular Season match: SCUSI vs BOCCE BUMS
LOCATION:Martinez Court 12
END:VEVENT
BEGIN:VEVENT
DTSTAMP:20260419T000000Z
UID:a2f55215-a7bb-4164-9947-0aa9621a1470@ClaytonBocce
DTSTART;TZID=America/Los_Angeles:20260515T183000
DTEND;TZID=America/Los_Angeles:20260515T210000
STATUS:CONFIRMED
SUMMARY:SCUSI vs UNTOUCHABALLS
URL:/League/Schedule/3096
DESCRIPTION:Regular Season match: SCUSI vs UNTOUCHABALLS
LOCATION:Martinez Court 5
END:VEVENT
BEGIN:VEVENT
DTSTAMP:20260419T000000Z
UID:d243bbe5-a709-40ac-92c3-d2d0f104ee2e@ClaytonBocce
DTSTART;TZID=America/Los_Angeles:20260522T183000
DTEND;TZID=America/Los_Angeles:20260522T210000
STATUS:CONFIRMED
SUMMARY:SCUSI vs BALLS "4" HIRE
URL:/League/Schedule/3096
DESCRIPTION:Regular Season match: SCUSI vs BALLS "4" HIRE
LOCATION:Martinez Court 10
END:VEVENT
BEGIN:VEVENT
DTSTAMP:20260419T000000Z
UID:63067b25-9068-4f93-804a-225d946b9759@ClaytonBocce
DTSTART;TZID=America/Los_Angeles:20260529T183000
DTEND;TZID=America/Los_Angeles:20260529T210000
STATUS:CONFIRMED
SUMMARY:SCUSI vs WANT SOME GET SOME
URL:/League/Schedule/3096
DESCRIPTION:Regular Season match: SCUSI vs WANT SOME GET SOM
 E
LOCATION:Martinez Court 11
END:VEVENT
BEGIN:VEVENT
DTSTAMP:20260419T000000Z
UID:5c6f63c1-07e6-4d6c-93c0-99ad163529a7@ClaytonBocce
DTSTART;TZID=America/Los_Angeles:20260605T183000
DTEND;TZID=America/Los_Angeles:20260605T210000
STATUS:CONFIRMED
SUMMARY:SCUSI vs EVERY BOCCE WANG CHUNG TONIGHT
URL:/League/Schedule/3096
DESCRIPTION:Regular Season match: SCUSI vs EVERY BOCCE WANG 
 CHUNG TONIGHT
LOCATION:Martinez Court 2
END:VEVENT
BEGIN:VEVENT
DTSTAMP:20260419T000000Z
UID:0df1b1ff-841b-486d-9460-becf3e8265d9@ClaytonBocce
DTSTART;TZID=America/Los_Angeles:20260612T183000
DTEND;TZID=America/Los_Angeles:20260612T210000
STATUS:CONFIRMED
SUMMARY:SCUSI vs LA DOLCE VITA
URL:/League/Schedule/3096
DESCRIPTION:Regular Season match: SCUSI vs LA DOLCE VITA
LOCATION:Martinez Court 7
END:VEVENT
BEGIN:VEVENT
DTSTAMP:20260419T000000Z
UID:d8142082-c6d2-4ef3-b8ab-8bdbdbf8dc2f@ClaytonBocce
DTSTART;TZID=America/Los_Angeles:20260619T183000
DTEND;TZID=America/Los_Angeles:20260619T210000
STATUS:CONFIRMED
SUMMARY:SCUSI vs BOCCE BUMS
URL:/League/Schedule/3096
DESCRIPTION:Regular Season match: SCUSI vs BOCCE BUMS
LOCATION:Martinez Court 5
END:VEVENT
BEGIN:VEVENT
DTSTAMP:20260419T000000Z
UID:6f9b1ff7-59c9-4602-a2e5-4bdd729884e3@ClaytonBocce
DTSTART;TZID=America/Los_Angeles:20260710T183000
DTEND;TZID=America/Los_Angeles:20260710T210000
STATUS:CONFIRMED
SUMMARY:SCUSI vs UNTOUCHABALLS
URL:/League/Schedule/3096
DESCRIPTION:Regular Season match: SCUSI vs UNTOUCHABALLS
LOCATION:Martinez Court 13
END:VEVENT
BEGIN:VEVENT
DTSTAMP:20260419T000000Z
UID:6227d988-f223-4273-89c0-60adb2eb7581@ClaytonBocce
DTSTART;TZID=America/Los_Angeles:20260717T183000
DTEND;TZID=America/Los_Angeles:20260717T210000
STATUS:CONFIRMED
SUMMARY:SCUSI vs BALLS "4" HIRE
URL:/League/Schedule/3096
DESCRIPTION:Regular Season match: SCUSI vs BALLS "4" HIRE
LOCATION:Martinez Court 1
END:VEVENT
BEGIN:VEVENT
DTSTAMP:20260419T000000Z
UID:08b02270-3cb7-409e-a7c0-1c6e63956958@ClaytonBocce
DTSTART;TZID=America/Los_Angeles:20260724T183000
DTEND;TZID=America/Los_Angeles:20260724T210000
STATUS:CONFIRMED
SUMMARY:SCUSI vs WANT SOME GET SOME
URL:/League/Schedule/3096
DESCRIPTION:Regular Season match: SCUSI vs WANT SOME GET SOM
 E
LOCATION:Martinez Court 2
END:VEVENT
BEGIN:VEVENT
DTSTAMP:20260419T000000Z
UID:10db7e13-f65b-4763-be8f-aea2fbaf5b50@ClaytonBocce
DTSTART;TZID=America/Los_Angeles:20260731T183000
DTEND;TZID=America/Los_Angeles:20260731T210000
STATUS:CONFIRMED
SUMMARY:SCUSI vs EVERY BOCCE WANG CHUNG TONIGHT
URL:/League/Schedule/3096
DESCRIPTION:Regular Season match: SCUSI vs EVERY BOCCE WANG 
 CHUNG TONIGHT
LOCATION:Martinez Court 8
END:VEVENT
BEGIN:VEVENT
DTSTAMP:20260419T000000Z
UID:092856b6-5772-434e-a6f0-0667a256434c@ClaytonBocce
DTSTART;TZID=America/Los_Angeles:20260807T183000
DTEND;TZID=America/Los_Angeles:20260807T210000
STATUS:CONFIRMED
SUMMARY:SCUSI vs LA DOLCE VITA
URL:/League/Schedule/3096
DESCRIPTION:Regular Season match: SCUSI vs LA DOLCE VITA
LOCATION:Martinez Court 15
END:VEVENT
BEGIN:VEVENT
DTSTAMP:20260419T000000Z
UID:5524f538-990d-4c37-b852-b9fe46a1bcd7@ClaytonBocce
DTSTART;TZID=America/Los_Angeles:20260814T183000
DTEND;TZID=America/Los_Angeles:20260814T210000
STATUS:CONFIRMED
SUMMARY:SCUSI vs BOCCE BUMS
URL:/League/Schedule/3096
DESCRIPTION:Regular Season match: SCUSI vs BOCCE BUMS
LOCATION:Martinez Court 12
END:VEVENT
BEGIN:VEVENT
DTSTAMP:20260419T000000Z
UID:c670eee1-056a-4e8c-ab4d-22c224983fe1@ClaytonBocce
DTSTART;TZID=America/Los_Angeles:20260828T183000
DTEND;TZID=America/Los_Angeles:20260828T210000
STATUS:CONFIRMED
SUMMARY:SCUSI vs UNTOUCHABALLS
URL:/League/Schedule/3096
DESCRIPTION:Regular Season match: SCUSI vs UNTOUCHABALLS
LOCATION:Martinez Court 9
END:VEVENT
BEGIN:VEVENT
DTSTAMP:20260419T000000Z
UID:424876c2-f97d-4538-a07d-784b2baf2e88@ClaytonBocce
DTSTART;TZID=America/Los_Angeles:20260904T183000
DTEND;TZID=America/Los_Angeles:20260904T210000
STATUS:CONFIRMED
SUMMARY:SCUSI vs BALLS "4" HIRE
URL:/League/Schedule/3096
DESCRIPTION:Regular Season match: SCUSI vs BALLS "4" HIRE
LOCATION:Martinez Court 3
END:VEVENT
BEGIN:VEVENT
DTSTAMP:20260419T000000Z
UID:5d164596-0bef-4cf9-86d9-f8c9d7ab6bb6@ClaytonBocce
DTSTART;TZID=America/Los_Angeles:20260911T183000
DTEND;TZID=America/Los_Angeles:20260911T210000
STATUS:CONFIRMED
SUMMARY:SCUSI vs WANT SOME GET SOME
URL:/League/Schedule/3096
DESCRIPTION:Regular Season match: SCUSI vs WANT SOME GET SOM
 E
LOCATION:Martinez Court 10
END:VEVENT
BEGIN:VEVENT
DTSTAMP:20260419T000000Z
UID:6d91e6b6-46b5-4ad8-9fb0-ba6b0393f6ca@ClaytonBocce
DTSTART;TZID=America/Los_Angeles:20260918T183000
DTEND;TZID=America/Los_Angeles:20260918T210000
STATUS:CONFIRMED
SUMMARY:SCUSI vs EVERY BOCCE WANG CHUNG TONIGHT
URL:/League/Schedule/3096
DESCRIPTION:Regular Season match: SCUSI vs EVERY BOCCE WANG 
 CHUNG TONIGHT
LOCATION:Martinez Court 7
END:VEVENT
END:VCALENDAR
